{"text_format":"1","workbook":"xlsx","n_sheets":5,"sheets":["Рис. 1","Рис. 4 и 5","Рис. 6-8","Рис. 13 и 14","Рис. 15 и 16"],"not_rendered":{"charts":1,"images":0,"macros":1,"external_links":0,"defined_names":1,"comments":0,"pivot_tables":0},"unopened":[],"bounds":{"document_bytes":16777216,"sheet_cells":100000,"rows_first":2000,"rows_last":500,"rows_between":2000,"halvings":0,"cell_chars":16384,"cell_head_chars":4096},"cells_cut":0,"cells_raw":0,"read":"whole","date_system":"1900"}

{"sheet":"Рис. 1","index":0,"n_rows":1003,"n_cols":21,"rows_kept":1003,"cut":false,"hidden":false,"merged":[]}
["Male","Female","Home","Apt","Pregnancy Test","Birth Control","Feminine Hygiene","Folic Acid","Prenatal Vitamins","Prenatal Yoga","Body Pillow","Ginger Ale","Sea Bands","Stopped buying ciggies","Cigarettes","Smoking Cessation","Stopped buying wine","Wine","Maternity Clothes",null,"PREGNANT"]
[0,1,2,3,4,5,6,7,8,9,10,11,12,13,14,15,16,17,18]
[1,0,0,1,1,0,0,0,1,0,0,0,0,0,0,0,0,0,0,null,1]
[1,0,1,0,1,0,0,0,1,0,0,0,0,0,0,0,0,0,0,null,1]
[1,0,1,0,1,0,0,0,0,0,0,0,1,0,0,0,0,0,0,null,1]
[0,0,1,0,0,0,0,0,0,0,0,1,0,0,0,0,0,0,0,null,1]
[0,1,0,1,0,0,0,0,0,1,0,0,0,0,0,0,1,0,0,null,1]
[0,1,1,0,0,0,0,0,1,0,0,0,0,1,0,0,0,0,0,null,1]
[1,0,1,0,0,1,0,1,1,0,0,0,0,0,0,0,0,0,0,null,1]
[0,1,1,0,0,0,0,0,0,0,0,0,0,0,0,0,0,0,1,null,1]
[0,1,1,0,0,0,0,0,0,0,0,1,0,0,0,0,0,0,0,null,1]
[0,1,1,0,0,0,0,0,1,0,0,0,0,0,0,0,0,0,1,null,1]
[0,1,1,0,0,0,0,0,0,0,0,0,0,0,0,0,1,0,0,null,1]
[0,1,0,1,0,0,0,0,0,0,0,0,0,0,1,0,1,0,0,null,1]
[0,1,1,0,0,0,0,0,0,0,0,0,0,1,0,1,1,0,0,null,1]
[0,0,0,1,0,0,0,1,0,0,0,0,0,0,0,1,0,0,0,null,1]
[1,0,0,1,0,0,0,0,1,0,0,0,1,1,0,0,1,0,1,null,1]
[1,0,1,0,0,0,0,1,0,0,0,0,0,0,0,0,1,0,0,null,1]
[1,0,0,0,0,0,0,0,0,0,0,0,0,1,0,0,0,0,0,null,1]
[0,1,1,0,0,0,0,0,0,0,0,1,0,1,0,0,0,0,0,null,1]
[1,0,0,1,0,0,0,0,0,0,0,0,0,1,0,0,0,0,0,null,1]
[0,1,1,0,1,1,0,0,1,0,0,0,0,0,0,1,0,0,1,null,1]
[1,0,0,1,0,0,1,0,0,0,0,0,0,0,0,0,0,0,0,null,1]
[0,1,1,0,0,0,1,0,1,0,0,0,0,0,0,0,1,0,0,null,1]
[0,1,0,0,0,1,0,0,0,0,0,0,0,0,1,0,0,0,0,null,1]
[0,1,1,0,0,0,0,0,0,0,0,0,0,0,0,0,0,0,0,null,1]
[1,0,0,1,0,0,0,1,1,0,0,1,0,0,0,0,0,0,1,null,1]
[0,1,0,1,0,0,0,1,0,1,0,0,0,0,0,0,0,0,1,null,1]
[0,1,1,0,0,1,0,0,0,0,0,0,0,0,0,0,1,0,0,null,1]
[1,0,1,0,0,0,1,1,0,0,1,0,0,0,0,0,0,0,1,null,1]
[1,0,0,1,0,0,0,1,0,0,0,0,0,0,0,0,1,0,0,null,1]
[0,1,0,1,0,0,0,0,0,0,0,0,0,0,0,0,0,0,0,null,1]
[0,1,0,1,1,0,0,0,0,0,0,0,0,0,0,1,0,0,0,null,1]
[0,1,0,1,0,0,0,1,0,0,0,0,1,0,0,0,0,0,0,null,1]
[1,0,1,0,0,0,0,0,0,0,0,0,0,0,0,1,0,0,0,null,1]
[0,0,0,1,0,0,0,0,0,0,0,0,0,0,0,0,0,1,1,null,1]
[0,1,0,1,0,0,0,0,0,0,0,0,0,1,0,0,1,0,0,null,1]
[1,0,1,0,0,0,0,0,0,0,0,0,0,0,0,0,0,0,0,null,1]
[1,0,1,0,1,0,0,1,0,0,0,0,0,0,0,0,0,0,1,null,1]
[1,0,0,1,0,0,0,0,0,0,0,0,0,0,0,0,0,0,0,null,1]
[1,0,1,0,0,0,0,0,0,0,0,0,0,0,0,0,1,0,0,null,1]
[0,1,0,0,1,1,0,0,0,0,0,1,0,0,0,1,0,0,0,null,1]
[1,0,0,1,0,0,0,0,0,0,0,0,0,0,0,0,1,0,0,null,1]
[1,0,0,1,0,0,0,0,0,0,0,0,1,0,0,0,0,0,0,null,1]
[0,1,0,1,0,0,0,0,0,0,0,0,0,0,0,0,0,1,0,null,1]
[0,1,0,1,0,0,0,1,0,0,0,0,0,0,0,0,0,0,0,null,1]
[1,0,0,1,0,0,1,0,0,1,0,0,0,0,0,0,0,0,1,null,1]
[0,1,1,0,0,0,0,0,0,0,0,0,0,0,0,0,0,0,0,null,1]
[0,1,1,0,0,0,0,1,0,0,0,1,0,0,0,0,0,1,1,null,1]
[0,1,0,0,0,0,0,1,0,0,0,0,0,0,0,0,0,0,0,null,1]
[1,0,1,0,0,0,0,0,0,0,0,1,0,1,0,0,0,0,0,null,1]
[0,1,1,0,1,0,0,0,1,0,0,0,0,1,0,1,1,0,0,null,1]
[1,0,0,1,0,0,0,1,0,0,0,0,0,0,0,0,1,0,0,null,1]
[1,0,1,0,0,0,0,0,0,0,0,0,0,0,0,0,0,0,0,null,1]
[0,0,1,0,0,0,0,1,0,0,0,0,0,0,0,0,0,0,0,null,1]
[0,1,1,0,0,0,0,0,0,0,0,0,0,0,0,0,0,0,1,null,1]
[0,1,1,0,1,0,1,0,1,0,0,0,0,0,0,0,1,0,0,null,1]
[0,0,1,0,1,0,0,1,1,0,0,0,0,0,0,0,0,0,0,null,1]
[1,0,0,0,0,0,0,0,0,0,0,0,0,1,0,0,0,0,0,null,1]
[0,1,1,0,0,0,0,1,0,0,0,1,0,0,0,0,0,0,0,null,1]
[0,0,0,1,0,0,0,0,0,0,0,0,0,0,0,0,0,0,0,null,1]
[1,0,0,0,0,1,0,1,1,0,0,0,0,0,0,0,0,0,0,null,1]
[0,1,1,0,0,0,0,0,0,0,0,0,0,0,0,0,1,0,1,null,1]
[0,1,0,1,0,0,0,0,0,0,0,0,0,1,0,0,1,0,1,null,1]
[1,0,0,1,0,0,0,1,0,0,0,0,0,0,0,0,0,0,0,null,1]
[0,1,0,1,0,0,0,0,0,0,0,0,0,1,0,0,1,0,1,null,1]
[1,0,0,1,0,0,0,0,0,0,0,0,0,0,0,0,0,0,0,null,1]
[1,0,0,1,0,0,0,0,0,0,1,0,0,0,0,1,0,0,0,null,1]
[1,0,0,1,0,0,0,0,0,0,0,0,0,0,0,0,1,0,1,null,1]
[0,0,0,1,0,0,0,0,0,0,0,1,0,0,0,0,0,1,0,null,1]
[1,0,0,1,0,0,0,1,0,0,0,0,0,1,0,0,0,0,0,null,1]
[0,1,1,0,0,0,0,0,1,0,0,0,0,0,0,0,0,0,0,null,1]
[0,1,1,0,0,0,0,0,0,0,0,0,0,1,0,1,0,0,1,null,1]
[0,0,0,1,0,0,0,0,0,0,0,0,1,0,0,0,0,0,0,null,1]
[1,0,0,0,0,0,0,1,0,0,0,0,0,0,1,0,0,0,0,null,1]
[1,0,1,0,0,0,0,0,0,0,0,1,0,0,0,0,0,0,0,null,1]
[0,1,0,1,0,0,0,0,1,0,0,0,0,0,1,0,0,0,1,null,1]
[1,0,0,1,0,0,0,1,1,0,0,0,0,1,0,0,0,0,0,null,1]
[0,1,0,1,0,0,0,0,0,0,0,0,0,1,0,0,0,0,0,null,1]
[0,1,0,1,1,0,0,0,0,0,0,0,0,0,0,0,0,0,1,null,1]
[0,1,0,0,0,0,0,1,0,0,0,0,0,0,0,0,0,0,0,null,1]
[0,1,0,1,0,0,0,0,1,0,0,0,0,0,0,0,0,0,0,null,1]
[0,1,1,0,0,0,0,0,0,0,0,0,0,0,0,0,1,0,0,null,1]
[1,0,1,0,0,0,0,0,0,1,0,0,0,0,0,0,0,0,0,null,1]
[0,0,0,0,1,0,0,0,0,0,0,1,0,0,0,0,0,0,0,null,1]
[0,1,0,1,0,0,1,0,0,0,0,0,0,0,0,0,0,0,0,null,1]
[0,1,1,0,0,0,0,0,0,0,0,1,0,0,0,0,1,0,0,null,1]
[0,1,0,1,1,0,0,1,1,0,0,1,0,1,0,0,0,0,0,null,1]
[0,0,0,1,0,0,0,0,0,0,0,0,0,0,0,0,0,0,0,null,1]
[0,1,1,0,1,0,0,0,1,0,0,0,0,1,0,0,1,0,0,null,1]
[0,0,0,1,0,0,0,0,0,0,0,0,1,0,0,0,0,0,0,null,1]
[1,0,1,0,1,0,1,0,0,1,0,0,0,0,0,0,0,0,0,null,1]
[0,1,0,1,0,0,0,0,1,0,0,0,0,0,0,0,0,0,0,null,1]
[0,1,1,0,0,0,0,1,0,0,0,1,0,0,0,0,0,1,1,null,1]
[0,1,0,1,0,0,0,0,0,0,0,0,0,1,0,0,1,0,0,null,1]
[1,0,1,0,0,0,1,0,0,0,0,0,0,0,0,0,1,0,1,null,1]
[1,0,0,1,0,0,0,0,0,0,0,0,0,0,0,0,0,0,0,null,1]
[0,1,0,1,0,0,0,0,1,0,0,0,0,0,0,0,0,0,0,null,1]
[0,1,0,0,0,0,0,0,0,0,0,0,0,0,0,0,0,0,0,null,1]
[1,0,1,0,0,0,0,1,0,0,0,0,0,0,0,0,1,0,0,null,1]
[0,0,0,1,0,0,1,0,0,0,0,0,0,0,0,0,0,0,0,null,1]
[1,0,1,0,0,0,0,0,0,1,0,0,0,0,0,0,0,0,0,null,1]
[1,0,1,0,0,0,0,1,0,0,0,0,0,0,0,0,0,0,0,null,1]
[0,1,0,1,0,0,0,0,0,0,0,1,0,0,1,1,0,0,0,null,1]
[0,1,1,0,0,0,1,0,0,0,0,0,0,0,0,0,0,0,0,null,1]
[1,0,0,1,0,0,0,0,1,1,0,0,0,0,0,0,0,0,0,null,1]
[0,0,1,0,0,0,0,0,0,0,1,0,0,0,0,0,0,0,1,null,1]
[1,0,0,1,0,0,0,0,1,0,0,0,0,0,0,0,1,0,0,null,1]
[1,0,0,1,0,0,0,0,0,0,0,0,0,0,0,0,0,0,1,null,1]
[0,1,1,0,1,0,0,0,0,0,0,0,0,0,0,0,0,0,1,null,1]
[0,1,0,1,0,0,0,0,1,0,0,1,0,0,0,0,0,0,0,null,1]
[1,0,1,0,1,0,0,0,0,0,0,1,0,0,0,0,0,0,0,null,1]
[1,0,1,0,0,0,0,0,0,0,0,0,0,0,0,0,0,0,0,null,1]
[1,0,1,0,0,0,0,0,0,0,0,1,0,0,0,1,0,0,0,null,1]
[0,1,0,1,0,0,0,0,0,0,0,0,0,0,0,0,0,0,0,null,1]
[1,0,0,1,0,0,0,1,0,0,0,0,0,0,0,0,0,0,0,null,1]
[1,0,0,1,0,0,0,0,0,0,0,0,0,0,0,0,0,0,0,null,1]
[1,0,1,0,0,0,0,0,0,0,0,0,0,1,0,0,0,0,0,null,1]
[1,0,0,1,0,0,0,0,0,0,0,1,0,0,0,0,0,0,0,null,1]
[0,1,1,0,0,0,0,0,0,1,0,1,0,0,0,0,0,0,1,null,1]
[0,0,1,0,0,0,0,0,0,0,0,0,0,0,0,0,0,0,1,null,1]
[1,0,1,0,0,0,1,0,0,0,1,0,0,0,0,0,0,0,1,null,1]
[0,1,0,1,0,1,0,0,0,0,0,1,0,0,0,0,0,0,0,null,1]
[1,0,0,1,0,0,0,0,0,0,0,0,0,0,0,0,0,0,1,null,1]
[1,0,1,0,0,0,0,1,1,0,0,0,0,0,0,0,0,0,0,null,1]
[0,1,0,1,0,0,0,0,0,0,0,0,0,0,0,0,0,0,0,null,1]
[0,1,1,0,1,0,0,1,0,0,0,0,1,0,0,0,0,0,1,null,1]
[0,0,0,1,0,0,0,0,0,0,0,0,0,0,0,0,0,0,0,null,1]
[0,1,0,0,0,0,0,0,0,0,0,0,0,0,0,0,0,0,0,null,1]
[0,1,1,0,0,0,0,0,1,0,1,0,0,1,0,0,0,0,1,null,1]
[1,0,1,0,0,0,0,1,0,0,0,0,0,0,1,0,1,0,0,null,1]
[0,1,0,1,1,0,1,1,0,1,0,0,0,0,0,0,0,0,0,null,1]
[1,0,1,0,0,0,0,0,1,0,1,0,0,1,0,0,1,0,0,null,1]
[0,1,1,0,0,0,0,1,0,0,0,1,0,0,0,0,1,0,0,null,1]
[0,0,1,0,0,0,0,0,0,0,0,0,0,0,0,0,0,0,1,null,1]
[1,0,1,0,0,0,0,0,0,0,0,0,0,0,0,0,0,0,0,null,1]
[0,1,1,0,0,0,0,0,1,0,0,0,0,0,0,0,0,0,0,null,1]
[1,0,1,0,0,0,0,0,0,0,0,0,0,0,0,0,0,0,0,null,1]
[0,1,0,0,0,0,0,0,0,0,0,0,0,0,0,0,0,0,0,null,1]
[1,0,1,0,0,0,0,0,1,0,0,0,0,0,0,0,0,0,0,null,1]
[1,0,1,0,0,0,0,1,0,0,0,0,0,0,0,0,1,0,0,null,1]
[0,0,1,0,0,0,0,1,0,0,0,0,0,0,0,0,0,0,0,null,1]
[0,1,0,1,1,0,0,0,1,0,0,0,0,0,0,0,1,0,0,null,1]
[0,0,0,1,1,0,0,0,0,0,0,0,0,0,0,0,0,0,0,null,1]
[0,1,1,0,0,0,0,0,0,0,0,0,0,0,0,0,0,0,0,null,1]
[1,0,1,0,0,0,1,1,0,0,0,0,0,0,0,0,0,0,0,null,1]
[0,1,0,1,0,0,0,0,0,0,0,0,0,1,0,0,1,0,0,null,1]
[0,1,0,1,1,0,0,0,0,0,0,0,0,0,0,0,0,0,0,null,1]
[0,1,1,0,0,0,0,0,0,0,0,0,0,0,0,0,0,0,0,null,1]
[0,1,1,0,1,1,0,0,1,0,0,0,0,0,0,0,1,0,0,null,1]
[1,0,1,0,0,0,0,0,0,0,0,0,0,0,0,0,1,0,1,null,1]
[0,1,1,0,0,0,0,0,0,0,0,1,0,0,0,0,1,0,0,null,1]
[0,1,0,1,0,0,0,0,0,0,0,0,0,0,0,0,0,1,0,null,1]
[1,0,0,0,0,0,0,0,0,0,0,1,0,0,0,0,1,0,0,null,1]
[0,1,0,1,0,0,0,0,0,0,0,0,0,0,0,0,1,0,0,null,1]
[0,1,1,0,0,0,0,0,0,0,0,0,0,0,1,0,0,0,1,null,1]
[0,1,1,0,0,0,0,0,0,0,0,0,0,0,0,0,1,0,0,null,1]
[0,1,1,0,0,0,0,1,0,0,0,0,0,1,0,0,0,0,0,null,1]
[0,0,0,0,0,0,0,0,0,0,0,1,0,0,0,0,0,0,1,null,1]
[0,0,0,1,0,0,0,0,1,0,0,0,0,0,0,0,0,0,0,null,1]
[1,0,1,0,0,0,0,0,1,0,0,1,0,0,1,0,0,0,1,null,1]
[0,1,1,0,0,0,0,0,1,0,0,1,0,0,0,1,0,0,1,null,1]
[1,0,0,1,0,0,1,0,0,0,0,0,0,0,0,0,0,0,0,null,1]
[1,0,0,1,0,0,0,0,0,0,0,0,0,0,0,0,0,1,0,null,1]
[0,1,1,0,0,0,1,0,0,0,0,0,0,0,0,0,0,0,1,null,1]
[1,0,0,1,0,0,0,0,0,0,0,0,0,0,0,0,1,0,0,null,1]
[0,1,1,0,0,0,0,0,1,0,0,0,0,1,0,0,1,0,0,null,1]
[1,0,1,0,1,0,0,1,0,0,0,0,0,0,0,1,0,0,1,null,1]
[0,0,1,0,0,0,0,0,1,0,0,0,0,0,0,0,0,0,0,null,1]
[1,0,0,1,0,0,0,0,0,0,0,0,0,0,0,0,0,0,0,null,1]
[0,0,0,0,0,0,0,0,0,0,0,0,0,0,0,0,0,0,0,null,1]
[0,1,0,1,0,0,0,0,0,0,0,0,0,0,0,0,0,0,0,null,1]
[1,0,1,0,0,0,0,0,0,0,0,0,0,0,0,1,1,0,0,null,1]
[1,0,0,1,0,0,0,0,0,0,0,0,0,0,0,0,0,0,0,null,1]
[1,0,0,1,0,0,0,0,0,0,0,0,0,0,0,0,0,0,0,null,1]
[0,1,1,0,1,0,0,0,0,0,0,0,0,0,0,0,0,0,1,null,1]
[0,1,0,1,0,0,0,0,0,0,0,0,0,0,0,0,0,0,0,null,1]
[0,0,0,1,0,0,0,0,0,0,0,0,0,1,0,0,0,0,0,null,1]
[0,0,0,1,0,0,0,0,0,0,0,0,0,0,0,1,1,0,1,null,1]
[0,1,1,0,0,0,0,0,1,0,0,0,0,0,0,0,0,0,0,null,1]
[0,1,1,0,0,0,0,0,0,0,0,0,0,0,1,0,0,0,0,null,1]
[0,1,1,0,1,0,0,0,1,0,0,0,0,0,0,0,0,0,1,null,1]
[0,1,1,0,0,0,0,0,1,0,0,0,1,0,0,0,1,0,0,null,1]
[0,1,0,0,0,0,0,1,1,0,0,0,0,0,0,0,0,0,0,null,1]
[0,1,0,1,0,0,0,1,0,0,0,0,0,0,0,0,1,0,1,null,1]
[1,0,0,1,0,0,0,0,0,0,0,1,0,0,0,1,0,0,1,null,1]
[0,1,1,0,0,0,1,0,0,0,0,0,0,0,1,1,1,0,0,null,1]
[0,0,1,0,1,0,0,0,0,0,0,0,0,0,0,0,1,0,0,null,1]
[0,1,0,1,0,0,0,0,0,0,0,0,0,0,0,0,0,0,0,null,1]
[1,0,0,0,1,0,0,0,0,0,0,1,0,0,0,1,0,0,1,null,1]
[1,0,0,1,0,0,0,1,0,0,0,0,0,1,0,0,0,0,1,null,1]
[1,0,1,0,0,0,0,0,0,0,0,1,0,0,0,0,0,0,1,null,1]
[1,0,0,1,1,0,0,0,0,0,0,0,0,0,0,0,0,0,0,null,1]
[0,1,0,0,0,0,0,1,0,0,0,0,0,0,0,0,0,0,0,null,1]
[0,1,1,0,0,0,0,1,1,0,0,0,0,0,1,0,0,0,0,null,1]
[0,1,0,1,0,0,0,0,1,0,0,0,0,0,0,0,0,0,0,null,1]
[0,1,0,1,0,0,0,0,0,0,0,0,0,0,0,1,0,0,0,null,1]
[1,0,0,1,0,0,1,1,0,0,0,0,0,0,0,0,0,0,0,null,1]
[1,0,1,0,1,0,0,0,0,0,0,0,0,1,0,0,1,0,0,null,1]
[0,1,0,0,0,0,0,0,0,0,0,0,0,1,0,0,0,0,0,null,1]
[0,1,0,0,0,1,0,0,0,0,0,0,0,0,0,0,0,0,0,null,1]
[1,0,1,0,0,0,0,0,0,0,0,0,0,0,0,0,0,0,1,null,1]
[0,1,1,0,0,0,0,1,0,0,0,0,0,0,0,0,0,0,0,null,1]
[0,1,1,0,0,0,0,0,1,0,0,0,0,0,0,0,0,0,0,null,1]
[1,0,1,0,0,0,0,1,0,0,0,0,0,0,1,0,0,0,0,null,1]
[1,0,1,0,0,0,0,1,0,0,0,0,0,0,0,0,0,0,0,null,1]
[0,1,0,1,0,0,0,0,0,0,0,1,0,0,0,0,0,0,0,null,1]
[0,1,1,0,0,0,0,0,0,0,0,0,0,0,0,0,0,0,0,null,1]
[0,1,0,1,0,0,0,0,0,0,0,0,0,0,0,0,0,0,1,null,1]
[0,0,0,1,0,0,0,0,0,0,0,0,0,0,0,0,0,0,0,null,1]
[0,0,1,0,0,0,0,0,0,0,0,0,0,0,0,0,0,1,0,null,1]
[1,0,1,0,1,0,0,0,0,0,0,0,0,0,0,0,0,0,0,null,1]
[0,1,1,0,0,0,0,1,0,0,0,0,0,1,0,0,0,0,0,null,1]
[1,0,0,1,0,0,0,0,0,0,0,0,0,0,0,0,1,0,0,null,1]
[0,1,1,0,0,0,0,0,0,0,0,0,0,1,0,0,0,0,1,null,1]
[0,1,0,1,0,0,1,0,0,0,0,0,0,1,0,0,0,0,0,null,1]
[0,1,0,1,0,0,0,0,0,0,0,0,0,0,0,1,0,0,0,null,1]
[0,0,0,1,1,0,0,0,0,0,0,0,0,0,0,1,1,0,0,null,1]
[0,1,1,0,0,0,0,0,0,0,0,0,0,0,0,0,0,0,1,null,1]
[1,0,1,0,0,0,0,1,0,0,0,1,0,0,0,0,0,0,1,null,1]
[0,1,0,0,0,0,0,0,0,0,0,0,0,0,0,0,0,0,1,null,1]
[0,1,0,1,0,0,0,0,0,0,0,0,0,0,0,0,0,0,0,null,1]
[0,1,0,0,0,0,0,0,0,0,0,0,0,0,0,1,0,0,0,null,1]
[1,0,1,0,0,0,0,1,0,0,0,0,0,0,0,0,0,0,1,null,1]
[0,1,1,0,0,0,0,0,1,0,0,1,0,0,0,0,0,0,0,null,1]
[1,0,0,0,0,0,0,0,0,0,0,0,0,0,0,0,1,0,0,null,1]
[1,0,0,1,0,0,0,0,0,0,0,0,0,0,0,0,0,0,0,null,1]
[1,0,0,1,0,0,0,1,1,0,0,0,0,0,0,0,0,0,0,null,1]
[0,1,1,0,0,0,0,0,0,0,0,0,0,0,0,0,1,0,0,null,1]
[0,1,0,0,0,0,0,0,0,0,0,0,0,1,0,0,0,0,0,null,1]
[1,0,0,0,0,0,0,0,0,0,0,0,0,0,0,0,0,0,1,null,1]
[0,0,0,0,0,0,0,0,0,0,1,0,0,0,0,0,1,0,0,null,1]
[1,0,0,1,0,0,1,0,1,0,0,0,0,0,0,0,0,0,0,null,1]
[1,0,0,1,1,0,0,0,0,0,0,0,0,0,1,0,0,0,0,null,1]
[1,0,1,0,1,0,0,0,1,0,0,0,0,0,0,1,0,0,1,null,1]
[0,1,1,0,0,0,0,0,0,0,0,0,0,0,0,0,0,0,0,null,1]
[0,0,0,1,1,0,0,0,0,0,0,0,0,1,0,1,1,0,1,null,1]
[1,0,1,0,0,0,0,0,0,1,0,0,1,0,0,0,0,0,0,null,1]
[0,1,0,1,0,0,1,0,0,0,0,0,0,1,0,0,0,0,1,null,1]
[0,1,0,1,0,0,0,0,0,0,0,0,0,0,0,0,0,0,0,null,1]
[0,1,0,1,0,0,0,0,0,0,0,0,0,0,0,0,0,0,0,null,1]
[0,0,1,0,0,0,0,1,0,0,0,0,0,0,0,0,0,0,0,null,1]
[0,1,0,1,0,0,0,0,1,0,0,0,0,0,0,0,0,1,0,null,1]
[0,1,1,0,0,0,0,0,0,0,0,1,0,0,0,0,0,0,0,null,1]
[0,1,0,1,0,0,0,0,0,0,0,0,0,0,0,0,0,0,0,null,1]
[1,0,0,1,0,0,0,0,0,0,0,0,0,0,0,0,0,0,0,null,1]
[0,1,0,1,0,0,0,0,1,0,0,0,0,0,0,0,0,0,1,null,1]
[0,1,1,0,0,0,1,0,1,0,0,0,0,0,0,0,1,0,0,null,1]
[1,0,0,1,0,0,0,0,0,0,0,0,0,0,0,0,0,0,0,null,1]
[1,0,1,0,0,0,0,0,0,0,0,0,0,1,0,1,0,0,0,null,1]
[1,0,1,0,1,0,0,0,1,0,0,0,0,0,0,1,1,0,0,null,1]
[1,0,0,1,0,0,0,0,0,0,0,0,0,0,0,0,0,0,0,null,1]
[1,0,1,0,0,0,0,0,0,0,0,0,0,0,0,1,1,0,0,null,1]
[1,0,1,0,0,0,0,0,0,0,0,0,0,0,0,0,0,0,0,null,1]
[0,1,0,1,0,0,0,0,1,0,0,0,0,1,0,0,0,0,0,null,1]
[0,1,0,0,0,0,0,0,1,0,0,0,1,0,0,0,1,0,0,null,1]
[0,1,1,0,1,0,0,0,0,0,0,0,0,0,0,1,0,0,0,null,1]
[0,1,0,1,0,1,0,1,0,0,0,0,0,0,0,0,0,0,0,null,1]
[1,0,0,1,0,0,0,0,0,0,0,0,0,0,0,0,0,0,0,null,1]
[0,1,0,0,0,0,0,0,0,0,0,0,0,0,0,0,0,0,0,null,1]
[1,0,0,0,0,0,0,1,0,0,0,0,0,1,0,1,0,0,1,null,1]
[1,0,0,1,0,0,0,0,0,0,0,0,0,0,0,0,1,0,0,null,1]
[0,1,0,1,0,0,0,0,0,0,0,0,0,0,0,0,0,0,1,null,1]
[0,0,0,1,0,0,0,1,0,0,0,0,0,0,0,0,0,0,0,null,1]
[0,1,0,1,0,0,0,0,0,0,0,0,0,0,0,0,0,0,1,null,1]
[0,0,0,1,0,0,1,0,1,0,0,0,0,1,0,0,0,0,0,null,1]
[1,0,1,0,0,0,0,0,0,0,0,0,0,1,0,0,1,0,0,null,1]
[0,0,1,0,0,0,0,0,0,0,0,0,0,0,0,0,0,0,0,null,1]
[1,0,0,1,0,0,0,0,0,0,0,0,0,0,0,0,1,0,0,null,1]
[0,1,1,0,0,0,0,1,0,0,0,0,1,0,0,0,0,0,0,null,1]
[0,1,0,1,0,0,0,0,0,0,0,0,0,0,0,0,0,0,0,null,1]
[0,1,1,0,1,0,0,1,0,0,0,0,0,0,0,0,0,0,0,null,1]
[1,0,1,0,0,0,0,0,0,0,0,0,0,0,0,0,0,0,0,null,1]
[0,1,1,0,0,0,0,1,1,0,0,0,0,0,0,0,0,0,0,null,1]
[1,0,1,0,0,0,0,0,1,0,0,0,0,0,0,0,0,0,0,null,1]
[0,1,0,0,0,0,0,0,1,0,0,0,1,0,0,0,0,0,0,null,1]
[0,1,0,1,0,0,0,0,1,0,0,0,0,0,0,0,0,0,0,null,1]
[0,1,1,0,0,0,0,0,0,0,0,0,0,0,0,0,0,0,1,null,1]
[0,1,1,0,0,0,0,0,1,0,0,0,1,1,0,0,0,0,0,null,1]
[0,1,0,1,0,0,0,0,0,0,0,0,1,0,0,0,0,0,0,null,1]
[0,1,0,1,0,0,0,0,0,0,0,0,0,0,0,0,0,0,1,null,1]
[0,1,0,1,0,0,0,1,0,0,0,0,0,0,0,0,0,0,0,null,1]
[1,0,0,1,0,0,0,0,0,0,0,0,0,1,0,0,0,0,1,null,1]
[1,0,1,0,0,0,0,0,0,0,0,0,0,0,0,0,0,0,0,null,1]
[0,1,0,1,0,0,0,0,0,0,0,0,0,0,0,0,0,0,0,null,1]
[0,1,1,0,0,0,0,0,0,0,0,0,0,1,0,0,0,0,1,null,1]
[0,0,1,0,0,0,0,0,0,0,0,0,0,1,0,0,0,0,0,null,1]
[0,0,0,1,0,0,0,1,1,0,0,0,0,0,0,0,0,1,0,null,1]
[0,1,1,0,0,0,0,0,1,0,0,0,0,0,0,0,0,0,1,null,1]
[1,0,0,1,1,0,0,0,1,0,0,1,1,0,1,0,0,0,0,null,1]
[0,1,0,1,0,0,1,1,1,0,0,0,0,0,0,0,0,0,0,null,1]
[0,0,1,0,1,0,0,0,0,1,0,1,0,0,0,0,0,0,0,null,1]
[0,1,1,0,0,0,0,0,0,0,0,0,0,0,1,1,0,0,1,null,1]
[0,1,1,0,0,0,0,0,0,0,0,1,0,0,1,1,0,0,0,null,1]
[1,0,1,0,0,0,0,0,0,0,0,0,0,0,0,0,0,0,0,null,1]
[1,0,1,0,1,0,0,0,0,0,0,0,0,0,0,1,0,0,0,null,1]
[1,0,0,1,1,0,0,0,1,0,0,0,0,1,0,0,1,0,1,null,1]
[0,1,1,0,0,1,0,1,0,0,0,0,0,1,0,0,1,0,0,null,1]
[0,1,0,0,0,0,0,1,1,0,0,0,0,0,0,0,0,0,0,null,1]
[0,1,0,1,0,0,0,0,0,0,0,0,0,0,0,0,0,0,0,null,1]
[0,1,0,0,0,0,0,0,0,0,0,0,0,0,0,1,0,0,0,null,1]
[0,1,1,0,0,0,0,0,0,0,0,0,0,0,0,1,0,0,0,null,1]
[1,0,1,0,0,0,0,0,0,0,0,0,0,0,0,1,0,1,1,null,1]
[0,1,1,0,0,0,0,0,0,0,0,0,0,0,0,0,1,0,0,null,1]
[1,0,1,0,0,0,0,0,0,0,0,0,0,0,0,0,0,0,0,null,1]
[0,1,1,0,1,0,0,0,0,0,0,0,0,0,0,0,0,0,0,null,1]
[1,0,0,1,0,0,0,0,0,0,0,0,0,1,0,0,0,0,0,null,1]
[1,0,0,1,0,0,0,0,1,0,0,0,0,0,0,0,1,0,1,null,1]
[0,0,0,1,0,0,0,0,0,0,0,0,0,0,0,0,1,0,0,null,1]
[0,1,0,1,0,0,0,0,0,0,0,0,0,0,0,0,0,0,1,null,1]
[1,0,1,0,0,1,0,1,1,0,0,0,0,0,0,0,0,0,0,null,1]
[0,1,1,0,0,0,0,0,0,0,0,0,0,0,0,0,1,0,0,null,1]
[0,0,0,1,0,0,0,1,1,0,0,0,0,0,0,0,1,0,0,null,1]
[0,0,1,0,1,0,1,1,0,0,0,0,0,0,0,0,1,0,0,null,1]
[1,0,0,1,1,0,0,1,0,0,0,0,0,0,0,1,0,0,1,null,1]
[0,1,0,1,1,0,0,0,1,0,0,0,0,1,0,0,0,1,0,null,1]
[0,1,1,0,0,0,0,0,0,0,0,0,0,0,0,0,1,0,0,null,1]
[1,0,0,1,1,0,0,0,0,0,0,0,0,0,0,0,0,0,0,null,1]
[0,1,1,0,0,0,0,0,0,0,0,0,0,0,0,1,0,0,1,null,1]
[1,0,1,0,0,0,0,1,0,0,0,1,0,0,0,0,0,0,1,null,1]
[1,0,1,0,0,0,0,1,0,0,0,0,0,1,0,0,0,0,0,null,1]
[0,1,1,0,0,1,0,0,0,0,0,0,0,0,0,0,0,0,0,null,1]
[1,0,0,1,1,0,0,0,0,0,0,0,0,0,0,0,0,0,0,null,1]
[0,0,0,1,0,1,0,0,0,0,0,0,0,0,0,0,1,0,0,null,1]
[0,1,0,1,0,0,0,0,0,0,0,0,0,0,0,0,0,0,0,null,1]
[0,1,0,0,0,0,0,1,0,0,0,0,0,0,0,1,1,0,0,null,1]
[0,1,1,0,0,0,0,0,1,0,0,1,0,1,0,0,0,0,0,null,1]
[1,0,0,0,0,0,0,0,0,0,0,0,0,0,0,0,0,0,1,null,1]
[0,1,1,0,0,0,0,0,0,1,0,0,0,0,0,0,1,0,0,null,1]
[0,1,0,1,0,0,0,0,1,1,0,0,0,0,0,0,1,0,0,null,1]
[0,1,1,0,0,0,0,0,0,0,0,0,0,1,0,0,0,0,0,null,1]
[0,0,1,0,0,0,0,0,0,0,0,1,0,0,0,0,1,0,0,null,1]
[1,0,1,0,0,0,0,1,0,0,0,0,0,0,0,1,1,0,0,null,1]
[0,1,1,0,0,0,0,0,0,1,1,0,0,0,0,0,0,0,0,null,1]
[0,0,1,0,0,0,0,0,1,0,0,0,0,0,0,0,0,0,1,null,1]
[1,0,1,0,0,0,0,1,1,0,0,0,0,0,0,0,0,0,0,null,1]
[0,0,0,1,0,0,0,0,0,0,0,0,0,0,0,0,0,0,0,null,1]
[0,0,0,1,0,0,0,0,0,0,0,0,0,0,0,0,0,0,1,null,1]
[0,1,0,1,1,0,0,0,0,0,0,0,0,0,0,0,1,0,0,null,1]
[0,1,0,1,0,0,0,0,1,0,0,0,0,0,0,0,0,0,0,null,1]
[1,0,0,1,1,0,0,0,0,0,0,0,0,1,0,1,0,0,0,null,1]
[0,1,1,0,0,0,0,0,1,0,0,0,0,0,0,0,1,0,0,null,1]
[0,1,1,0,1,0,0,0,0,0,0,0,0,0,0,1,0,0,0,null,1]
[0,1,0,0,0,0,0,1,0,0,0,0,0,0,0,0,0,0,1,null,1]
[0,1,0,0,0,0,0,0,0,0,0,0,0,0,0,0,0,0,0,null,1]
[1,0,0,1,0,0,0,1,0,0,0,1,0,0,0,0,1,0,0,null,1]
[0,1,0,1,0,1,0,0,0,0,0,0,0,0,0,0,0,0,0,null,1]
[0,1,0,1,0,0,0,0,0,0,0,0,0,0,0,0,0,0,1,null,1]
[0,1,1,0,0,0,0,0,0,0,0,0,0,0,0,0,0,0,0,null,1]
[1,0,0,0,0,0,0,1,0,0,0,0,0,0,0,0,1,0,0,null,1]
[0,0,1,0,0,0,0,0,0,0,0,0,0,1,0,0,0,0,0,null,1]
[0,1,0,1,0,0,0,0,1,0,0,0,0,0,0,0,0,0,0,null,1]
[0,1,1,0,0,0,0,1,0,0,0,0,0,0,0,0,0,0,0,null,1]
[0,1,1,0,0,0,0,0,0,0,0,0,0,0,0,0,0,0,1,null,1]
[1,0,0,1,0,0,0,0,0,1,0,0,0,0,0,0,0,0,1,null,1]
[1,0,0,0,1,0,0,0,0,0,0,0,1,0,0,1,0,0,0,null,1]
[0,1,1,0,0,0,0,0,0,0,0,0,0,0,0,0,0,1,0,null,1]
[0,1,0,0,0,0,0,1,0,0,0,0,0,0,0,0,0,0,1,null,1]
[0,1,0,1,0,0,0,1,1,0,0,0,0,0,0,0,0,0,0,null,1]
[1,0,0,1,0,0,0,1,0,0,0,0,0,0,0,0,1,0,1,null,1]
[1,0,0,1,0,0,0,0,1,0,0,0,0,0,0,0,0,0,0,null,1]
[0,1,0,1,0,0,0,0,0,0,0,0,0,0,0,0,1,0,1,null,1]
[0,0,1,0,0,1,0,0,0,0,0,1,0,0,0,0,0,0,0,null,1]
[0,1,0,1,0,0,0,0,0,0,0,0,0,0,0,0,0,0,0,null,1]
[1,0,1,0,0,0,0,0,1,0,1,0,0,0,0,0,0,0,0,null,1]
[0,1,1,0,0,0,0,0,0,0,0,0,0,0,0,0,1,0,0,null,1]
[0,1,1,0,0,0,0,1,0,0,0,0,0,0,0,0,0,0,1,null,1]
[0,1,0,1,0,0,0,0,1,0,0,0,0,0,0,0,0,0,0,null,1]
[0,1,1,0,0,0,0,1,0,0,0,0,0,1,0,0,0,0,0,null,1]
[1,0,0,1,0,0,0,0,1,0,0,1,0,1,0,0,0,0,1,null,1]
[0,1,0,1,0,0,0,0,1,0,0,0,0,0,0,0,0,0,0,null,1]
[0,0,1,0,0,0,0,0,0,0,0,0,0,0,0,0,1,0,0,null,1]
[0,1,0,1,0,0,0,0,0,1,0,0,0,0,0,1,0,0,1,null,1]
[1,0,1,0,0,0,0,0,0,0,0,0,0,0,0,0,0,0,0,null,1]
[0,0,1,0,0,0,0,1,0,0,0,0,0,0,0,0,0,0,0,null,1]
[0,1,0,1,0,0,0,0,0,0,0,0,0,0,0,0,0,0,0,null,1]
[0,1,0,1,0,0,0,1,0,0,0,0,0,0,0,0,0,0,0,null,1]
[0,1,1,0,0,0,0,0,0,0,0,1,0,0,0,0,0,0,0,null,1]
[0,1,1,0,1,0,0,1,0,0,0,0,0,0,0,0,1,0,0,null,1]
[1,0,1,0,0,0,0,1,1,0,0,0,0,1,0,0,0,1,1,null,1]
[0,0,1,0,0,0,0,0,0,0,0,0,0,0,0,0,0,0,0,null,1]
[0,1,1,0,0,0,0,0,1,0,0,0,1,0,1,0,0,0,1,null,1]
[1,0,0,0,0,0,0,0,0,0,0,0,0,1,0,0,0,0,0,null,1]
[0,1,1,0,0,0,1,0,1,0,0,0,0,0,0,0,0,0,1,null,1]
[1,0,1,0,1,0,0,0,1,0,0,0,0,0,0,0,0,0,0,null,1]
[1,0,0,1,0,0,0,1,0,0,0,0,0,0,0,0,0,0,0,null,1]
[1,0,1,0,0,0,0,0,0,0,0,0,0,0,0,0,0,0,0,null,1]
[0,1,0,1,0,0,0,0,0,0,0,0,0,0,0,0,0,0,1,null,1]
[1,0,0,0,0,0,0,0,0,0,0,0,0,0,0,0,0,0,0,null,1]
[0,1,0,1,0,0,0,0,1,0,0,0,0,0,0,0,0,0,0,null,1]
[0,1,0,1,0,0,0,0,0,0,0,0,0,0,0,0,0,0,0,null,1]
[0,1,0,1,0,0,0,0,0,0,0,0,0,0,0,0,0,0,0,null,1]
[1,0,0,1,0,0,0,1,0,0,0,0,1,0,0,1,0,0,1,null,1]
[0,0,1,0,0,0,0,0,0,0,0,0,0,1,0,1,1,0,0,null,1]
[0,1,1,0,0,0,0,0,0,0,0,1,0,1,0,0,0,0,0,null,1]
[0,1,1,0,0,0,0,0,0,0,0,1,0,0,0,0,0,0,0,null,1]
[0,1,0,1,0,0,0,1,0,0,0,0,0,0,0,1,0,0,0,null,1]
[0,1,1,0,0,0,1,1,0,1,0,0,0,0,0,0,0,0,0,null,1]
[1,0,1,0,1,0,0,0,0,0,0,0,0,0,1,0,0,0,0,null,1]
[0,1,1,0,0,0,0,1,0,0,0,0,0,1,0,0,0,0,0,null,1]
[0,1,0,1,0,0,0,0,0,0,0,0,0,0,1,0,0,0,1,null,1]
[1,0,0,0,0,0,0,0,0,0,0,0,0,0,0,0,0,0,0,null,1]
[1,0,1,0,0,0,0,0,0,0,0,0,0,0,0,0,0,0,1,null,1]
[0,0,0,1,0,0,0,0,0,0,0,0,0,1,0,0,0,0,0,null,1]
[0,1,1,0,0,0,0,0,1,0,0,0,0,0,0,0,0,0,0,null,1]
[0,1,0,0,1,0,0,0,0,0,0,0,0,1,0,1,0,0,1,null,1]
[1,0,0,1,0,0,0,0,0,0,0,0,0,0,0,0,1,0,1,null,1]
[1,0,0,0,1,1,1,0,0,0,0,0,0,0,0,1,0,0,1,null,1]
[0,1,1,0,0,0,0,1,0,0,0,0,1,0,0,0,0,0,0,null,1]
[0,1,0,1,0,0,0,0,1,0,0,0,0,0,0,0,1,0,0,null,1]
[1,0,0,1,0,0,0,1,1,0,0,0,0,0,0,0,1,0,1,null,1]
[0,1,0,1,1,0,0,1,0,0,0,0,0,0,0,0,0,0,0,null,1]
[0,1,0,1,0,0,0,0,0,0,0,0,0,0,0,0,0,0,0,null,1]
[0,1,1,0,0,0,0,0,0,0,0,0,0,0,0,0,0,0,0,null,1]
[0,1,0,1,0,0,0,1,0,0,0,0,0,0,0,0,0,0,0,null,1]
[1,0,0,1,0,0,0,0,0,0,0,0,0,0,0,0,0,0,0,null,1]
[1,0,0,1,0,0,0,0,0,0,0,0,0,0,0,0,0,0,0,null,1]
[1,0,0,1,0,0,0,0,0,0,0,0,1,0,1,0,0,0,0,null,1]
[0,1,0,1,0,0,0,0,0,0,0,0,0,0,0,0,0,0,0,null,1]
[1,0,1,0,0,0,0,0,0,0,0,1,0,0,0,0,0,0,1,null,1]
[1,0,0,1,0,0,0,1,0,0,0,0,0,1,0,0,1,0,0,null,1]
[0,1,0,1,0,0,0,0,0,0,0,0,0,0,0,0,0,0,0,null,1]
[0,1,0,1,0,1,0,0,0,0,0,1,0,0,0,0,0,0,0,null,1]
[0,1,0,1,0,0,0,1,1,0,0,0,0,0,0,1,1,0,0,null,1]
[1,0,1,0,0,0,0,0,1,0,0,0,0,0,1,0,0,1,1,null,1]
[0,0,1,0,1,0,0,0,0,0,0,0,0,0,0,0,0,0,0,null,1]
[0,1,0,1,0,0,0,0,0,0,0,0,0,0,0,0,0,0,1,null,1]
[1,0,1,0,1,0,0,0,0,0,1,0,0,0,0,0,1,0,0,null,1]
[0,1,1,0,0,0,0,0,0,0,0,0,0,0,0,0,0,0,0,null,1]
[0,1,0,1,0,0,0,0,0,0,0,0,1,0,0,0,0,0,0,null,1]
[0,1,0,1,0,0,0,0,1,0,0,0,0,0,0,0,0,0,0,null,1]
[0,1,1,0,1,0,0,0,0,0,0,0,0,0,1,0,0,0,0,null,1]
[0,1,0,1,0,0,0,0,0,0,0,1,0,0,0,0,1,0,0,null,1]
[0,1,1,0,0,0,0,0,0,0,0,0,0,1,0,0,1,0,0,null,1]
[0,1,0,1,0,0,0,1,0,0,0,0,0,0,0,1,0,0,0,null,1]
[0,1,1,0,1,0,0,0,0,0,0,0,0,0,0,0,0,1,0,null,1]
[0,0,0,1,0,0,0,0,1,0,0,0,0,1,0,0,0,0,0,null,1]
[0,1,0,1,0,0,0,0,0,0,0,0,0,0,0,0,1,0,0,null,1]
[0,1,0,1,0,0,0,0,1,0,0,0,0,0,0,0,0,0,0,null,1]
[0,1,1,0,0,0,0,0,0,0,0,0,0,0,0,0,0,0,0,null,1]
[0,1,1,0,0,0,0,0,0,0,0,0,0,0,0,0,0,1,1,null,1]
[1,0,1,0,0,0,0,0,0,0,0,0,0,1,0,0,0,0,0,null,1]
[0,1,1,0,0,0,0,0,0,0,0,0,0,1,0,0,0,0,0,null,1]
[0,1,1,0,0,0,0,0,1,0,0,0,0,1,0,0,0,0,0,null,1]
[0,1,1,0,1,0,0,0,0,0,0,0,0,0,0,0,1,0,1,null,1]
[0,1,1,0,0,0,0,1,0,0,0,0,0,0,0,0,0,0,1,null,1]
[0,0,1,0,0,0,0,0,0,0,0,1,0,0,0,0,0,0,0,null,1]
[1,0,1,0,0,0,0,0,0,0,0,0,0,0,0,0,1,0,0,null,1]
[0,1,1,0,0,0,0,0,0,0,0,0,0,0,0,0,0,0,0,null,1]
[0,1,1,0,1,0,0,0,0,0,0,0,1,0,0,0,0,0,1,null,1]
[0,1,0,1,0,0,0,0,1,0,0,0,1,0,0,0,0,0,0,null,1]
[0,1,0,1,0,0,0,0,0,0,0,0,0,0,0,0,0,0,0,null,1]
[0,1,1,0,0,0,0,0,0,0,0,0,0,0,0,0,0,0,0,null,1]
[1,0,1,0,0,0,0,0,1,0,0,0,0,0,0,0,0,0,0,null,1]
[0,1,1,0,1,0,0,0,0,0,0,0,0,0,0,0,0,0,0,null,1]
[1,0,0,1,0,0,0,0,1,0,0,0,0,1,0,0,1,0,0,null,1]
[0,1,1,0,0,1,0,0,0,0,0,0,0,0,0,0,0,0,0,null,1]
[0,1,1,0,1,0,0,1,0,0,0,0,0,0,0,0,1,0,0,null,1]
[0,1,1,0,0,0,0,0,0,0,0,0,0,0,0,0,1,0,1,null,1]
[1,0,0,0,0,0,0,0,1,0,0,0,0,1,0,0,0,1,0,null,1]
[0,0,1,0,0,0,0,0,0,0,0,0,0,1,0,0,0,0,0,null,1]
[0,1,1,0,1,0,0,1,0,0,0,1,0,0,0,0,0,0,0,null,1]
[0,1,0,1,0,0,0,0,0,0,0,0,0,0,0,0,0,0,1,null,1]
[1,0,1,0,0,0,0,0,1,0,0,0,0,0,0,0,0,0,0,null,1]
[0,1,1,0,0,0,0,1,0,0,0,0,0,0,0,0,1,0,0,null,1]
[0,1,1,0,0,0,1,0,0,0,0,1,0,0,0,0,0,0,1,null,1]
[0,1,0,1,0,0,0,0,1,0,0,0,0,0,0,0,0,0,0,null,1]
[1,0,0,1,0,0,0,0,1,0,0,0,1,0,0,0,0,0,0,null,1]
[0,1,1,0,0,0,0,0,0,0,0,0,0,0,0,0,0,0,0,null,1]
[1,0,0,1,0,0,0,0,0,0,0,0,0,1,0,0,0,0,0,null,1]
[1,0,0,1,0,0,0,0,0,0,0,1,0,0,0,0,1,0,1,null,1]
[0,1,1,0,0,0,0,0,0,0,1,0,0,0,0,0,0,0,0,null,1]
[0,0,0,1,0,0,0,0,0,0,0,0,0,0,0,0,1,0,0,null,1]
[0,1,1,0,0,0,0,1,0,0,0,1,0,0,0,1,0,0,0,null,1]
[0,1,1,0,0,0,0,0,0,0,0,0,0,0,0,1,0,0,0,null,1]
[1,0,1,0,0,0,0,0,1,0,1,0,0,0,0,0,0,0,0,null,1]
[0,1,0,1,0,0,0,1,0,0,0,0,0,0,0,0,1,0,0,null,1]
[0,1,1,0,0,0,0,0,1,0,0,0,0,0,0,0,0,0,0,null,1]
[0,1,1,0,0,0,0,1,0,0,0,0,0,0,0,0,1,0,0,null,1]
[0,1,0,1,0,0,0,0,0,0,0,0,0,0,0,0,0,0,0,null,1]
[0,1,1,0,0,0,0,0,0,0,0,0,0,0,0,0,0,0,0,null,1]
[0,0,1,0,0,0,0,0,1,0,0,0,0,0,0,0,0,0,0,null,1]
[0,1,1,0,1,0,0,0,1,0,0,0,0,0,0,0,0,0,0,null,1]
[0,1,1,0,0,0,0,0,0,0,0,0,0,0,0,0,0,0,0,null,1]
[0,1,1,0,0,0,0,0,0,0,0,0,0,1,0,0,0,1,0,null,1]
[0,1,1,0,0,0,0,0,0,0,0,0,0,0,0,0,0,0,0,null,1]
[1,0,1,0,0,0,0,0,0,0,0,0,0,1,0,0,0,0,0,null,1]
[0,1,0,0,0,0,0,0,1,0,0,0,0,0,0,0,0,0,1,null,1]
[0,1,1,0,0,0,0,0,1,0,0,0,0,0,0,0,0,0,0,null,1]
[1,0,1,0,0,0,0,0,1,0,0,0,0,0,0,0,0,1,0,null,1]
[0,1,1,0,0,0,0,0,0,0,0,1,0,0,0,0,0,0,0,null,1]
[0,1,0,1,0,0,0,0,0,0,0,0,0,0,0,0,0,0,0,null,1]
[0,1,1,0,1,0,0,0,0,0,0,0,0,0,0,0,0,0,0,null,1]
[1,0,0,1,0,0,0,0,0,0,0,0,0,0,0,0,0,0,0,null,1]
[0,1,1,0,0,0,0,0,0,0,1,0,0,0,0,0,1,0,0,null,1]
[1,0,0,1,0,0,0,0,1,0,0,0,0,0,0,0,0,0,0,null,1]
[0,1,0,1,0,0,0,0,0,0,0,0,0,0,0,0,0,0,1,null,1]
[1,0,1,0,0,0,0,0,0,0,0,1,0,0,0,0,0,0,0,null,1]
[0,1,0,0,0,0,0,1,1,0,0,0,0,1,0,1,0,0,0,null,1]
[1,0,1,0,0,0,0,0,0,0,0,0,0,0,0,0,0,0,0,null,1]
[0,1,1,0,0,0,0,0,0,0,1,0,0,0,0,0,1,0,0,null,1]
[1,0,1,0,0,0,0,0,0,0,0,0,0,0,0,0,0,0,0,null,1]
[1,0,0,1,0,0,0,0,0,0,0,0,0,0,0,0,0,0,1,null,0]
[0,1,1,0,0,0,0,0,0,0,0,0,0,0,0,0,1,0,0,null,0]
[1,0,0,1,0,1,0,0,0,0,0,0,0,0,0,0,0,0,0,null,0]
[1,0,0,1,0,1,0,0,0,0,0,0,0,0,0,0,0,0,0,null,0]
[0,1,0,0,0,1,0,0,0,0,0,0,0,0,0,0,0,0,0,null,0]
[1,0,0,1,0,0,1,0,0,0,0,0,0,0,0,0,1,0,1,null,0]
[1,0,1,0,0,0,0,0,0,0,0,0,0,0,0,0,0,0,0,null,0]
[1,0,0,1,0,1,0,0,0,0,0,0,0,0,0,0,0,0,0,null,0]
[0,1,0,1,0,0,0,0,0,0,0,0,0,0,0,0,0,0,0,null,0]
[1,0,1,0,0,0,0,0,0,0,0,0,0,0,0,0,0,0,0,null,0]
[0,1,0,1,0,1,0,0,0,0,0,0,0,0,0,0,0,0,1,null,0]
[1,0,1,0,0,0,0,0,0,0,0,0,0,0,0,0,0,0,0,null,0]
[1,0,1,0,0,0,0,0,0,0,0,0,0,0,1,0,0,0,0,null,0]
[1,0,1,0,0,0,0,0,0,0,0,0,0,0,0,0,0,1,0,null,0]
[1,0,1,0,0,0,0,0,0,0,0,0,0,0,0,0,0,0,0,null,0]
[1,0,1,0,0,0,1,0,0,0,0,1,0,0,0,0,0,0,0,null,0]
[0,1,1,0,0,0,0,0,0,0,0,0,0,0,0,0,0,1,0,null,0]
[0,1,0,0,0,1,1,0,0,0,0,0,0,0,1,0,0,0,0,null,0]
[0,1,0,1,0,0,0,0,0,0,0,0,0,0,0,0,0,0,0,null,0]
[1,0,1,0,0,0,1,0,0,0,0,0,0,0,0,0,0,1,0,null,0]
[0,1,1,0,0,0,0,0,0,0,0,0,0,0,0,0,0,0,0,null,0]
[0,1,0,1,0,1,0,0,0,0,0,0,0,0,0,0,0,0,0,null,0]
[1,0,0,1,0,0,1,0,0,0,0,0,0,0,0,0,0,0,0,null,0]
[0,1,1,0,0,0,0,0,0,0,0,0,0,0,0,0,0,0,0,null,0]
[0,1,0,1,0,0,0,0,0,0,0,0,0,0,0,0,1,0,0,null,0]
[0,1,0,1,0,0,1,0,0,0,0,0,0,0,0,0,0,1,0,null,0]
[0,1,0,1,0,0,0,0,0,0,0,0,0,0,1,0,0,1,0,null,0]
[1,0,0,1,0,0,0,0,0,0,0,0,0,0,0,0,1,0,0,null,0]
[1,0,1,0,0,0,1,0,0,0,0,0,0,0,0,0,0,0,0,null,0]
[1,0,1,0,0,0,0,0,0,0,0,0,0,0,0,0,0,0,0,null,0]
[0,1,0,1,0,0,0,0,0,0,0,0,0,0,0,0,0,0,0,null,0]
[1,0,0,1,0,0,0,0,0,0,0,0,0,0,0,0,0,1,0,null,0]
[0,1,0,1,0,0,1,0,1,0,0,0,0,0,0,0,0,0,0,null,0]
[1,0,1,0,0,0,0,0,0,0,0,0,0,0,0,0,0,0,0,null,0]
[0,1,1,0,0,1,0,0,0,0,0,0,0,0,0,0,0,1,0,null,0]
[0,1,0,1,0,0,0,0,0,0,0,0,0,0,1,0,0,0,0,null,0]
[0,1,1,0,0,0,1,0,0,0,0,0,0,0,0,0,0,0,1,null,0]
[1,0,0,1,0,0,0,0,0,0,0,0,0,0,1,0,0,0,0,null,0]
[0,0,0,1,0,0,1,0,0,0,0,0,0,0,0,0,0,0,0,null,0]
[0,1,0,1,0,1,0,0,0,0,0,0,0,0,1,0,1,0,0,null,0]
[0,1,1,0,0,0,0,0,0,0,0,0,0,0,0,0,0,0,0,null,0]
[1,0,1,0,0,1,0,0,0,0,0,0,0,0,0,0,0,1,0,null,0]
[0,1,1,0,0,0,0,0,0,0,0,0,0,0,0,0,0,0,0,null,0]
[0,1,1,0,0,0,1,0,0,0,0,0,0,0,0,0,0,1,0,null,0]
[1,0,0,1,0,1,0,0,0,0,0,0,0,0,0,0,0,0,0,null,0]
[1,0,0,0,0,0,0,0,0,0,0,0,0,0,0,0,0,0,0,null,0]
[1,0,0,1,0,1,0,0,0,0,0,0,0,0,0,0,0,1,0,null,0]
[0,0,0,1,0,0,0,0,0,0,0,0,0,1,0,0,0,0,1,null,0]
[1,0,0,0,0,1,0,0,0,0,0,0,0,0,0,0,0,0,0,null,0]
[0,1,0,1,0,0,0,0,0,0,0,0,0,0,0,0,0,0,0,null,0]
[0,1,0,1,0,0,1,0,0,0,0,0,0,0,0,0,0,0,0,null,0]
[0,1,0,1,0,0,0,0,0,0,0,0,0,1,0,0,0,0,0,null,0]
[0,0,1,0,0,0,0,0,0,0,0,0,0,0,0,0,0,1,0,null,0]
[0,1,1,0,0,0,0,0,0,0,0,0,0,0,0,0,0,0,0,null,0]
[1,0,1,0,0,1,1,0,1,0,0,0,0,0,0,0,0,0,0,null,0]
[1,0,1,0,0,0,1,0,0,0,0,0,0,0,0,0,0,0,0,null,0]
[1,0,0,0,0,0,0,0,0,0,0,0,0,0,0,0,0,1,0,null,0]
[1,0,1,0,0,0,0,0,0,0,0,0,0,0,0,0,0,0,0,null,0]
[0,1,0,1,0,0,0,0,0,0,0,0,0,0,0,0,1,0,0,null,0]
[1,0,0,0,0,1,0,0,0,0,0,0,0,0,1,0,0,0,0,null,0]
[0,0,1,0,0,0,1,0,0,0,0,0,0,0,0,0,0,0,0,null,0]
[0,1,0,1,0,0,1,0,0,0,0,0,0,0,1,0,0,0,0,null,0]
[0,1,1,0,0,0,0,0,0,0,0,0,0,0,0,0,0,1,0,null,0]
[1,0,1,0,0,0,1,0,0,0,1,0,0,0,0,0,0,0,0,null,0]
[1,0,0,0,0,0,1,0,0,0,0,0,0,0,0,0,0,0,0,null,0]
[1,0,1,0,0,0,0,0,0,0,0,0,0,0,1,0,0,0,0,null,0]
[1,0,1,0,0,0,0,0,0,0,0,0,0,0,0,0,0,0,0,null,0]
[0,1,1,0,0,0,0,0,0,0,0,0,0,0,0,1,0,0,0,null,0]
[0,1,1,0,0,0,0,0,0,0,0,0,0,0,0,0,0,0,0,null,0]
[0,1,1,0,0,0,0,0,0,0,0,0,0,0,0,0,0,0,0,null,0]
[0,1,0,1,0,0,0,0,0,0,0,0,0,0,0,0,0,0,0,null,0]
[0,1,0,0,0,0,0,0,0,0,0,0,0,0,0,0,0,0,0,null,0]
[1,0,1,0,0,1,0,0,0,0,0,0,0,0,0,0,0,0,0,null,0]
[0,1,0,1,0,0,0,0,0,0,0,0,0,0,0,0,0,1,0,null,0]
[1,0,1,0,0,0,0,0,0,0,0,0,0,0,0,0,0,0,0,null,0]
[0,0,1,0,0,0,0,0,0,0,0,0,0,0,0,0,0,0,0,null,0]
[0,1,1,0,0,0,0,0,0,0,0,0,0,0,1,0,0,0,0,null,0]
[1,0,0,0,0,0,0,0,0,0,0,0,0,0,0,0,0,0,0,null,0]
[0,1,1,0,0,0,1,0,0,0,0,0,0,0,0,0,0,0,0,null,0]
[1,0,1,0,0,1,0,0,0,0,0,0,0,0,0,0,1,0,0,null,0]
[0,1,0,1,0,0,1,0,0,0,0,0,0,0,0,0,0,1,0,null,0]
[0,1,1,0,0,1,0,0,0,0,0,0,0,0,0,0,1,0,1,null,0]
[1,0,1,0,0,0,0,0,0,0,0,0,0,0,1,1,0,0,0,null,0]
[0,1,1,0,0,0,0,0,0,0,0,0,0,0,0,0,0,0,0,null,0]
[0,1,0,0,0,1,0,0,0,0,0,0,0,0,0,0,0,0,0,null,0]
[0,1,0,1,0,1,0,0,0,0,0,0,0,0,0,0,0,1,0,null,0]
[1,0,1,0,0,1,0,0,0,0,0,0,0,0,0,0,0,0,0,null,0]
[1,0,1,0,0,0,0,0,0,0,0,0,0,0,0,0,0,0,0,null,0]
[0,1,1,0,0,0,0,0,0,0,0,0,0,0,0,0,0,0,0,null,0]
[0,1,0,1,0,0,0,1,0,0,0,0,0,0,0,0,1,0,0,null,0]
[0,1,0,1,0,1,0,0,0,0,0,0,0,0,0,0,0,0,0,null,0]
[0,1,0,1,0,1,1,0,0,0,0,0,0,0,0,0,0,0,0,null,0]
[1,0,0,1,0,1,0,0,0,0,0,0,0,0,0,0,0,0,0,null,0]
[0,1,1,0,0,0,0,0,0,0,0,0,0,0,0,0,0,0,0,null,0]
[1,0,1,0,0,0,0,0,0,0,0,0,0,0,0,0,0,0,0,null,0]
[1,0,1,0,0,0,0,0,0,0,0,0,0,0,0,0,0,0,0,null,0]
[0,1,1,0,0,0,0,0,0,0,0,0,0,0,1,0,0,0,0,null,0]
[0,1,0,1,0,0,0,0,0,0,0,0,0,0,0,0,0,0,0,null,0]
[0,1,1,0,0,0,0,0,0,0,0,0,0,0,0,0,0,0,0,null,0]
[1,0,0,1,0,0,0,0,0,0,0,0,0,0,0,0,0,0,0,null,0]
[1,0,0,1,0,0,0,0,0,0,0,0,0,0,0,0,0,0,0,null,0]
[0,1,1,0,0,1,0,0,0,0,0,0,0,0,0,0,0,1,0,null,0]
[0,1,0,1,0,1,0,0,0,0,0,0,0,0,0,0,0,0,0,null,0]
[1,0,0,1,0,0,0,0,0,0,0,0,0,0,0,0,0,0,0,null,0]
[0,1,1,0,0,0,0,0,0,0,0,0,0,0,0,0,0,0,0,null,0]
[1,0,0,0,0,1,0,0,0,0,0,0,0,0,0,0,0,0,0,null,0]
[1,0,1,0,0,0,0,0,0,0,0,0,0,0,0,0,0,0,0,null,0]
[1,0,0,1,0,0,1,0,1,0,0,0,1,0,0,1,0,0,0,null,0]
[0,1,1,0,0,1,0,0,0,0,0,0,0,0,0,0,0,0,0,null,0]
[1,0,1,0,0,0,0,0,0,0,0,0,0,0,0,0,0,0,0,null,0]
[1,0,0,1,0,1,0,0,0,0,0,0,0,0,0,0,0,1,0,null,0]
[0,1,1,0,0,0,0,0,0,0,0,0,0,0,0,0,0,0,0,null,0]
[0,1,0,1,0,0,1,0,0,0,0,0,0,0,0,0,0,0,0,null,0]
[1,0,1,0,0,1,0,0,0,0,0,0,0,0,0,0,0,1,0,null,0]
[1,0,0,0,0,1,0,0,1,0,0,0,0,0,0,0,0,0,0,null,0]
[0,1,0,1,0,1,0,0,0,0,0,0,0,0,1,0,0,0,0,null,0]
[0,1,0,1,0,0,0,0,0,0,0,0,0,0,1,0,0,0,0,null,0]
[1,0,0,1,0,1,0,0,0,0,0,0,0,0,0,0,0,0,0,null,0]
[0,1,1,0,0,0,0,0,0,0,0,0,0,0,0,0,0,0,0,null,0]
[1,0,1,0,0,1,0,0,0,0,0,0,0,0,0,0,0,0,0,null,0]
[0,1,1,0,0,0,1,0,0,0,0,0,0,0,0,0,0,1,0,null,0]
[0,1,0,1,0,1,0,0,0,0,0,0,0,0,0,0,0,0,0,null,0]
[0,1,0,1,0,0,0,0,0,0,0,0,0,0,0,0,0,0,0,null,0]
[1,0,0,1,0,0,0,0,0,0,0,0,0,0,1,0,0,1,0,null,0]
[0,1,0,1,0,0,0,0,0,0,0,0,0,0,0,0,0,1,0,null,0]
[1,0,0,0,0,1,0,0,0,0,0,0,0,0,1,0,1,0,0,null,0]
[0,1,0,0,0,0,0,0,0,0,0,0,0,0,0,0,0,1,0,null,0]
[1,0,0,1,0,0,1,0,0,0,0,0,0,0,0,0,0,1,0,null,0]
[1,0,0,1,0,0,0,0,0,0,0,0,0,1,0,0,0,0,0,null,0]
[0,1,0,1,0,0,1,0,0,0,0,0,0,0,0,0,0,0,0,null,0]
[1,0,0,1,0,1,0,0,0,0,0,0,0,0,0,0,0,0,0,null,0]
[1,0,1,0,0,0,0,0,0,0,0,0,0,0,0,0,0,0,0,null,0]
[1,0,1,0,0,0,1,0,0,0,0,0,0,0,0,0,0,0,0,null,0]
[1,0,1,0,0,0,0,0,0,0,0,0,0,0,1,0,0,0,0,null,0]
[1,0,0,1,0,1,0,0,0,0,0,0,0,0,0,0,0,0,0,null,0]
[0,1,1,0,0,0,0,0,0,0,0,0,0,0,0,0,0,0,0,null,0]
[1,0,1,0,0,0,0,0,0,0,0,0,0,0,0,0,0,0,0,null,0]
[1,0,1,0,0,0,0,0,0,0,0,0,0,0,0,0,0,0,0,null,0]
[1,0,1,0,0,0,0,0,0,0,0,0,0,0,0,0,0,0,0,null,0]
[0,1,0,1,0,0,0,0,0,0,0,0,1,0,0,0,0,0,0,null,0]
[0,1,1,0,0,0,0,0,0,0,0,0,0,0,0,0,0,1,0,null,0]
[1,0,0,1,0,0,0,0,0,0,0,0,0,0,0,0,0,1,0,null,0]
[1,0,0,1,0,0,1,0,0,0,0,0,0,0,0,0,0,1,0,null,0]
[0,1,1,0,0,1,0,0,0,0,0,0,0,0,0,0,0,0,0,null,0]
[0,1,1,0,0,0,0,0,0,0,0,0,0,0,0,0,0,0,0,null,0]
[1,0,0,1,0,1,0,0,0,0,0,0,0,0,0,0,0,0,0,null,0]
[1,0,1,0,0,0,0,0,0,0,0,0,0,0,1,0,0,1,0,null,0]
[1,0,1,0,0,0,1,0,1,0,0,0,0,0,1,0,0,0,0,null,0]
[1,0,1,0,0,0,1,0,0,0,0,0,0,0,0,0,0,0,0,null,0]
[1,0,0,1,0,1,0,0,0,0,0,0,0,0,0,0,0,0,0,null,0]
[0,1,0,0,0,0,0,0,0,0,0,0,0,0,0,0,0,0,0,null,0]
[0,1,1,0,0,0,0,0,0,0,0,0,0,0,1,0,0,1,0,null,0]
[1,0,0,1,0,0,0,0,0,0,0,0,0,0,0,0,0,1,0,null,0]
[0,1,1,0,0,0,0,1,0,0,0,0,0,0,0,0,0,0,0,null,0]
[0,1,0,1,0,0,0,0,0,0,0,0,0,1,0,0,0,1,0,null,0]
[0,1,1,0,0,0,0,0,0,0,0,0,0,0,0,0,0,1,0,null,0]
[1,0,1,0,0,0,1,0,0,0,0,0,0,0,0,0,0,0,0,null,0]
[0,1,1,0,0,0,1,0,0,0,0,0,0,0,0,0,0,0,0,null,0]
[1,0,1,0,0,0,0,0,0,0,0,0,0,0,0,0,0,1,0,null,0]
[1,0,0,1,0,1,0,0,0,0,0,0,0,0,0,0,0,0,0,null,0]
[1,0,1,0,0,1,0,0,0,0,0,0,0,0,0,0,0,1,0,null,0]
[1,0,0,1,0,0,0,0,0,0,0,0,0,0,0,0,0,0,0,null,0]
[0,1,0,0,0,0,0,0,0,0,0,0,0,0,0,0,0,0,0,null,0]
[1,0,1,0,0,0,1,0,0,0,0,0,0,0,0,0,0,0,0,null,0]
[0,1,1,0,0,0,0,0,0,0,0,0,0,0,1,0,0,1,0,null,0]
[1,0,1,0,0,0,0,0,0,0,0,0,0,0,0,0,0,1,0,null,0]
[0,0,0,1,0,1,0,0,0,0,0,0,0,0,0,0,0,0,0,null,0]
[0,0,0,1,0,0,0,0,0,0,0,0,0,0,0,0,0,0,0,null,0]
[0,0,0,0,0,1,1,0,0,0,0,0,0,0,0,0,1,0,0,null,0]
[1,0,1,0,0,0,1,0,0,0,0,0,0,0,0,0,0,1,0,null,0]
[1,0,1,0,0,0,0,0,0,0,0,0,0,0,1,0,0,0,0,null,0]
[0,1,1,0,0,0,0,0,0,0,0,0,0,0,0,0,0,0,0,null,0]
[0,1,1,0,0,0,0,0,0,0,0,0,0,0,0,0,0,0,0,null,0]
[0,1,1,0,0,0,0,0,0,0,0,0,0,0,0,0,0,1,0,null,0]
[0,1,1,0,0,0,1,0,0,0,0,0,0,0,0,0,0,0,0,null,0]
[0,0,0,1,0,0,0,0,0,0,0,0,0,0,0,0,0,0,0,null,0]
[0,1,0,1,0,0,0,0,0,0,0,0,0,0,0,0,0,0,0,null,0]
[0,1,0,1,0,0,0,0,0,0,0,0,0,0,0,0,0,1,0,null,0]
[1,0,0,1,0,0,0,0,0,0,0,0,0,0,0,0,0,0,0,null,0]
[0,1,1,0,0,0,0,0,0,0,0,0,0,0,0,0,0,0,0,null,0]
[0,1,1,0,0,0,0,0,0,0,0,0,0,0,0,0,0,0,0,null,0]
[1,0,0,1,0,1,1,0,1,0,0,0,0,0,0,0,1,0,0,null,0]
[0,1,1,0,0,0,1,0,1,0,0,0,0,0,1,0,0,0,0,null,0]
[1,0,0,1,0,0,0,0,0,0,0,0,0,0,0,0,0,0,0,null,0]
[0,0,1,0,0,1,0,0,0,0,0,0,0,0,0,0,0,0,0,null,0]
[0,1,0,0,0,0,0,0,0,0,0,0,0,0,0,0,0,0,0,null,0]
[1,0,1,0,0,0,0,0,0,0,0,0,0,0,1,0,0,0,0,null,0]
[1,0,0,1,0,1,1,0,0,0,0,0,0,0,0,0,0,0,1,null,0]
[1,0,1,0,0,0,1,0,0,0,0,0,0,0,0,0,0,0,0,null,0]
[0,1,1,0,0,1,0,0,1,0,0,0,0,0,0,0,0,0,0,null,0]
[0,1,1,0,0,0,0,0,0,0,0,0,0,0,0,0,0,1,0,null,0]
[0,1,0,1,0,0,0,0,0,0,0,0,0,0,0,0,0,0,0,null,0]
[0,1,1,0,0,1,1,0,0,0,0,0,0,0,1,0,0,0,0,null,0]
[0,1,1,0,0,0,0,0,0,0,0,0,0,0,0,0,0,0,0,null,0]
[0,0,0,1,0,0,0,0,0,0,0,0,0,1,0,0,0,0,0,null,0]
[0,1,1,0,0,0,1,0,0,0,0,0,0,0,1,0,0,0,0,null,0]
[1,0,1,0,0,0,1,0,0,0,0,0,0,0,1,0,0,0,0,null,0]
[0,1,1,0,0,0,1,0,0,0,0,0,0,0,0,0,0,0,0,null,0]
[1,0,1,0,0,0,1,0,0,0,0,0,0,0,0,0,0,0,0,null,0]
[1,0,1,0,0,0,0,0,0,0,0,0,0,0,0,0,0,0,0,null,0]
[0,1,0,1,0,0,1,0,0,0,0,0,0,1,0,0,0,0,0,null,0]
[0,1,0,1,0,0,1,0,0,0,0,0,0,0,0,0,0,0,0,null,0]
[1,0,0,1,0,0,0,0,0,0,0,0,0,0,0,0,0,1,0,null,0]
[0,1,0,1,0,0,1,0,0,0,0,0,0,0,0,0,0,1,1,null,0]
[0,1,0,1,0,0,0,0,0,0,0,0,0,0,0,0,0,0,0,null,0]
[1,0,0,1,0,0,0,0,0,0,0,0,0,0,1,0,0,0,0,null,0]
[0,0,1,0,0,0,0,0,0,0,0,0,0,0,0,0,0,0,0,null,0]
[1,0,0,0,0,0,0,0,0,0,0,0,0,0,0,0,1,0,0,null,0]
[0,0,0,1,0,1,0,0,0,0,0,0,0,0,1,0,0,0,0,null,0]
[1,0,0,0,0,0,0,0,0,0,0,0,0,0,0,0,0,1,0,null,0]
[0,0,1,0,0,0,1,0,0,0,0,0,0,0,0,0,0,0,0,null,0]
[0,1,0,0,0,0,0,0,0,0,0,0,0,0,0,0,0,0,0,null,0]
[0,1,0,1,0,0,0,0,0,0,0,0,0,0,0,0,0,0,0,null,0]
[1,0,1,0,0,1,0,0,0,0,0,0,0,1,0,0,0,0,0,null,0]
[0,1,0,1,0,0,0,0,0,0,0,0,0,0,0,0,0,0,0,null,0]
[0,1,0,1,0,0,0,0,0,0,0,0,0,0,0,0,0,0,0,null,0]
[1,0,0,1,0,0,0,0,0,0,0,0,0,0,0,0,0,1,0,null,0]
[0,1,0,1,0,1,1,0,0,0,0,0,0,0,0,0,0,0,0,null,0]
[0,1,1,0,0,0,0,0,0,0,0,0,0,0,1,0,0,1,0,null,0]
[0,1,0,1,0,0,1,0,0,0,0,0,0,0,0,0,0,1,0,null,0]
[0,0,1,0,0,0,0,0,0,0,0,0,0,0,0,0,0,0,0,null,0]
[0,1,0,1,0,0,0,0,1,0,0,0,0,0,0,0,0,0,0,null,0]
[1,0,0,1,0,1,1,0,0,0,0,0,0,0,0,0,0,0,0,null,0]
[1,0,0,1,0,1,1,0,0,0,0,0,0,0,1,0,0,0,0,null,0]
[1,0,1,0,0,0,0,0,0,0,0,0,0,0,0,0,0,0,0,null,0]
[1,0,0,1,0,1,0,0,0,0,0,0,0,0,0,0,0,1,0,null,0]
[0,1,0,1,0,0,0,0,0,0,0,0,0,0,0,0,0,0,0,null,0]
[0,1,0,0,0,1,0,0,0,0,0,0,0,0,0,0,0,0,0,null,0]
[0,1,1,0,0,0,0,0,0,0,0,0,0,0,1,0,0,0,0,null,0]
[1,0,0,1,0,1,1,0,0,0,0,0,0,0,0,0,0,0,0,null,0]
[1,0,0,1,0,1,0,0,0,0,0,0,0,0,0,0,0,0,0,null,0]
[0,1,1,0,0,1,1,0,0,0,0,0,0,0,0,0,0,0,0,null,0]
[0,1,1,0,0,0,1,0,0,0,0,0,0,0,0,0,0,0,0,null,0]
[0,1,0,1,0,0,1,0,0,0,0,0,0,0,0,0,0,0,0,null,0]
[0,1,1,0,0,0,0,0,0,0,0,0,0,0,0,0,0,0,0,null,0]
[0,1,1,0,0,0,0,0,0,0,0,0,0,0,0,0,0,0,0,null,0]
[0,0,0,1,0,0,1,0,0,0,0,0,0,0,0,0,0,0,0,null,0]
[1,0,0,1,0,0,1,0,0,0,0,0,0,0,0,0,0,0,0,null,0]
[1,0,0,1,0,1,0,0,1,0,0,0,0,0,0,0,0,0,0,null,0]
[1,0,0,1,0,0,1,0,0,0,0,0,0,0,1,0,0,1,0,null,0]
[0,1,1,0,0,0,0,0,0,0,0,0,0,0,1,0,0,0,0,null,0]
[1,0,1,0,0,0,0,0,0,0,0,1,0,0,1,0,0,0,0,null,0]
[0,1,0,1,0,0,0,0,0,0,0,0,0,0,0,0,0,0,0,null,0]
[0,1,0,0,0,0,1,0,0,0,0,0,0,0,0,0,1,0,1,null,0]
[0,1,1,0,0,0,0,0,0,0,0,0,0,0,0,0,0,1,0,null,0]
[1,0,0,1,0,1,1,0,0,0,0,0,0,0,0,0,0,0,0,null,0]
[1,0,0,1,0,0,0,0,0,0,0,0,0,0,0,0,0,0,0,null,0]
[1,0,1,0,0,0,0,0,0,0,0,0,0,0,0,0,0,0,0,null,0]
[1,0,0,0,0,0,0,0,0,0,0,0,0,0,0,0,0,0,0,null,0]
[0,1,0,1,0,0,1,0,0,0,0,0,0,0,0,0,0,1,0,null,0]
[0,1,0,1,0,0,1,0,0,0,1,0,0,0,0,0,0,1,0,null,0]
[0,1,1,0,0,1,1,0,0,0,0,0,0,0,0,0,0,0,0,null,0]
[1,0,1,0,0,1,0,0,0,0,0,0,0,0,0,0,0,0,0,null,0]
[0,1,0,1,0,1,0,0,0,0,0,0,0,0,0,0,0,1,0,null,0]
[0,0,0,1,0,1,0,0,0,0,0,0,0,0,0,0,0,0,0,null,0]
[0,1,0,0,0,0,0,0,0,0,0,0,0,0,0,0,0,0,0,null,0]
[0,1,0,1,0,0,0,0,0,0,0,1,0,0,0,0,0,1,0,null,0]
[0,0,1,0,0,0,0,0,0,0,0,0,0,0,0,0,0,0,0,null,0]
[1,0,0,1,0,0,0,0,0,0,0,0,0,0,1,0,0,0,0,null,0]
[1,0,0,1,0,0,1,0,0,0,0,0,1,0,0,0,0,0,0,null,0]
[1,0,1,0,0,0,0,0,0,0,0,0,0,0,0,0,0,1,0,null,0]
[1,0,1,0,0,0,0,0,0,0,0,0,0,0,0,0,0,0,0,null,0]
[1,0,1,0,0,0,0,0,0,0,0,0,0,0,0,0,0,1,0,null,0]
[0,1,0,1,0,0,0,0,0,0,0,0,0,0,0,0,0,0,0,null,0]
[0,0,1,0,0,0,0,0,0,0,0,0,0,0,0,0,0,0,0,null,0]
[1,0,0,1,0,0,0,0,0,0,0,0,0,0,0,0,0,0,0,null,0]
[0,1,1,0,0,0,1,0,0,0,0,0,0,0,0,0,0,0,0,null,0]
[1,0,0,0,0,1,0,0,0,0,0,0,0,0,0,0,0,0,0,null,0]
[0,1,1,0,0,1,0,0,0,0,0,0,0,0,0,0,0,0,0,null,0]
[1,0,1,0,0,0,1,0,0,0,0,0,0,0,0,0,0,1,0,null,0]
[1,0,1,0,0,0,1,0,0,0,0,0,0,0,0,0,0,0,0,null,0]
[0,1,0,0,0,0,0,0,0,0,0,0,0,0,0,0,0,0,0,null,0]
[1,0,0,1,0,0,0,0,0,0,0,0,0,0,0,0,0,0,0,null,0]
[1,0,0,1,0,0,0,0,0,0,0,0,0,0,0,0,0,1,0,null,0]
[1,0,0,1,0,0,0,0,0,0,0,0,0,0,1,0,0,0,1,null,0]
[0,1,1,0,0,0,0,0,0,0,0,0,0,0,0,0,0,0,0,null,0]
[0,1,1,0,0,1,0,0,0,0,1,0,0,0,0,0,0,0,0,null,0]
[0,0,0,1,0,0,0,0,0,0,0,0,0,0,1,0,0,0,0,null,0]
[0,1,1,0,0,0,1,0,0,0,0,0,0,0,0,0,0,1,0,null,0]
[0,1,1,0,0,1,0,0,0,0,0,0,0,0,0,0,0,1,0,null,0]
[0,1,1,0,0,1,0,0,0,0,0,0,0,0,0,0,0,0,0,null,0]
[0,1,0,1,0,0,0,0,0,0,0,0,0,0,1,0,1,0,0,null,0]
[1,0,1,0,0,0,0,0,0,0,0,1,0,0,1,0,0,0,0,null,0]
[1,0,1,0,0,0,0,0,0,0,0,0,0,0,0,0,0,1,0,null,0]
[0,1,1,0,0,0,0,0,0,0,0,0,0,1,0,0,0,0,0,null,0]
[0,1,1,0,0,0,0,0,0,0,0,0,0,0,0,0,0,0,0,null,0]
[0,1,1,0,0,0,0,0,0,0,0,0,0,0,0,0,0,1,0,null,0]
[0,1,0,1,0,0,0,0,0,0,0,0,0,0,0,0,0,0,0,null,0]
[1,0,1,0,0,0,0,0,0,0,0,0,0,0,0,0,0,0,0,null,0]
[1,0,0,1,0,0,0,0,0,0,0,0,0,0,0,0,0,0,0,null,0]
[0,0,1,0,0,0,0,0,0,0,0,0,0,0,0,0,0,0,0,null,0]
[0,1,0,1,0,0,0,0,0,0,0,0,0,0,0,0,1,0,0,null,0]
[0,1,1,0,0,1,0,0,0,0,0,0,0,0,0,0,0,0,0,null,0]
[1,0,0,1,0,0,1,0,0,0,0,0,0,0,0,0,0,0,0,null,0]
[0,0,0,1,0,1,0,0,0,0,0,0,0,0,0,0,0,0,0,null,0]
[0,1,1,0,0,1,0,0,0,0,0,0,0,0,1,0,0,0,1,null,0]
[0,1,0,1,1,0,0,0,0,0,0,0,0,0,1,0,0,0,0,null,0]
[1,0,0,1,1,1,0,0,0,0,0,0,0,0,0,0,0,0,0,null,0]
[1,0,0,1,0,0,0,0,0,0,0,1,0,0,0,0,0,0,0,null,0]
[1,0,1,0,0,0,0,0,0,0,0,0,0,0,0,0,0,0,0,null,0]
[0,1,1,0,0,0,0,0,0,0,0,0,0,0,1,0,0,0,0,null,0]
[1,0,1,0,0,0,0,0,0,0,0,0,0,0,0,0,0,0,0,null,0]
[1,0,1,0,0,0,0,0,0,0,0,0,0,1,0,0,0,0,0,null,0]
[0,0,1,0,0,1,1,0,0,0,0,0,0,0,0,0,0,0,0,null,0]
[1,0,1,0,0,1,0,0,0,0,0,0,0,0,0,0,0,0,0,null,0]
[0,1,0,0,0,0,0,0,0,0,0,0,0,0,0,0,0,0,0,null,0]
[1,0,1,0,0,0,0,0,0,0,0,0,0,0,0,0,0,0,0,null,0]
[0,0,0,1,0,0,0,0,0,0,0,0,0,0,1,0,1,0,0,null,0]
[0,1,0,1,0,0,0,0,0,0,0,0,0,0,0,0,0,0,0,null,0]
[1,0,0,1,0,0,0,0,0,0,0,0,0,0,0,0,0,0,0,null,0]
[1,0,0,0,0,1,0,0,0,0,0,0,0,0,1,0,0,1,0,null,0]
[0,1,0,0,0,1,0,0,0,0,0,0,0,0,0,0,0,0,0,null,0]
[0,0,1,0,0,0,0,0,0,0,0,0,0,0,0,0,0,0,0,null,0]
[1,0,1,0,0,0,1,0,0,0,0,1,0,0,1,0,0,0,0,null,0]
[0,1,1,0,0,0,0,0,0,0,0,0,0,0,0,0,0,0,0,null,0]
[1,0,1,0,0,0,0,0,0,0,0,0,0,1,0,0,0,0,0,null,0]
[1,0,0,1,0,0,0,0,0,0,0,0,0,0,0,0,0,0,0,null,0]
[1,0,1,0,0,0,0,0,0,0,0,0,0,0,0,0,0,0,0,null,0]
[1,0,1,0,0,0,0,0,0,0,0,0,0,1,0,0,0,0,0,null,0]
[0,1,1,0,0,1,0,0,0,0,0,0,0,0,0,0,0,0,0,null,0]
[1,0,1,0,0,0,0,0,0,0,0,0,0,0,0,0,1,0,0,null,0]
[0,1,0,1,0,0,0,0,0,0,0,0,0,0,0,0,0,0,0,null,0]
[0,1,1,0,0,0,0,0,0,0,0,0,0,1,0,0,0,1,0,null,0]
[0,1,0,1,0,1,0,0,0,0,0,0,0,0,0,0,0,0,0,null,0]
[1,0,1,0,0,1,0,0,0,0,0,0,0,0,0,0,0,1,0,null,0]
[0,1,0,1,0,0,0,0,0,0,0,0,0,0,0,0,0,0,0,null,0]
[0,1,1,0,0,0,0,0,0,0,0,0,0,0,0,0,0,0,0,null,0]
[1,0,1,0,0,0,0,0,0,0,0,0,0,0,0,0,0,0,0,null,0]
[1,0,0,1,0,1,0,0,0,0,0,0,0,0,0,0,0,0,0,null,0]
[0,1,0,1,0,0,0,0,0,0,0,0,0,0,0,0,0,0,0,null,0]
[0,1,0,1,0,0,0,0,0,0,0,0,0,0,0,0,0,1,0,null,0]
[0,0,0,1,0,0,1,0,0,0,0,0,0,0,0,0,0,1,0,null,0]
[0,1,0,1,0,0,0,0,0,0,0,0,0,0,1,0,0,0,0,null,0]
[1,0,1,0,0,1,1,0,0,0,0,0,0,0,0,0,0,0,0,null,0]
[0,0,1,0,0,1,0,0,0,0,0,0,0,1,0,0,0,0,0,null,0]
[1,0,1,0,0,0,0,0,0,0,0,0,0,0,0,0,0,0,0,null,0]
[1,0,1,0,0,0,1,0,0,0,0,0,0,0,0,0,0,0,0,null,0]
[0,1,1,0,0,1,0,0,0,0,0,0,0,0,0,0,0,0,1,null,0]
[0,1,0,1,0,1,0,0,0,0,0,0,0,0,0,1,0,0,0,null,0]
[0,0,1,0,0,0,0,0,0,0,0,0,0,0,0,0,0,0,0,null,0]
[0,1,1,0,0,0,1,0,0,0,0,0,0,0,0,0,0,0,0,null,0]
[1,0,1,0,0,0,0,0,0,0,0,0,0,0,0,0,0,0,0,null,0]
[0,0,0,0,0,0,0,0,1,0,0,0,0,0,0,0,0,1,0,null,0]
[1,0,0,1,0,0,0,0,0,0,0,0,0,0,0,0,0,0,0,null,0]
[1,0,0,1,0,1,1,0,0,0,0,0,0,0,0,0,0,0,0,null,0]
[1,0,1,0,0,0,0,0,0,0,0,0,0,0,0,0,0,0,0,null,0]
[0,1,1,0,0,0,1,0,0,0,0,0,0,0,1,0,0,1,1,null,0]
[0,1,0,1,0,0,1,0,0,0,0,0,0,0,1,0,0,0,0,null,0]
[0,1,0,1,0,1,0,0,0,0,0,0,0,0,0,0,0,0,0,null,0]
[1,0,0,1,0,0,1,0,0,0,0,0,0,0,0,0,0,0,0,null,0]
[1,0,1,0,0,0,0,0,0,0,0,0,0,0,0,0,0,0,0,null,0]
[0,1,1,0,0,0,0,0,0,0,0,0,0,1,0,0,0,0,1,null,0]
[1,0,0,1,0,0,0,0,0,0,0,0,0,0,1,0,0,0,0,null,0]
[0,1,0,1,0,0,0,0,0,0,0,0,0,0,0,0,0,0,0,null,0]
[1,0,1,0,0,0,0,0,0,0,0,1,0,0,0,0,0,0,0,null,0]
[0,1,1,0,0,0,0,0,0,0,0,0,0,0,1,0,0,0,1,null,0]
[1,0,0,1,0,0,0,0,0,0,0,0,0,0,0,0,0,0,0,null,0]
[1,0,0,1,0,0,0,0,0,0,0,0,0,0,1,0,0,1,0,null,0]
[0,1,0,1,1,0,0,0,0,0,0,0,0,0,0,0,0,0,0,null,0]
[1,0,0,1,0,0,0,0,0,0,0,0,0,0,1,0,0,0,0,null,0]
[1,0,0,1,0,1,0,0,0,0,0,0,0,0,0,0,0,1,0,null,0]
[1,0,0,1,0,0,0,0,0,0,0,0,0,0,0,0,0,0,1,null,0]
[1,0,0,1,0,0,0,0,0,0,0,0,0,0,1,0,0,1,0,null,0]
[1,0,0,1,0,0,0,0,0,0,0,0,0,0,0,0,0,1,0,null,0]
[1,0,1,0,0,0,0,0,0,0,0,0,0,0,0,0,0,0,0,null,0]
[1,0,1,0,0,0,0,0,0,0,0,0,0,0,0,0,0,0,0,null,0]
[0,1,1,0,0,0,0,0,0,0,0,0,0,0,1,0,0,1,0,null,0]
[1,0,1,0,0,1,0,0,0,0,0,0,1,0,0,0,0,1,0,null,0]
[0,1,1,0,0,0,0,0,0,0,0,0,0,0,0,0,0,0,0,null,0]
[0,1,0,1,0,0,0,0,0,0,0,0,0,0,0,0,0,0,0,null,0]
[0,1,0,0,0,1,0,0,0,0,0,0,0,0,0,1,0,0,0,null,0]
[0,0,0,1,0,0,0,0,0,0,0,0,0,0,0,0,0,1,0,null,0]
[0,1,0,1,0,0,0,0,0,0,0,0,0,0,0,0,0,1,0,null,0]
[1,0,1,0,0,1,1,0,0,0,0,0,0,0,0,0,0,0,0,null,0]
[0,1,1,0,0,0,1,0,0,0,0,0,0,0,0,0,0,0,0,null,0]
[0,1,0,1,0,0,0,0,0,0,0,0,0,0,1,0,0,1,0,null,0]
[0,1,0,1,1,0,0,0,0,0,1,0,0,0,0,0,0,0,0,null,0]
[0,1,1,0,0,0,0,0,0,0,0,0,0,0,0,0,0,1,0,null,0]
[0,1,0,1,0,0,0,0,0,0,0,0,0,0,0,0,0,0,0,null,0]
[1,0,0,1,0,0,0,0,0,0,0,0,0,0,0,0,0,0,0,null,0]
[0,1,0,1,0,1,0,0,0,0,0,0,0,0,0,0,0,0,0,null,0]
[0,1,1,0,0,0,1,0,0,0,0,0,0,0,0,0,0,0,0,null,0]
[0,1,1,0,0,1,0,0,0,0,0,0,0,0,0,0,0,0,0,null,0]
[0,1,1,0,0,0,0,0,0,0,0,0,0,0,0,0,0,0,0,null,0]
[0,1,1,0,0,0,0,0,0,0,0,0,0,0,0,0,0,0,0,null,0]
[1,0,0,1,0,0,0,0,0,0,0,0,0,0,0,1,0,1,0,null,0]
[1,0,0,1,0,0,0,0,0,0,0,0,0,1,0,0,0,0,0,null,0]
[0,1,1,0,0,0,1,0,0,0,0,0,0,0,0,0,0,1,0,null,0]
[1,0,1,0,0,0,0,0,0,0,0,0,0,0,0,0,1,0,0,null,0]
[0,1,1,0,0,0,1,0,0,0,0,0,0,0,0,0,0,1,0,null,0]
[0,1,0,1,0,1,0,0,0,0,0,0,0,0,1,0,0,0,0,null,0]
[0,1,0,1,0,1,1,0,0,0,0,0,0,0,0,0,0,1,0,null,0]
[1,0,1,0,0,0,1,0,0,0,0,0,0,0,1,0,0,0,0,null,0]
[0,0,0,1,0,0,1,0,0,0,0,0,0,0,0,0,0,0,0,null,0]
[0,0,1,0,0,0,0,0,0,0,0,0,0,0,1,0,0,0,0,null,0]
[1,0,0,0,0,1,0,0,0,0,0,0,0,0,0,0,0,0,0,null,0]
[1,0,0,1,0,0,0,0,0,0,0,0,0,0,0,0,0,0,0,null,0]
[0,1,0,1,0,0,0,0,0,0,0,0,0,0,0,0,0,0,0,null,0]
[0,1,0,1,0,0,0,0,0,0,0,0,0,0,0,0,0,0,0,null,0]
[0,1,1,0,0,0,0,0,0,0,0,0,0,0,0,0,0,1,1,null,0]
[0,0,1,0,0,1,1,0,0,0,0,0,0,0,0,0,0,0,0,null,0]
[1,0,1,0,0,1,0,0,0,0,0,0,0,0,0,0,0,0,0,null,0]
[0,1,0,1,0,0,0,0,0,0,0,0,0,0,0,0,0,0,0,null,0]
[0,1,0,1,0,0,0,0,0,0,0,0,0,0,0,0,0,0,0,null,0]
[1,0,1,0,0,1,1,0,0,0,0,1,0,0,0,0,0,0,0,null,0]
[1,0,0,1,0,1,0,0,1,0,0,0,0,0,0,0,0,0,0,null,0]
[1,0,0,1,0,0,1,0,0,0,0,0,0,0,0,0,0,0,0,null,0]
[0,1,0,1,0,0,0,0,0,0,0,0,0,0,0,0,0,0,0,null,0]
[0,1,1,0,0,0,0,0,0,0,0,0,0,0,0,0,0,0,0,null,0]
[1,0,1,0,0,0,0,0,0,0,0,0,0,0,0,0,0,0,0,null,0]
[1,0,1,0,0,0,0,0,0,0,0,0,0,0,1,0,0,0,0,null,0]
[0,1,0,0,0,0,0,0,0,0,0,0,0,0,0,0,0,1,0,null,0]
[0,1,0,1,0,1,0,0,0,0,0,0,0,0,0,0,0,0,0,null,0]
[1,0,1,0,0,0,1,0,0,0,0,0,0,0,0,0,0,0,0,null,0]
[0,0,1,0,0,0,0,0,0,0,0,0,0,0,0,0,0,1,0,null,0]
[1,0,1,0,0,0,1,0,0,0,0,0,0,0,0,0,0,0,1,null,0]
[1,0,1,0,0,0,0,0,0,0,0,0,0,0,0,0,0,0,0,null,0]
[1,0,1,0,0,0,1,0,0,0,0,0,0,0,0,0,0,0,0,null,0]
[1,0,1,0,0,1,0,0,0,0,0,0,0,0,0,0,0,0,0,null,0]
[1,0,0,1,0,1,0,0,0,0,0,0,0,0,1,0,0,0,0,null,0]
[1,0,0,0,0,0,1,0,0,0,0,0,0,0,1,0,0,1,0,null,0]
[1,0,0,1,0,0,0,0,0,0,0,0,0,0,0,0,0,1,0,null,0]
[1,0,1,0,0,0,0,0,0,0,0,0,0,0,0,0,0,0,0,null,0]
[0,1,0,1,0,0,0,0,0,0,0,0,0,0,0,0,0,1,0,null,0]
[0,0,0,1,1,0,0,0,1,0,0,0,0,0,0,0,0,0,0,null,0]
[1,0,0,1,0,0,0,0,0,0,0,1,0,0,0,0,0,0,0,null,0]
[1,0,1,0,0,0,1,0,0,0,0,0,0,0,1,0,0,0,0,null,0]
[1,0,0,1,0,0,1,0,0,0,0,0,0,1,0,0,0,0,1,null,0]
[0,1,0,1,0,0,0,0,0,0,0,0,0,0,0,0,0,0,0,null,0]
[1,0,0,0,0,1,0,0,0,0,0,0,0,0,0,0,0,0,0,null,0]
[0,1,0,1,0,0,0,0,0,0,0,0,0,0,0,0,0,0,0,null,0]
[0,0,1,0,0,1,0,0,0,0,0,0,0,0,0,0,0,1,0,null,0]
[0,1,0,0,0,0,0,0,1,0,0,0,0,0,0,0,0,0,0,null,0]
[0,1,1,0,0,0,1,0,0,0,0,1,0,0,0,0,0,1,0,null,0]
[0,1,0,1,0,0,0,0,0,0,0,0,0,0,0,0,0,0,0,null,0]
[0,1,0,0,0,1,0,0,0,0,0,0,0,0,0,0,0,0,0,null,0]
[1,0,0,1,0,0,0,0,0,0,0,0,0,0,1,0,0,0,0,null,0]
[1,0,0,0,0,0,1,0,0,0,0,1,0,0,0,0,0,0,0,null,0]
[1,0,0,1,0,0,1,0,0,0,0,0,0,0,1,0,0,0,0,null,0]
[1,0,0,1,0,0,0,0,0,0,0,0,0,0,0,0,0,0,0,null,0]
[1,0,1,0,0,1,0,0,0,0,0,0,0,0,0,0,0,0,0,null,0]
[1,0,0,1,0,0,0,0,0,0,0,0,0,0,0,0,0,0,0,null,0]
[1,0,0,1,0,0,0,0,0,0,0,0,0,0,0,0,0,1,0,null,0]
[0,1,0,1,0,0,0,0,0,0,0,0,0,0,0,0,0,0,0,null,0]
[0,1,0,1,0,1,0,0,0,0,0,0,0,0,1,0,0,0,0,null,0]
[0,1,0,1,0,0,1,0,0,0,0,0,0,0,0,0,1,0,0,null,0]
[1,0,1,0,0,0,0,0,0,1,0,0,0,0,0,0,0,1,0,null,0]
[0,0,1,0,1,1,0,0,0,0,0,0,0,0,0,0,0,0,0,null,0]
[0,1,0,1,0,0,1,0,0,0,0,0,0,0,0,0,0,0,0,null,0]
[1,0,1,0,0,0,0,0,0,0,0,0,0,0,0,0,0,0,0,null,0]
[0,1,1,0,0,1,0,0,0,0,0,0,0,0,1,0,0,1,0,null,0]
[0,0,1,0,0,1,0,0,0,0,0,0,0,0,0,0,0,1,0,null,0]
[1,0,0,1,0,0,0,0,0,0,0,0,0,0,0,0,0,0,0,null,0]
[1,0,0,1,0,0,0,0,0,0,0,0,0,0,1,0,0,0,0,null,0]
[1,0,1,0,0,1,0,0,0,0,0,0,0,0,1,0,0,0,0,null,0]
[0,1,1,0,0,1,1,0,0,0,0,0,0,0,0,0,0,0,0,null,0]
[1,0,1,0,0,0,1,0,0,0,0,0,0,0,0,0,0,1,0,null,0]
[0,1,0,1,0,0,1,0,0,0,0,0,0,0,1,0,0,0,0,null,0]
[0,0,1,0,0,0,0,0,0,0,0,0,0,0,0,0,0,0,0,null,0]
[0,0,1,0,0,0,0,0,0,0,0,0,0,0,0,0,0,0,0,null,0]
[1,0,1,0,0,0,0,0,0,0,0,0,0,0,0,0,0,1,0,null,0]
[0,1,0,0,0,0,0,0,0,0,0,0,0,0,0,0,0,0,0,null,0]
[0,1,1,0,0,1,0,0,0,0,0,0,0,0,0,0,0,0,0,null,0]
[0,1,0,0,0,0,0,0,0,0,0,0,0,0,0,0,0,0,0,null,0]
[0,1,0,1,0,0,0,0,0,0,0,0,0,0,1,0,0,0,0,null,0]
[1,0,1,0,0,0,0,0,0,0,0,0,0,0,0,0,0,0,0,null,0]
[0,0,1,0,0,0,0,0,0,0,0,0,0,0,0,0,0,0,0,null,0]
[0,1,0,1,0,1,0,0,0,0,0,0,0,0,1,0,0,1,0,null,0]
[1,0,0,1,0,0,1,0,0,0,0,0,0,0,0,0,0,0,0,null,0]
[1,0,1,0,0,0,1,0,0,0,0,0,0,0,0,0,0,1,0,null,0]
[0,1,0,0,0,0,1,0,0,0,0,0,0,0,0,0,1,0,0,null,0]
[1,0,0,1,0,0,0,0,0,0,0,0,0,0,0,0,0,0,0,null,0]
[0,1,1,0,0,0,0,0,0,0,0,0,0,0,0,1,0,0,0,null,0]
[0,1,1,0,0,0,0,0,0,0,0,0,0,0,0,0,0,0,0,null,0]
[0,1,0,1,0,1,0,0,0,0,0,0,0,0,1,0,0,0,0,null,0]
[1,0,1,0,0,0,0,0,0,0,0,0,0,0,0,0,0,0,0,null,0]
[0,1,1,0,0,0,0,0,0,0,0,0,0,0,0,0,0,1,0,null,0]
[0,0,0,1,0,0,0,0,0,0,0,0,0,0,0,0,0,1,0,null,0]
[0,0,1,0,0,0,0,0,0,0,0,0,0,0,0,0,0,0,0,null,0]
[1,0,0,1,0,0,0,0,0,0,0,0,1,1,0,0,0,0,0,null,0]
[0,1,1,0,0,0,0,0,0,0,0,0,0,0,0,0,1,0,0,null,0]
[1,0,0,0,0,1,0,0,0,0,0,0,0,0,1,0,0,1,0,null,0]
[0,1,0,0,0,0,0,0,0,0,0,0,0,0,0,0,0,0,0,null,0]
[0,1,0,1,0,0,0,0,0,0,0,0,0,0,0,0,1,0,0,null,0]
[1,0,0,1,0,0,0,0,0,0,0,0,0,0,0,0,0,0,0,null,0]
[0,1,0,1,0,0,0,0,0,0,0,0,0,0,0,0,0,0,0,null,0]
[1,0,0,1,0,0,0,0,0,0,0,0,0,0,0,0,0,0,0,null,0]
[0,1,1,0,0,0,0,0,0,0,0,0,0,0,0,0,1,0,0,null,0]
[1,0,1,0,0,0,0,0,0,0,0,0,0,0,0,0,0,1,0,null,0]
[1,0,1,0,0,0,1,0,0,0,0,0,0,0,0,0,0,0,0,null,0]
[0,1,0,1,0,1,0,0,1,0,0,0,0,0,0,0,0,0,0,null,0]
[0,0,0,0,0,1,1,0,1,0,0,0,0,0,1,0,0,1,0,null,0]
[0,0,1,0,0,0,0,0,0,0,0,1,0,0,0,0,0,0,0,null,0]
[1,0,1,0,0,0,0,0,0,0,0,0,0,0,0,0,0,0,0,null,0]
[1,0,1,0,0,0,1,0,0,0,0,0,1,0,0,0,0,0,0,null,0]
[1,0,0,1,0,0,0,0,0,0,0,0,0,0,0,0,0,0,0,null,0]
[0,1,0,1,0,0,0,0,0,0,0,0,0,0,0,0,0,0,0,null,0]
[1,0,1,0,0,0,1,0,0,0,0,0,0,0,0,0,0,0,0,null,0]
[0,0,1,0,0,0,0,0,0,0,0,0,0,0,0,0,0,0,0,null,0]
[1,0,0,1,0,0,0,0,0,0,0,1,0,0,0,0,0,0,1,null,0]
[null,null,null,null,null,null,null,null,null,null,null,null,null,null,null,null,null,null,null,null,{"$f":"SUBTOTAL(2,U3:U1002)","v":1000}]

{"sheet":"Рис. 4 и 5","index":1,"n_rows":1002,"n_cols":22,"rows_kept":1002,"cut":false,"hidden":false,"merged":[]}
[{"$f":"RAND()","v":0.44036334903387142},0.15139649118981935,0.45993610158218223,4.8698686735005992E-2,0.75548698489416832,0.90465928429045572,0.35034213404921277,0.99051098588729802,0.20944656895322744,0.44298381583305946,0.88561676052146643,0.83430418464426082,0.35575720814605838,0.16361144902661928,0.49343424618454312,0.8084610047900106,0.31911927450820943,0.58057203941632096,0.35068497192058212]
[7,6,11,0,3,10,17,2,12,18,1,14,13,8,5,4,15,9,16,null,"PREGNANT","RANDOM"]
[0,0,0,1,0,0,0,1,0,0,0,0,0,0,0,0,0,0,0,null,0,{"$f":"RAND()","v":0.89137833299805125}]
[0,0,0,1,0,0,0,1,0,0,0,0,0,1,0,0,0,0,0,null,1,0.9597330381396858]
[1,0,0,1,1,0,0,0,0,0,0,0,0,1,0,0,0,0,0,null,1,0.29308341362031931]
[0,0,0,0,1,0,0,0,0,0,1,0,0,0,0,0,0,0,0,null,0,0.43321292020521196]
[1,0,1,0,0,0,0,1,0,0,1,0,0,0,0,0,0,0,0,null,1,0.15071213872628209]
[0,0,0,0,0,0,0,0,0,0,1,0,1,0,0,0,0,0,0,null,1,0.16732228685928385]
[0,0,0,1,1,0,0,0,0,0,0,0,0,0,0,0,0,0,0,null,0,2.2991337188852823E-2]
[0,0,0,0,0,0,0,1,0,0,1,0,0,0,0,0,0,0,0,null,1,0.28970825892241137]
[1,0,1,0,0,0,1,1,0,1,1,0,0,0,0,0,0,0,0,null,1,0.79097421455450134]
[0,0,0,1,1,0,1,0,0,0,0,1,0,0,0,0,0,0,0,null,0,0.61960525596742222]
[1,0,0,1,0,0,1,1,0,1,0,0,1,1,0,0,0,0,0,null,1,0.38723162564656466]
[0,0,0,0,0,0,1,1,0,0,1,1,0,0,1,0,0,0,0,null,0,0.98651047122086477]
[0,0,0,1,0,0,1,1,0,0,0,0,0,0,1,0,0,0,0,null,0,0.29849655800296993]
[0,0,1,0,0,0,0,1,0,0,0,0,0,0,0,0,0,0,0,null,0,0.53992954542733984]
[0,0,0,0,0,0,0,1,0,0,1,0,0,0,0,1,0,0,0,null,1,0.89087524912003779]
[0,0,1,0,0,0,0,1,0,1,1,0,0,0,0,0,0,1,0,null,1,6.6172374601100037E-2]
[0,0,0,0,1,0,0,0,0,1,1,0,0,0,0,0,0,0,0,null,1,0.21926819171083101]
[0,0,0,0,1,0,0,0,0,0,1,0,0,0,0,0,0,0,0,null,1,0.60746065958465811]
[0,0,0,1,0,0,1,0,0,0,0,0,1,1,0,0,0,0,0,null,1,0.16837926353221822]
[0,0,0,0,1,0,1,0,0,0,1,0,0,0,0,0,0,0,0,null,1,7.3119479248040409E-2]
[0,0,0,1,0,0,1,1,0,0,0,1,0,0,0,0,0,0,0,null,0,0.45479006258217547]
[0,0,0,0,1,0,0,0,0,0,1,0,0,0,0,0,0,0,0,null,0,0.3933066980480151]
[0,0,0,0,1,0,0,0,0,1,0,0,1,0,0,0,0,0,0,null,0,0.33492289480793791]
[0,1,0,1,1,0,0,0,0,0,0,0,0,0,1,0,0,0,0,null,0,0.60019824709605196]
[0,0,0,0,0,0,0,1,0,0,1,0,0,0,0,0,0,0,1,null,1,7.0814812448393161E-3]
[0,0,0,1,1,0,0,0,0,0,0,0,1,1,0,0,0,0,1,null,1,0.32295423515939359]
[0,0,0,1,0,0,0,1,0,0,0,0,0,0,0,0,0,0,0,null,0,1.0976920061512407E-2]
[1,0,0,0,0,0,0,1,0,0,0,0,0,0,0,0,0,0,0,null,1,0.13561695225190462]
[0,0,0,0,0,0,0,1,0,0,0,0,0,0,0,0,0,0,0,null,0,0.60489108855560947]
[0,0,1,1,1,0,0,0,0,1,0,0,0,0,0,0,1,0,0,null,1,0.76925861883969682]
[0,0,0,0,0,0,0,1,0,0,1,0,0,0,1,0,0,0,0,null,0,0.49315995146004121]
[0,0,0,0,1,0,0,0,0,1,1,0,0,0,1,0,0,0,0,null,0,3.6513401674476365E-2]
[0,0,0,0,1,0,0,0,1,0,0,0,0,0,0,0,0,0,0,null,1,0.18592041039492968]
[0,0,0,0,0,0,0,1,0,0,1,0,0,1,0,0,0,0,0,null,1,0.75439852804650198]
[0,0,0,1,1,0,1,0,0,0,0,0,0,0,1,0,0,0,0,null,0,0.49347715164540962]
[0,0,0,0,0,0,0,1,0,0,0,0,0,0,0,0,0,0,0,null,0,0.74979706509456479]
[0,0,0,1,0,0,0,1,0,0,0,0,0,0,0,0,0,0,0,null,1,0.81606489342230704]
[0,0,0,1,1,0,1,0,0,0,0,0,0,0,0,0,0,0,0,null,0,0.52250508407669849]
[0,0,0,0,1,0,0,0,0,0,1,0,0,0,0,0,0,0,0,null,1,0.90131359373643438]
[0,0,0,0,0,0,0,1,0,0,1,0,0,0,0,0,0,0,0,null,0,0.55108010378924932]
[0,0,0,0,1,0,0,0,0,0,1,0,0,0,0,0,0,0,0,null,1,9.658181839488067E-2]
[0,0,0,0,0,0,0,1,0,0,1,0,0,0,1,0,0,0,0,null,1,0.58749849082377958]
[0,0,0,0,1,0,0,0,0,0,0,0,0,0,0,0,0,0,1,null,1,0.53298861837309019]
[1,0,1,0,0,0,0,1,0,0,1,0,0,0,0,0,0,0,1,null,1,0.29733593412405313]
[0,0,0,1,1,0,1,0,0,0,0,0,0,0,1,0,0,0,0,null,0,0.69358658577509702]
[0,0,0,1,0,0,1,1,0,0,0,0,0,1,0,0,0,0,0,null,1,0.40406505806554094]
[0,0,0,0,0,0,0,0,0,0,1,0,0,0,0,0,0,0,0,null,0,2.1912155191175509E-2]
[0,0,0,1,1,0,0,0,0,0,0,0,0,0,0,0,0,0,0,null,1,0.93279076380819292]
[0,1,0,0,1,0,1,0,0,0,1,0,0,0,0,0,0,0,0,null,0,0.3348373198121859]
[0,1,0,1,0,0,1,1,0,0,0,0,0,0,0,0,0,0,0,null,0,0.94608258444516824]
[0,0,0,0,1,0,0,0,0,0,1,0,0,0,0,0,0,0,0,null,1,0.98466922154748726]
[0,0,0,1,1,0,1,0,0,0,0,0,0,0,0,0,0,0,0,null,0,0.76053696381322144]
[0,0,0,0,1,0,0,0,0,0,1,0,0,0,0,0,0,0,0,null,0,4.7984672532141004E-2]
[0,0,1,0,0,0,0,0,0,1,0,0,0,0,0,0,0,0,0,null,1,0.69160527054736787]
[0,1,0,1,0,0,0,1,0,0,0,0,0,0,0,0,0,0,0,null,0,9.4574352460706446E-2]
[1,0,0,0,0,0,0,0,0,0,1,0,0,0,0,0,1,0,1,null,1,0.24785831378766299]
[0,0,0,1,1,0,0,0,0,0,0,0,0,0,0,0,0,0,0,null,0,0.23008374289632749]
[1,0,0,0,0,0,0,0,0,1,1,0,0,0,0,0,0,0,0,null,1,0.42047855680193091]
[0,0,0,0,1,0,0,0,0,0,1,0,0,0,0,0,0,0,0,null,0,0.95470509002964232]
[0,0,0,0,0,0,0,1,0,1,1,0,0,0,1,0,0,0,1,null,0,0.47389763119105388]
[0,0,1,0,0,0,0,1,0,0,1,0,0,1,0,0,0,0,0,null,1,0.16328035881887126]
[1,0,0,1,0,0,0,0,0,0,0,0,0,1,1,0,0,0,0,null,1,0.83582278788594788]
[0,0,0,0,1,0,0,0,0,0,1,1,0,0,0,0,0,0,0,null,0,0.44944110513054203]
[0,0,0,0,0,0,0,1,0,0,0,0,0,0,0,0,0,0,0,null,0,0.38445336970673172]
[0,0,0,1,1,0,0,0,0,0,0,1,0,0,0,0,0,0,0,null,0,{"$f":"RAND()","v":0.96585905842491193}]
[0,1,0,0,0,0,1,1,0,0,1,0,0,0,0,0,0,0,0,null,0,0.3684525998580358]
[0,0,0,0,0,0,1,1,0,0,1,1,0,0,0,0,0,0,0,null,0,0.49288183758100346]
[0,0,0,0,0,0,0,1,0,0,1,0,0,1,0,0,0,0,0,null,1,0.15309372278986588]
[0,0,0,0,0,0,0,1,0,0,0,0,0,0,0,0,0,0,1,null,1,0.38980481424948565]
[0,0,0,0,1,0,0,0,0,0,1,0,0,0,0,0,0,0,0,null,0,0.51981696642654018]
[0,0,0,0,0,0,0,0,0,0,1,0,0,0,0,0,0,0,0,null,0,0.41134632073092803]
[0,0,0,0,0,0,0,0,0,1,1,0,0,1,0,0,0,0,0,null,1,0.5352804362667144]
[0,0,1,0,0,0,0,1,0,0,0,0,0,0,1,0,0,0,0,null,1,0.57111822071928875]
[0,0,0,1,0,0,0,1,0,0,0,0,0,0,0,0,0,0,0,null,1,0.84310381056424177]
[0,0,0,1,0,0,0,1,0,0,0,0,0,0,0,0,0,0,0,null,0,8.8191079902087077E-2]
[0,0,0,1,1,0,0,0,0,1,0,0,0,0,0,0,0,0,1,null,1,0.54540507311952757]
[1,0,0,0,1,0,0,0,0,0,0,0,0,0,0,0,0,0,0,null,1,0.80975088468063938]
[0,0,0,0,1,0,0,0,0,0,1,0,1,0,0,0,0,0,1,null,1,0.37653524519197679]
[0,0,0,1,0,0,0,0,0,0,0,0,0,0,0,0,0,0,0,null,0,5.2493059616667503E-2]
[1,0,0,1,0,0,0,1,0,0,0,0,0,0,0,0,0,0,0,null,1,0.87071479930332285]
[0,0,0,1,1,0,0,0,0,0,0,0,0,1,0,0,0,0,0,null,1,0.99066323202334694]
[0,0,0,1,1,0,0,0,0,0,0,0,0,0,0,0,0,0,0,null,0,0.38267788953078863]
[1,0,0,0,1,0,0,0,0,0,1,0,0,0,0,0,0,0,0,null,1,0.99928720695340689]
[0,0,0,0,0,0,0,1,0,0,1,0,0,0,0,0,0,0,0,null,1,0.14131211332631954]
[0,0,0,1,1,0,1,0,0,0,0,0,0,0,0,0,0,0,0,null,0,0.34329198877352196]
[0,0,0,1,1,0,0,0,0,0,0,0,0,0,0,0,0,0,0,null,1,0.84875669466910408]
[0,0,0,1,1,0,0,0,0,0,0,0,1,0,0,0,0,0,0,null,0,5.9882416851484876E-2]
[0,1,0,1,0,0,0,0,0,1,0,0,0,0,1,1,1,0,0,null,1,0.1889308877592748]
[1,0,0,0,1,0,0,0,0,0,1,0,0,0,0,0,0,0,0,null,1,0.58081483465092576]
[0,0,0,1,0,0,1,1,0,0,0,0,0,0,0,0,0,0,0,null,0,0.43574943255142629]
[0,0,0,1,1,0,0,0,0,1,0,0,0,1,0,0,0,0,1,null,1,0.96986390803975409]
[0,0,0,0,0,0,0,1,0,0,1,0,0,0,0,0,0,0,0,null,1,0.48490567185504696]
[0,1,0,0,0,0,0,1,0,0,1,0,0,0,0,0,0,0,0,null,0,0.18955564932001057]
[0,0,0,0,1,0,0,0,0,0,1,0,0,1,0,0,0,0,0,null,0,0.45859465647662045]
[0,0,0,0,0,0,1,1,0,0,0,0,0,0,0,0,0,0,0,null,0,0.67101268368816869]
[0,0,0,0,0,0,0,1,0,0,0,0,0,0,0,0,0,0,0,null,0,0.37066750976054363]
[0,0,0,0,1,0,0,0,0,1,0,0,1,0,0,1,1,0,1,null,1,0.57247991591096881]
[0,0,0,1,0,0,0,1,0,0,0,0,0,0,1,0,0,0,0,null,0,0.29795511715414125]
[0,0,0,0,0,0,0,1,0,0,1,0,0,0,0,0,0,0,1,null,1,0.88035705584029322]
[0,0,0,1,0,0,0,1,0,0,0,0,0,0,0,0,1,0,1,null,1,0.50075221712133333]
[0,1,0,0,1,0,0,0,0,0,1,0,0,0,0,0,0,0,1,null,0,0.91705571948582731]
[0,0,0,1,0,0,0,1,0,0,0,0,0,0,0,0,0,0,0,null,0,0.44272036118136926]
[0,0,0,0,0,0,0,1,0,0,1,0,0,0,0,0,0,0,0,null,0,5.919399487186372E-2]
[0,0,0,0,1,0,0,0,0,0,1,0,0,1,1,0,0,0,0,null,0,3.6338014052174517E-2]
[0,0,0,1,1,0,0,0,0,1,0,0,1,1,0,1,0,0,1,null,1,0.12612053440919491]
[0,1,0,1,0,0,0,1,0,0,0,0,0,0,0,1,0,1,0,null,1,0.85523067090099814]
[0,1,0,0,0,0,0,1,0,0,1,1,0,0,0,0,1,0,1,null,1,0.94955973773936397]
[0,0,0,0,0,0,0,1,0,0,1,1,0,0,0,0,0,0,0,null,0,1.240869797279931E-2]
[0,0,0,0,1,0,0,0,0,0,1,1,0,0,0,0,0,0,1,null,1,2.6700811067373875E-3]
[0,0,0,0,1,0,1,0,0,0,0,0,0,0,0,0,0,0,0,null,0,0.28916603088680926]
[0,0,0,1,0,0,0,1,0,0,0,0,0,0,0,0,0,1,0,null,1,0.27714453953343199]
[0,0,0,0,1,0,0,0,0,0,1,0,0,0,0,0,0,0,0,null,1,0.71599291972781343]
[0,0,0,0,0,0,0,1,0,1,1,1,0,0,0,0,1,0,0,null,1,0.34391410921612764]
[0,0,0,0,0,1,0,1,0,1,0,0,0,0,0,0,0,0,0,null,1,0.43426766191956068]
[0,0,0,0,0,0,0,1,0,0,1,0,0,0,0,1,0,0,0,null,1,0.77613934800847417]
[0,0,0,1,1,0,0,0,0,0,0,1,0,0,0,0,0,0,0,null,0,0.4762807019010008]
[0,0,0,1,0,0,0,1,0,0,0,0,0,0,0,0,0,0,0,null,0,0.76815573163962647]
[0,0,1,0,0,0,0,1,0,0,1,0,1,1,0,0,0,0,0,null,1,0.39686980483023837]
[0,0,0,0,0,0,0,1,0,0,0,0,0,0,0,0,0,0,0,null,0,0.30954750709630197]
[0,1,0,0,0,0,0,1,0,0,1,0,0,1,0,0,0,0,1,null,1,0.45218634631718624]
[0,0,0,0,0,0,0,1,0,0,1,0,0,0,0,0,1,0,0,null,1,0.35660670479395473]
[0,0,0,1,1,0,0,0,1,1,0,0,1,1,0,0,0,0,1,null,1,0.34335294646238679]
[0,0,1,1,1,0,0,0,0,0,0,0,0,0,0,0,0,0,0,null,0,0.23852007686038035]
[0,0,0,0,0,0,1,1,0,0,1,0,0,0,0,0,0,0,0,null,0,0.67733078635505417]
[0,0,0,1,0,0,0,0,0,0,0,0,0,0,1,0,0,0,0,null,0,0.67747309771963937]
[0,0,1,1,0,0,0,0,0,0,0,0,0,0,0,0,0,0,1,null,1,0.92180712920862962]
[0,1,0,0,0,0,0,1,0,0,1,0,0,0,1,0,0,0,0,null,0,0.14257116893317823]
[0,0,0,0,0,0,0,0,0,0,1,0,0,0,0,0,0,0,0,null,0,0.90012099962757242]
[0,0,0,0,1,0,0,0,0,0,1,0,0,0,0,0,0,0,0,null,0,{"$f":"RAND()","v":0.44739913661403008}]
[0,0,0,0,0,0,0,1,0,0,1,0,0,0,0,0,0,0,1,null,1,0.13805322177137758]
[0,1,0,1,1,0,0,0,0,0,0,1,0,0,0,0,0,0,0,null,0,4.6291820729998712E-2]
[1,1,0,0,1,0,0,0,0,0,1,0,0,0,0,1,0,1,0,null,1,5.3031321339563231E-2]
[1,0,0,1,0,0,0,1,0,1,0,0,0,0,0,1,1,0,0,null,1,0.73047820784598239]
[1,0,0,1,1,0,0,0,0,1,0,0,0,1,0,0,0,0,1,null,1,0.78213138441103536]
[0,0,0,0,0,0,0,1,0,0,1,1,0,0,0,1,0,0,0,null,1,3.3452031355434175E-2]
[0,0,0,1,0,0,1,1,0,0,0,0,0,0,1,0,0,0,0,null,0,0.5120649607381581]
[0,0,0,0,0,0,0,1,0,0,1,0,0,0,0,1,0,0,0,null,1,0.62007127366072123]
[0,0,0,0,0,0,1,1,0,0,1,0,0,0,1,0,0,0,0,null,0,0.32412837871106037]
[0,0,0,0,0,0,0,1,0,0,1,0,0,0,1,0,0,0,0,null,0,0.96147668037411094]
[1,0,0,1,1,0,0,0,0,0,0,0,1,0,0,0,0,0,0,null,1,0.2279664739999826]
[0,0,0,0,1,0,0,0,0,0,0,0,0,0,1,0,0,0,0,null,0,0.55990142249220887]
[0,0,0,0,1,0,0,0,0,0,1,0,0,0,0,0,0,0,0,null,0,0.66557153551324277]
[0,0,0,0,0,1,0,1,0,0,1,0,0,0,0,0,0,1,0,null,1,0.1761871356459509]
[0,0,0,1,0,0,0,1,0,0,0,0,0,0,0,0,0,0,0,null,1,8.9630636975098321E-2]
[0,1,0,0,1,0,0,0,0,0,1,0,0,0,0,0,0,0,0,null,0,0.99944851633202136]
[0,1,0,1,1,0,0,0,0,0,0,0,0,0,0,0,0,0,0,null,0,0.28845375757833025]
[0,0,0,1,1,0,0,0,0,0,0,0,0,0,0,0,0,0,0,null,1,0.92906905385593186]
[0,0,0,1,0,0,0,1,0,0,0,0,0,0,0,0,0,0,0,null,0,0.7448793145198036]
[1,0,0,0,0,0,0,1,1,1,1,0,0,0,0,1,0,0,0,null,1,0.42492906330009972]
[0,0,0,0,0,0,0,1,0,0,1,0,0,0,0,0,0,0,0,null,0,0.60465488626236064]
[0,0,0,1,0,0,0,1,0,0,0,0,0,0,0,0,0,0,0,null,0,0.45089264577326982]
[0,1,0,0,0,0,0,1,0,0,1,1,0,0,1,0,0,0,0,null,0,0.42430234249626342]
[0,0,0,1,0,0,1,1,0,0,0,0,0,0,0,0,0,0,0,null,0,0.23271260308281994]
[0,0,0,1,0,0,1,1,0,0,0,0,0,0,0,0,0,0,0,null,0,0.55713571331186218]
[0,0,0,0,0,1,0,1,0,0,1,0,0,0,0,0,0,0,1,null,1,0.74000538744850852]
[0,1,0,0,1,0,0,0,0,0,1,0,0,0,1,0,0,0,0,null,0,0.95757914575588488]
[1,0,0,0,0,0,0,1,0,0,0,0,0,1,0,1,0,0,0,null,1,0.80621716229284013]
[0,0,0,0,0,0,0,1,0,0,1,0,0,0,0,0,0,0,0,null,0,0.91816782150012644]
[0,0,0,0,1,1,0,0,0,0,1,0,0,0,0,1,0,0,0,null,0,0.85833591416708355]
[1,0,1,0,1,0,0,0,0,0,1,0,1,1,0,1,0,0,0,null,1,0.16028393380413519]
[0,0,0,0,1,0,0,0,0,0,1,0,0,0,1,0,0,0,0,null,0,0.58736371511809116]
[0,0,0,0,0,0,1,1,0,0,0,0,0,0,1,0,0,0,0,null,0,0.3693075435073444]
[0,0,0,0,1,0,0,0,0,0,1,0,0,1,0,0,0,0,0,null,1,0.9819400556439255]
[0,0,0,1,1,0,0,0,0,1,0,0,1,0,0,0,0,0,0,null,1,0.73300230806322109]
[0,0,0,0,0,0,0,1,0,1,1,0,0,0,0,0,0,0,0,null,1,0.55176209822768796]
[0,1,0,0,1,0,0,0,0,0,1,0,0,0,0,0,0,0,0,null,0,0.6748195360215502]
[0,0,0,1,0,0,0,1,0,0,0,1,0,0,0,0,0,0,0,null,0,0.44212215505130648]
[0,0,0,0,1,0,0,0,0,0,0,1,0,0,0,0,0,0,1,null,0,0.2854526357987911]
[0,0,0,1,1,0,1,0,0,0,0,0,0,0,0,0,0,0,0,null,1,0.19696189703398226]
[0,0,0,1,1,0,0,0,0,0,0,0,0,0,0,0,0,0,0,null,0,0.23878092399923012]
[0,0,1,1,0,0,0,1,0,0,0,0,0,0,0,0,0,0,0,null,1,0.29671959221087751]
[0,0,0,0,1,0,0,0,0,0,1,0,0,1,0,0,0,0,0,null,1,9.6992119203315519E-2]
[0,0,0,0,0,0,0,1,0,0,1,0,0,0,1,0,0,0,0,null,0,0.89608238339849777]
[0,0,0,0,1,0,0,0,0,0,1,0,0,0,0,0,0,0,0,null,1,0.73034229218849411]
[0,0,0,1,1,0,0,0,0,0,0,0,0,0,1,0,0,0,0,null,0,8.2303734420200447E-2]
[0,1,0,1,0,0,0,1,0,0,0,0,0,0,0,0,0,0,0,null,0,0.29524953052949177]
[0,0,1,1,1,0,0,0,0,0,0,0,0,0,0,0,0,0,0,null,0,0.20741277215799636]
[0,0,0,0,0,0,0,1,0,0,1,1,0,0,0,0,0,0,0,null,0,0.96603522451187362]
[1,0,0,1,0,0,0,1,0,1,0,0,0,0,0,1,0,0,0,null,1,0.17507111584651858]
[0,0,0,0,0,0,0,1,0,1,1,0,1,0,0,0,0,0,0,null,1,0.24021403642710626]
[0,0,0,0,1,0,0,0,0,1,1,0,0,0,0,0,0,0,0,null,1,0.97069073468087519]
[0,1,0,0,1,0,0,0,0,0,0,0,0,0,0,0,0,0,0,null,1,0.76774289149916042]
[0,0,0,0,0,0,0,1,0,0,1,1,0,0,0,0,0,0,0,null,0,0.76769228680045665]
[0,0,0,0,1,0,0,0,0,0,1,0,0,0,1,0,0,0,0,null,1,0.73947149096492093]
[0,0,0,0,0,0,1,1,0,0,1,0,1,0,0,0,0,0,0,null,1,0.74027281700125236]
[0,0,0,1,0,0,0,0,0,0,0,1,0,0,1,0,0,0,1,null,0,0.67782814526003621]
[0,0,0,1,1,0,0,0,0,0,0,0,0,0,0,0,0,0,0,null,0,0.96920286829982316]
[0,0,0,0,1,0,0,0,0,0,1,1,0,0,0,0,0,0,0,null,0,0.3194178668544313]
[0,1,0,1,0,0,1,1,0,0,0,0,0,0,0,0,0,0,0,null,0,0.48206388965109948]
[0,0,0,0,0,0,0,1,0,1,1,0,0,0,0,0,0,0,0,null,1,3.5252700283559979E-2]
[0,0,0,1,1,0,1,0,0,0,0,0,0,0,0,0,1,0,0,null,0,0.46291136613168482]
[1,0,0,1,1,0,0,0,0,0,0,0,1,1,0,0,0,0,0,null,1,0.3603326939131194]
[1,0,0,0,0,0,0,0,0,0,1,0,0,0,0,0,0,0,0,null,1,{"$f":"RAND()","v":0.471848413074204}]
[0,0,1,0,0,0,0,1,0,0,1,0,1,0,0,0,0,0,0,null,1,6.9427587507722821E-2]
[0,0,0,0,0,0,1,1,0,0,1,0,0,0,0,0,0,0,0,null,0,0.64960243924651995]
[0,1,0,0,0,0,0,1,0,1,1,0,0,1,0,0,0,0,0,null,1,6.160859489827808E-2]
[0,0,0,0,1,0,0,0,0,0,1,0,0,0,1,0,1,0,0,null,0,0.34061630640622653]
[0,0,0,1,0,0,0,1,0,0,0,0,0,0,1,0,0,0,0,null,0,0.18876490200580109]
[0,0,0,1,1,0,0,0,0,0,0,0,0,0,0,0,0,0,0,null,0,0.11970186164429897]
[1,0,0,0,1,0,0,0,0,0,1,0,0,0,0,0,0,0,0,null,1,0.24540555647226325]
[0,0,0,1,1,0,0,0,0,0,0,0,0,1,1,0,0,0,0,null,0,0.29814742047548271]
[0,0,0,0,1,0,0,0,0,1,1,0,0,0,0,0,0,0,0,null,1,0.94932555960116782]
[0,0,0,1,0,0,1,1,0,0,0,0,0,0,0,0,0,0,0,null,0,0.63773544835465645]
[0,0,0,0,1,0,0,0,0,1,1,0,0,0,0,0,0,0,0,null,1,0.99061398247076371]
[0,0,0,1,0,0,0,1,0,0,0,0,0,0,0,0,0,0,1,null,0,0.10444357893462819]
[0,0,0,0,0,0,0,1,0,0,1,0,0,0,1,0,0,0,1,null,1,0.52016461138983139]
[0,1,0,0,1,0,0,0,0,0,1,0,0,0,0,0,0,0,0,null,0,0.52902285065257992]
[0,0,0,1,1,0,0,0,0,0,0,0,0,0,0,0,0,0,0,null,0,5.6768615864118188E-2]
[0,0,0,1,0,0,0,1,0,0,0,0,0,0,0,0,0,0,0,null,0,0.34746622348914269]
[0,0,0,0,1,0,0,0,0,0,1,0,0,0,0,0,0,0,1,null,1,0.28514947992439643]
[0,1,0,0,1,0,0,0,0,0,1,1,0,0,0,0,0,0,0,null,0,0.61767523021004522]
[0,1,0,1,0,0,0,1,0,0,0,0,0,1,1,0,0,0,0,null,0,0.60456387930095667]
[0,1,0,0,0,0,1,0,0,0,0,1,0,1,1,0,0,0,0,null,0,7.6828131482463813E-2]
[0,0,0,0,1,0,0,0,0,0,1,0,0,0,0,0,0,0,0,null,1,0.74219857278428147]
[0,1,0,1,1,0,0,0,0,0,0,0,0,0,1,0,0,0,0,null,0,0.85923556733949658]
[0,0,0,1,1,0,0,0,0,0,0,0,0,0,1,0,0,0,0,null,0,8.8447721189938822E-2]
[0,1,0,0,1,0,0,0,0,0,1,0,0,1,0,0,0,0,0,null,0,1.2611662417770231E-2]
[0,0,0,1,1,0,0,0,0,0,0,0,0,1,0,0,0,0,0,null,1,0.74448742564372306]
[0,0,0,1,0,0,0,1,0,0,0,0,0,0,0,0,0,0,0,null,0,0.25246200863196833]
[0,0,0,1,0,0,0,1,0,0,0,0,1,0,0,0,0,0,0,null,1,0.28921061944027782]
[0,0,0,0,1,0,0,0,0,0,1,1,0,0,1,0,0,0,0,null,0,0.64626557263092166]
[0,0,0,0,0,0,0,1,0,1,1,0,0,1,0,1,0,0,0,null,1,0.35275834514886251]
[1,0,0,1,0,0,0,1,0,0,0,0,0,1,1,0,0,0,0,null,1,0.96687500211637145]
[0,0,0,0,1,0,0,0,0,0,1,0,0,0,0,0,0,0,0,null,1,7.2678787470130679E-3]
[0,0,0,0,1,0,0,0,0,1,1,0,0,0,0,0,1,1,0,null,1,5.0887891654826434E-2]
[0,0,0,0,0,0,0,1,0,0,1,0,0,0,0,0,0,0,0,null,1,0.38147180728503538]
[0,0,0,1,0,0,0,1,0,0,0,0,0,0,0,0,0,0,0,null,0,0.43709535309794456]
[0,0,1,0,1,0,0,0,0,0,1,0,0,0,1,0,0,0,0,null,1,0.46333075700578852]
[0,0,0,0,1,0,0,0,0,0,1,0,0,1,0,0,0,0,0,null,1,0.84135867869904513]
[0,0,0,0,0,0,0,1,0,0,0,0,1,0,0,0,1,0,1,null,1,0.3736590255098019]
[0,1,0,0,1,0,1,0,0,0,1,0,0,0,0,0,0,0,0,null,0,0.37192841405500843]
[0,1,0,0,0,0,0,1,0,0,1,0,0,0,0,0,0,0,0,null,1,0.43190607686136606]
[0,0,0,0,1,0,0,0,0,0,0,0,0,0,0,1,1,0,1,null,1,0.43212935570937794]
[0,0,1,1,0,0,0,1,0,1,0,0,0,0,0,0,0,0,0,null,1,0.65709163979173923]
[0,0,0,0,0,0,0,1,0,1,1,0,0,0,0,0,0,0,0,null,1,0.59502521058933044]
[0,0,0,1,1,0,0,0,0,0,0,0,0,0,0,0,0,0,0,null,0,0.41242579646471411]
[0,0,0,0,0,0,0,1,0,0,1,0,0,0,0,0,0,0,0,null,1,0.71903872398656787]
[0,0,0,0,1,0,1,0,0,0,1,0,0,0,0,0,0,0,0,null,0,0.43039606803334141]
[0,0,0,0,0,0,0,1,0,0,1,0,0,0,1,0,0,0,0,null,0,0.76017971718324973]
[1,0,0,0,0,0,0,1,1,0,1,0,0,0,0,0,0,0,0,null,1,0.39548235594528147]
[0,1,0,0,0,0,1,1,0,0,1,0,0,0,0,0,0,0,0,null,0,0.2148864407294413]
[0,0,0,0,0,0,0,1,0,0,0,0,0,0,0,0,0,0,0,null,1,0.58569598437653503]
[0,0,0,1,0,0,0,1,0,0,0,0,0,0,0,0,0,0,0,null,1,1.9394487564585505E-2]
[0,0,0,0,0,0,0,1,0,0,1,0,0,0,0,0,0,0,0,null,0,0.4040404710108173]
[0,0,0,0,1,0,0,0,0,0,1,0,0,0,0,0,0,0,0,null,0,4.3747056465779144E-2]
[0,1,0,1,0,0,0,1,0,0,0,0,0,0,0,0,0,0,0,null,0,0.85326713107811003]
[0,0,0,0,0,0,1,0,0,0,1,0,0,0,0,0,0,0,0,null,0,2.1680848469061265E-2]
[1,1,0,1,0,0,0,1,0,0,0,0,0,0,0,0,0,0,0,null,1,0.25407739869519386]
[0,1,0,1,0,1,0,1,0,1,0,0,0,0,0,0,0,0,0,null,1,0.86062024941151327]
[0,0,0,0,1,0,0,0,0,0,1,0,0,0,1,0,0,0,0,null,0,0.82896125920798458]
[0,0,0,1,1,0,0,0,0,0,0,0,0,0,0,0,0,0,0,null,0,7.3039973261172841E-2]
[0,0,0,0,1,0,0,0,0,0,1,0,0,0,0,0,0,0,0,null,0,0.44399198019329167]
[0,0,0,0,0,0,0,1,0,0,1,0,0,0,0,0,0,0,0,null,0,2.8614404568172325E-2]
[0,0,0,0,1,0,0,0,0,0,1,1,0,0,1,0,0,0,0,null,0,0.8371248160863638]
[0,0,0,0,0,0,0,1,0,0,1,0,0,0,0,0,0,0,1,null,1,6.2068570450868554E-2]
[0,0,0,1,1,0,0,0,0,0,0,0,0,0,0,0,0,0,0,null,0,1.8099186739865325E-2]
[0,0,0,1,0,0,0,1,0,0,0,0,0,1,0,1,0,0,0,null,1,{"$f":"RAND()","v":0.55845376060454543}]
[0,0,0,1,1,0,0,0,0,0,0,0,0,1,1,0,0,0,0,null,0,0.63990167492102368]
[0,1,0,1,0,0,0,1,0,0,0,0,0,0,0,0,0,0,0,null,0,4.5655813332043382E-2]
[0,0,0,0,1,0,0,0,0,0,1,0,0,0,0,0,0,0,0,null,0,0.76928773610071266]
[0,0,0,1,1,0,0,0,0,1,0,0,0,0,0,0,0,0,0,null,1,0.95821538793795968]
[1,0,0,0,0,0,0,1,0,1,1,0,0,0,0,0,0,0,0,null,1,0.29352817475417126]
[0,0,0,0,1,0,0,0,0,0,1,0,0,0,0,0,0,0,0,null,0,0.70608017495285014]
[0,0,0,0,1,0,0,0,0,0,1,1,0,0,0,0,0,0,1,null,0,0.13729862870686249]
[0,0,0,1,1,0,0,0,0,0,0,0,0,0,1,0,0,0,0,null,0,0.42135620665642559]
[0,0,0,1,1,0,0,0,0,0,0,0,0,0,1,0,0,0,0,null,0,0.54003224260039739]
[0,1,0,0,1,1,1,0,0,0,1,0,0,0,0,0,0,0,0,null,0,0.8347744543984823]
[0,1,0,0,1,0,0,0,0,0,1,0,0,0,1,0,0,0,0,null,0,0.86074021163475312]
[0,0,0,0,0,0,0,1,0,0,1,0,0,0,0,0,0,0,0,null,1,0.83364912975341809]
[0,0,0,1,1,0,0,0,0,0,0,0,1,0,0,0,0,0,0,null,1,0.95337668406882625]
[0,0,0,0,0,0,1,1,0,0,1,0,0,0,0,1,0,0,0,null,1,0.9361648567236055]
[0,0,0,0,0,0,0,1,0,1,1,0,0,1,1,1,1,0,0,null,1,0.61136760521193145]
[0,0,0,0,1,0,0,0,0,0,1,1,0,0,0,0,0,0,0,null,0,0.53373654640547274]
[0,0,0,0,0,0,0,1,0,0,1,0,1,0,0,0,0,0,0,null,1,0.19847347692045714]
[0,0,0,0,1,0,0,0,0,0,0,0,0,0,0,0,0,0,1,null,1,0.28395478828543863]
[0,0,0,0,1,0,0,0,0,0,1,0,0,1,0,0,0,0,0,null,1,0.94139772862677085]
[0,0,0,0,0,0,0,1,0,0,1,0,0,0,0,0,0,0,0,null,0,0.36035500142312971]
[0,1,0,0,1,0,0,0,0,0,1,0,0,0,0,0,0,0,0,null,0,0.38402124955674588]
[0,0,0,1,0,0,0,1,0,0,0,0,0,0,0,0,0,0,0,null,0,0.54191697742012712]
[1,0,0,0,0,0,0,1,0,0,1,0,1,0,0,0,0,0,0,null,1,0.15592974933432413]
[0,0,0,1,0,0,0,1,0,0,0,0,0,1,0,0,0,0,0,null,1,0.9884101925731642]
[0,0,0,0,1,0,1,0,0,0,1,0,1,0,0,0,0,0,0,null,0,0.99710637142737257]
[0,0,0,0,0,0,0,1,0,0,1,0,0,0,0,0,0,0,1,null,0,0.26817106930810641]
[0,0,0,0,1,0,0,0,0,0,0,0,1,0,0,0,0,0,0,null,1,0.52682886691874431]
[0,0,0,1,1,0,0,0,0,0,0,0,0,0,0,0,0,0,0,null,0,0.78757933229331678]
[0,0,0,1,0,0,0,1,0,0,0,0,0,0,1,0,0,0,0,null,0,0.86952337513384059]
[0,0,0,1,0,0,1,1,0,1,0,0,0,0,0,0,1,0,0,null,1,0.53954711476090988]
[0,1,0,0,1,0,0,0,0,0,1,0,0,0,0,0,0,0,0,null,0,0.24458246161428454]
[0,0,0,0,1,0,0,0,0,0,1,0,0,0,0,0,1,0,0,null,1,0.49613832593176932]
[0,0,0,0,1,0,0,0,0,0,1,0,0,0,0,0,0,0,0,null,1,0.66447475778599652]
[1,0,0,0,1,0,0,0,0,0,1,0,0,1,0,0,0,0,0,null,1,0.52304269865771835]
[0,0,0,0,1,0,0,0,0,0,1,0,0,1,0,0,0,0,0,null,1,0.989474417851536]
[0,1,0,0,1,0,0,0,0,0,1,0,1,0,0,0,0,0,0,null,1,0.2876767296970858]
[0,0,0,0,1,0,0,0,0,0,1,0,0,0,0,0,0,0,1,null,0,0.13164692042621007]
[0,1,0,1,1,0,0,0,0,0,0,0,0,0,1,0,0,0,0,null,0,0.1788661419362918]
[0,0,0,1,0,0,1,0,0,0,0,1,0,0,1,0,0,0,0,null,0,0.28421410876807129]
[1,0,0,0,1,0,0,0,0,0,1,0,0,0,0,0,1,0,0,null,1,0.26371897421685941]
[0,0,0,1,0,0,0,0,0,0,0,0,0,0,0,0,0,0,0,null,1,7.6294961013421481E-2]
[1,0,0,0,0,0,0,1,0,0,1,0,0,0,0,0,0,0,1,null,1,0.88999598845961869]
[0,0,0,0,1,0,1,0,0,0,1,0,1,1,0,1,0,0,0,null,1,4.968199669856066E-3]
[0,0,0,0,0,0,0,1,0,1,1,1,0,0,1,0,0,0,0,null,0,0.12737984905258848]
[0,0,0,1,1,0,0,0,0,0,0,0,0,0,0,0,0,0,1,null,1,0.80026040718485392]
[0,0,1,0,0,0,0,0,0,0,1,0,0,0,1,1,1,0,0,null,1,0.75530689705351794]
[0,0,0,0,1,0,0,0,0,0,1,0,0,0,0,0,0,0,0,null,0,0.2949352132354266]
[1,0,0,0,0,0,0,1,0,0,1,1,0,1,0,0,0,0,0,null,1,0.3002136287444036]
[0,0,0,1,0,0,0,1,0,0,0,0,0,0,0,0,0,0,0,null,1,4.4624427018254753E-2]
[0,0,0,0,1,0,0,0,0,0,0,0,0,0,0,1,0,0,0,null,1,0.61437546743768068]
[1,0,0,0,0,0,0,1,0,0,0,0,0,0,0,0,0,0,0,null,1,0.57195373737664612]
[0,0,0,0,0,0,0,1,0,0,1,0,0,0,0,1,1,0,0,null,1,0.46830288115203522]
[0,0,1,0,0,0,0,1,0,0,1,0,0,0,0,0,0,0,0,null,1,0.5633456379337507]
[0,0,0,0,1,0,0,0,0,0,1,0,0,0,0,0,0,0,0,null,0,0.57497030618510292]
[0,0,0,0,0,0,0,0,0,0,0,0,0,0,0,0,0,0,0,null,1,0.86556512476246272]
[1,0,0,0,0,0,0,0,0,0,1,0,0,0,0,0,0,0,0,null,1,0.56354900857503709]
[0,0,1,0,1,0,0,0,0,0,1,0,0,0,1,0,0,0,0,null,1,0.39212235962482911]
[1,0,0,0,1,0,0,0,0,0,1,0,0,0,0,0,0,0,1,null,0,0.77921281005748066]
[0,0,0,1,1,0,0,0,0,0,0,0,0,0,0,0,0,0,0,null,1,0.83972116715959]
[0,0,0,0,1,0,0,0,0,0,1,1,0,0,1,0,0,0,1,null,0,0.1153973884142907]
[0,0,0,1,0,0,0,1,0,0,0,0,1,0,0,1,0,0,1,null,1,0.46095517572044931]
[0,0,0,0,0,0,1,1,0,0,1,0,0,0,0,0,0,0,0,null,0,0.69845583913408982]
[1,0,0,0,0,0,0,0,0,0,1,0,1,1,0,0,1,0,0,null,1,0.61323657856402958]
[0,1,0,1,1,0,1,0,0,0,0,1,0,0,0,0,0,0,0,null,0,{"$f":"RAND()","v":0.19633984258654813}]
[0,0,0,1,0,0,0,1,0,0,0,0,0,0,0,0,0,0,0,null,1,0.76195725886207688]
[0,0,0,1,1,0,0,0,0,0,0,0,0,0,0,0,0,0,0,null,0,0.65959783498756042]
[0,0,0,0,0,0,1,1,0,0,0,0,0,0,0,0,0,0,0,null,1,0.84269110791950363]
[0,0,0,1,1,0,0,0,1,0,0,1,0,0,0,0,0,0,0,null,1,0.59141364710210453]
[0,0,0,1,0,0,0,1,0,1,0,0,0,0,0,0,0,0,0,null,1,0.95829703294834623]
[0,0,0,0,1,0,0,0,0,0,1,0,0,1,0,0,0,0,0,null,1,0.84388436178593174]
[0,0,0,0,0,0,0,1,0,0,1,0,0,0,0,0,1,0,0,null,1,0.32378511454186465]
[0,0,0,0,0,0,0,1,0,0,0,0,0,1,0,0,0,0,0,null,1,0.82247932510490596]
[0,0,0,0,0,0,0,1,0,0,1,0,0,0,0,0,0,0,0,null,0,8.0127408785274024E-2]
[0,0,0,0,0,0,0,1,1,0,1,0,0,1,0,0,0,0,1,null,1,0.51877388465376728]
[0,0,0,1,0,0,0,1,0,0,0,0,0,0,0,0,0,0,0,null,0,0.55646110876035304]
[0,0,0,0,1,0,0,0,0,0,1,0,0,0,1,0,0,0,0,null,0,0.95281252664773719]
[0,1,0,1,0,0,0,1,0,0,0,0,0,0,0,0,0,0,0,null,0,0.24202724647885676]
[0,0,0,0,0,0,0,1,0,0,0,0,0,0,0,0,0,0,0,null,0,0.92231283915131745]
[0,0,0,0,1,0,1,0,0,0,1,0,0,1,0,0,0,0,0,null,1,0.23165572609741958]
[0,0,0,1,0,0,1,1,0,1,0,1,0,1,0,0,0,0,0,null,1,0.13565735172051607]
[0,0,0,0,1,0,1,0,0,0,1,1,0,0,0,0,0,0,0,null,0,0.78206511780238563]
[0,1,0,1,1,0,1,0,0,0,0,0,0,0,0,0,0,0,0,null,0,0.82736432580887198]
[0,0,0,0,0,0,0,0,1,0,1,0,0,1,0,0,0,0,1,null,1,0.2695454825291409]
[0,1,1,1,0,0,0,0,0,0,0,0,0,0,0,0,0,0,0,null,0,5.7547930226323096E-2]
[0,0,0,1,1,0,0,0,0,0,0,0,0,0,0,0,0,0,0,null,1,0.94902712706436232]
[0,0,0,0,1,0,0,0,0,0,1,1,0,0,1,0,0,0,0,null,0,0.6688596605091468]
[0,0,0,0,0,0,0,1,0,0,1,0,0,1,0,0,0,0,1,null,1,0.99173409159287917]
[0,0,0,0,1,0,0,0,0,0,0,0,0,0,0,0,0,0,0,null,0,0.49221412955423172]
[0,0,0,1,0,0,0,1,0,0,0,0,0,0,0,0,0,0,0,null,0,2.6124659420666996E-2]
[0,0,0,1,1,0,0,0,0,0,0,0,0,0,0,0,0,0,1,null,1,0.40528821990524644]
[0,0,0,0,0,0,0,1,0,0,1,0,1,1,0,0,0,0,0,null,1,0.5560225087139018]
[0,0,0,0,0,0,0,1,0,0,1,0,0,0,0,0,0,0,0,null,0,0.32113998920455689]
[0,0,0,0,0,0,0,1,0,0,1,0,1,1,0,0,0,0,0,null,1,0.10004888282956825]
[0,0,0,0,0,0,0,1,1,0,1,0,1,1,0,0,0,0,0,null,1,0.28004894281114201]
[0,0,0,0,0,0,0,1,0,0,1,0,0,0,0,0,0,0,0,null,1,0.86146586678025883]
[0,0,0,1,0,0,0,1,0,0,0,0,0,0,0,0,1,0,0,null,1,0.13701273006840864]
[0,1,0,1,1,0,0,0,0,0,0,0,0,0,0,0,0,0,0,null,1,0.57717512351652844]
[1,0,0,1,0,0,0,1,0,0,0,0,0,0,0,0,0,0,0,null,1,0.56329715007347125]
[0,0,0,0,0,0,0,1,0,0,1,0,0,0,0,0,0,0,0,null,0,0.95034558002327518]
[0,0,0,0,1,0,0,0,1,0,1,0,0,0,0,0,0,0,0,null,1,0.25077902004873553]
[0,0,1,0,1,0,0,0,0,0,1,0,0,0,0,0,0,0,1,null,1,0.39089836105147657]
[0,0,0,0,0,0,1,1,0,0,0,0,0,0,0,0,0,0,0,null,0,0.24202749408028201]
[0,1,0,1,0,0,1,0,0,0,0,1,0,0,0,0,0,0,0,null,0,0.15479941590587643]
[0,0,0,0,0,1,0,1,0,1,1,0,1,1,0,0,0,0,0,null,1,4.1605602847988421E-2]
[0,0,0,0,0,0,0,1,0,1,0,0,0,0,0,0,0,0,0,null,1,0.22770888166214798]
[0,0,0,0,1,0,0,0,0,0,1,0,0,0,0,0,0,0,0,null,1,1.3813064798354424E-2]
[0,0,0,0,0,0,0,1,0,0,0,0,1,0,1,0,0,0,0,null,0,0.38436473906373148]
[0,0,0,0,1,0,0,0,0,0,1,0,0,0,0,0,0,0,0,null,0,0.33901448109554333]
[0,0,0,1,0,0,1,1,0,0,0,0,0,0,0,0,0,0,0,null,0,6.1515432212895682E-2]
[0,0,0,1,0,0,0,1,0,1,0,0,0,1,0,1,1,0,0,null,1,0.95181478701048761]
[0,0,0,0,1,0,0,0,0,0,1,1,0,0,1,0,0,0,0,null,0,0.37439003423662132]
[0,0,1,0,1,0,0,0,0,0,1,0,0,0,0,0,0,0,0,null,1,0.68562552971693003]
[0,0,0,1,0,0,0,1,0,0,0,0,1,0,0,0,0,0,0,null,1,2.0922385447476488E-2]
[0,0,0,0,0,0,0,0,0,0,1,0,0,0,0,0,0,0,0,null,0,0.95041098573456029]
[0,0,0,1,0,0,0,1,0,0,0,0,0,1,0,1,1,0,1,null,1,0.53048387112906636]
[0,0,0,0,1,0,0,0,0,1,1,1,0,0,0,0,0,0,0,null,1,4.2260284618064303E-2]
[0,0,0,1,0,0,0,1,0,0,0,0,0,0,0,0,0,0,0,null,0,6.0982612968757066E-2]
[0,0,0,1,0,0,0,1,1,0,0,0,0,0,0,0,0,1,0,null,1,0.18357623160591974]
[0,1,0,0,1,0,1,0,0,1,1,0,0,0,0,0,0,0,0,null,0,0.19624247847417631]
[0,1,0,0,0,0,0,0,0,0,1,0,0,0,0,0,0,0,1,null,0,0.29358084897436953]
[0,0,0,1,1,0,0,0,0,0,0,0,0,0,1,0,0,0,0,null,0,0.44858883796592264]
[0,0,0,0,1,0,0,0,0,0,1,0,0,0,0,0,0,0,0,null,1,0.74970143408305334]
[0,0,0,0,1,0,0,0,0,1,1,0,0,0,0,0,0,0,0,null,1,0.14044478785440162]
[1,0,0,0,0,0,0,1,0,0,1,0,1,0,0,0,0,0,0,null,1,0.15245391013932919]
[0,0,0,0,1,0,0,0,0,0,1,0,0,1,0,0,0,0,0,null,1,0.77520613471178335]
[0,0,0,0,1,0,0,0,0,0,1,0,0,0,0,0,0,0,0,null,0,0.11139555473680551]
[0,0,0,1,1,0,0,0,0,0,0,0,0,0,0,0,0,0,0,null,0,0.74931236866304063]
[0,0,0,1,1,0,0,0,0,0,0,1,0,0,0,0,0,0,0,null,0,{"$f":"RAND()","v":0.25852067086938402}]
[0,0,0,1,1,0,0,0,1,0,0,0,0,1,0,0,0,0,0,null,1,0.51512596591738213]
[1,0,0,0,1,0,0,0,0,1,1,0,0,0,0,0,0,0,1,null,1,0.83492089162551109]
[1,0,0,0,0,0,0,0,0,0,1,0,0,1,0,0,0,0,0,null,1,0.81705851700660403]
[0,0,0,1,0,0,0,1,0,0,0,0,1,0,0,0,0,0,1,null,1,5.3343358761325232E-3]
[0,1,0,0,0,0,0,1,0,0,1,0,0,0,0,0,0,0,0,null,0,0.11293721208502283]
[0,0,1,0,1,0,1,0,0,0,1,0,0,0,0,0,0,0,0,null,0,0.11657598424045656]
[0,0,0,1,0,0,0,1,0,0,0,0,0,0,0,0,0,0,0,null,0,0.39043201322473831]
[0,0,0,1,0,0,0,1,0,0,0,0,0,0,0,0,0,0,0,null,1,0.94594705787655708]
[0,0,0,0,0,0,0,1,0,0,0,0,0,0,1,1,0,0,0,null,0,0.37974199524552199]
[0,0,0,0,0,0,0,1,0,0,0,0,0,0,0,0,0,0,0,null,0,0.38816100426204048]
[0,0,0,0,0,0,0,1,0,0,0,0,0,0,0,0,0,0,0,null,0,0.53519148688427376]
[0,1,0,0,1,0,0,0,0,0,0,0,0,0,0,0,0,0,0,null,0,0.68925757173935076]
[0,0,0,1,1,0,1,0,0,0,0,0,0,0,0,0,0,0,0,null,0,0.7834252160763262]
[0,0,0,0,1,0,0,0,0,0,0,0,0,0,1,0,0,0,0,null,0,0.63250878285716439]
[0,0,0,0,1,0,0,0,0,1,1,0,0,1,0,0,0,0,0,null,1,0.11391941529652505]
[0,0,0,0,1,0,0,0,0,0,1,0,1,0,0,0,0,0,0,null,0,0.16227280418634715]
[0,0,0,0,0,0,0,0,0,0,1,0,0,0,0,0,0,0,0,null,0,0.15921044647453175]
[0,0,0,1,0,0,0,1,0,0,0,0,0,0,0,0,0,0,0,null,1,0.44124346926636981]
[0,0,0,1,0,0,0,1,0,0,0,0,0,0,0,0,0,0,0,null,1,0.4205581600561803]
[0,0,0,1,0,0,0,1,0,0,0,1,0,0,0,0,0,0,0,null,0,0.67642599259830083]
[0,1,0,1,0,0,1,1,0,0,0,0,0,0,0,0,0,0,0,null,0,4.9245280960282134E-2]
[0,1,0,1,0,0,1,1,0,0,0,0,0,0,0,0,0,0,0,null,0,2.9317279458477508E-2]
[0,0,0,1,1,0,0,0,0,0,0,0,0,0,0,0,0,0,0,null,1,0.77070010365264296]
[0,1,1,1,0,0,0,1,0,0,0,0,0,0,1,0,0,0,0,null,0,0.48434093897436059]
[0,0,0,1,0,0,0,1,0,0,0,1,0,0,0,0,0,0,0,null,0,0.41260735952219696]
[0,0,0,0,0,0,0,1,0,0,0,0,0,1,0,0,0,0,0,null,1,0.42089167539836148]
[0,1,0,0,0,0,0,1,0,0,1,0,0,0,0,0,0,0,0,null,0,0.58051438711940861]
[0,0,0,0,1,0,0,0,0,0,1,0,0,0,0,0,0,0,0,null,0,0.74559436730785711]
[0,0,0,1,0,0,1,1,0,0,0,0,0,0,1,0,0,0,0,null,0,0.25374259309460578]
[0,0,0,1,1,0,0,0,0,0,0,1,0,0,0,0,0,0,0,null,0,5.3217495276105975E-2]
[0,0,0,1,0,0,0,0,0,0,0,0,0,1,1,0,0,0,0,null,0,0.67704096724065066]
[0,0,0,0,0,0,1,1,0,0,1,0,0,0,1,0,0,0,0,null,0,0.33515257624917116]
[0,0,0,0,0,0,0,1,0,0,1,0,0,0,0,1,1,0,0,null,1,0.13897914461055982]
[0,0,0,0,1,0,0,0,0,0,1,0,0,0,0,0,0,0,0,null,1,0.94738399537286866]
[0,0,0,1,0,0,1,1,1,0,0,0,0,0,1,0,0,0,0,null,0,0.59425964527227737]
[0,0,0,1,1,0,1,0,0,0,0,0,0,0,1,0,0,0,0,null,0,0.95936764399650498]
[0,0,0,0,1,0,0,0,0,0,1,0,0,0,0,0,0,0,0,null,0,0.52532025902405111]
[0,0,0,0,0,0,0,0,0,0,1,0,0,0,0,0,0,0,0,null,0,0.54163855959346419]
[0,1,0,1,1,0,0,0,0,0,0,0,0,0,0,0,0,0,0,null,1,0.29311113759137453]
[0,0,0,1,0,0,1,1,0,0,0,0,0,0,0,0,0,1,0,null,0,0.64476825838470031]
[0,0,0,0,0,0,0,0,0,0,1,0,0,0,0,0,0,0,0,null,0,0.44231156160001561]
[0,1,1,0,0,0,0,1,0,1,1,0,0,0,0,0,0,0,0,null,1,0.8073642556321925]
[0,0,0,0,0,0,0,1,0,1,1,0,0,1,0,0,0,0,0,null,1,0.89485172325086193]
[1,0,0,1,0,0,0,1,0,0,0,0,0,1,0,0,0,0,0,null,1,0.65599862463037972]
[1,0,1,1,0,0,0,1,0,1,0,0,0,0,0,0,0,0,0,null,1,0.6101324422114287]
[0,0,0,0,1,0,0,0,1,0,1,0,0,1,0,0,0,0,0,null,1,0.37579334306557644]
[0,0,0,0,1,0,0,0,0,1,1,1,0,1,0,0,0,0,0,null,1,0.783918305228541]
[0,0,0,0,1,0,0,0,0,0,1,0,0,0,0,0,0,0,0,null,1,0.50364829551196122]
[0,1,0,0,1,0,0,0,0,0,0,0,0,0,0,0,0,0,0,null,0,0.31845738249244226]
[0,0,0,0,0,1,0,0,0,0,0,0,0,0,0,0,0,0,1,null,1,0.47106009721366571]
[1,0,0,0,1,0,0,0,0,0,1,0,0,1,0,0,1,0,1,null,1,0.4813914122288907]
[0,0,0,0,0,0,0,1,0,0,1,0,0,0,0,0,1,0,0,null,0,0.16020733459629855]
[0,0,0,0,0,0,0,1,0,0,1,0,0,0,0,0,0,0,1,null,1,0.36331023930245643]
[0,0,0,0,0,0,0,0,0,0,1,0,0,0,1,0,1,0,0,null,0,0.98070686139259244]
[0,1,0,1,1,0,0,0,0,1,0,0,1,0,0,0,0,0,0,null,0,0.93912505115414358]
[1,0,0,0,1,0,0,0,0,0,0,0,0,1,0,0,0,0,1,null,1,0.92404903798976423]
[0,1,0,1,1,0,0,0,0,0,0,0,0,0,0,0,0,0,0,null,0,0.46963904338104612]
[0,0,1,1,0,0,0,0,0,1,0,0,0,0,0,1,1,0,0,null,1,0.80866359355653106]
[0,0,0,1,1,0,0,0,0,0,0,0,0,0,0,0,0,0,0,null,1,0.42832067421769127]
[0,0,0,0,1,0,0,0,0,0,1,0,0,0,1,0,0,0,0,null,0,0.9335965580301353]
[0,0,1,1,1,0,0,0,0,1,0,0,0,0,0,0,0,0,0,null,0,0.67523010370112202]
[0,0,0,1,0,0,0,0,0,0,0,0,0,0,0,0,0,0,0,null,1,0.22733512910414577]
[0,0,0,0,0,0,0,1,0,1,1,0,1,0,0,0,0,0,0,null,1,0.53688359736561275]
[0,0,0,1,0,0,0,1,0,0,0,0,0,0,0,0,0,0,0,null,1,{"$f":"RAND()","v":0.55404902799646638}]
[0,1,0,1,1,0,0,0,0,1,0,0,0,0,0,0,0,0,1,null,0,8.0325446552700352E-3]
[0,0,0,0,1,0,0,0,0,1,0,0,0,0,0,0,0,0,0,null,1,0.94751627127938631]
[0,0,0,1,1,0,0,0,0,0,0,1,0,0,0,0,0,0,0,null,0,7.2654197300255019E-2]
[0,0,0,0,1,0,0,0,0,0,1,0,0,0,0,1,0,0,0,null,0,0.5842396364470327]
[0,0,0,0,0,0,0,1,0,0,1,0,0,0,0,0,0,0,0,null,0,0.95809787363838117]
[1,0,0,0,0,0,0,1,0,0,1,0,0,0,0,1,0,0,1,null,1,0.82533627805499077]
[0,0,0,1,0,0,0,0,0,0,0,0,0,0,0,0,0,0,0,null,0,0.18716427237877087]
[0,0,0,0,0,0,0,1,0,0,1,0,0,0,0,0,0,0,0,null,0,0.72145545476004547]
[0,0,0,0,0,0,0,1,0,0,1,0,0,0,0,0,0,0,0,null,0,0.65997264261627864]
[0,0,0,1,1,0,0,0,0,0,0,0,0,0,0,0,0,0,0,null,0,0.34619666925887127]
[0,0,0,1,0,0,0,1,0,0,0,0,0,0,1,0,0,0,0,null,0,0.4432357347477075]
[0,0,0,0,0,0,0,1,0,0,1,0,1,1,0,1,1,0,1,null,1,0.46809846401173771]
[1,0,0,1,0,0,0,1,0,0,0,0,0,0,0,0,0,0,1,null,1,0.51865778273618468]
[0,0,1,1,1,0,0,0,0,1,0,0,1,1,0,0,0,0,0,null,1,0.64901044876503788]
[0,0,0,0,1,0,0,0,0,0,0,1,0,0,1,0,0,0,0,null,0,0.94918517980853157]
[0,0,0,0,0,0,0,1,0,1,1,0,1,0,0,0,1,0,0,null,1,0.65691937021995239]
[0,0,0,0,0,0,1,1,0,0,1,0,0,0,0,0,0,0,0,null,0,7.4722767990364147E-2]
[1,0,0,1,1,0,0,0,0,1,0,0,1,0,0,0,0,0,0,null,1,0.57953210870948169]
[1,0,0,1,1,0,0,0,0,0,0,0,0,0,0,0,0,0,0,null,1,0.47168562772525069]
[0,1,0,0,0,0,0,1,0,0,1,0,0,0,1,0,0,0,0,null,0,0.42985309051031928]
[0,1,0,1,1,0,0,0,0,0,0,0,0,0,0,0,0,0,0,null,0,0.18637797865456729]
[0,1,0,0,0,0,0,1,0,0,0,0,0,0,0,0,0,0,0,null,0,0.20751182410332625]
[1,0,0,0,0,0,0,1,0,0,1,0,1,0,0,0,0,0,0,null,1,0.23111910768752908]
[0,0,0,1,0,0,0,1,0,0,0,0,0,0,0,0,0,0,0,null,0,0.81084131388273062]
[0,1,0,1,1,0,0,0,0,0,0,0,0,1,1,0,0,0,1,null,0,0.44500430302098859]
[0,0,0,1,1,0,0,0,0,0,0,0,1,0,0,0,0,0,0,null,1,0.38041032786338591]
[0,0,0,0,0,0,0,0,0,0,1,0,0,0,1,0,0,0,0,null,0,0.52322364703222468]
[0,0,0,0,1,0,0,0,0,0,1,0,1,0,0,0,0,0,0,null,1,0.89949400356437803]
[0,0,0,0,1,0,0,0,0,0,1,0,0,0,0,1,0,0,0,null,1,0.16892760987437405]
[0,0,0,1,0,0,0,1,0,0,0,0,0,0,0,0,0,0,0,null,0,6.556365208758308E-2]
[1,0,0,1,0,0,0,1,0,0,0,1,0,0,0,0,0,0,1,null,1,0.53129012163018163]
[0,0,0,0,1,0,0,0,0,0,0,0,0,0,1,0,0,0,0,null,0,0.83566727243181216]
[0,1,0,1,1,0,0,0,0,0,0,0,0,0,0,0,0,0,0,null,0,0.26295601397583379]
[0,0,0,0,1,0,0,0,0,0,1,0,0,0,0,0,0,0,0,null,0,8.812439475980538E-2]
[0,1,0,1,0,0,0,1,0,0,0,0,0,0,0,0,0,0,0,null,0,0.4368349540952865]
[0,1,0,0,1,0,1,0,0,0,1,0,0,0,0,0,0,0,0,null,0,7.5530317839590966E-2]
[0,0,0,0,0,0,0,1,0,0,1,0,0,0,0,0,0,0,0,null,0,0.85005918110001388]
[1,0,0,0,1,0,0,0,1,0,1,0,0,0,0,0,0,0,0,null,1,0.42336185083628097]
[0,0,0,1,1,0,1,0,0,0,0,0,0,0,0,0,0,0,0,null,0,0.71572290280847539]
[0,0,0,0,0,0,1,0,0,0,0,0,0,1,0,0,0,0,0,null,0,3.5984684150994317E-2]
[0,0,0,0,1,0,0,0,0,1,1,0,0,0,0,0,0,0,0,null,1,0.18864012662784735]
[0,0,0,1,0,0,0,1,0,0,0,1,0,0,0,0,0,0,0,null,0,0.67574952317982695]
[0,0,0,1,0,1,0,1,0,0,0,0,0,1,0,0,0,0,0,null,1,0.89967042677352893]
[0,0,0,1,0,0,0,1,0,0,0,0,1,0,0,0,0,0,0,null,0,0.91457982955997186]
[0,0,0,0,0,0,1,0,0,0,1,0,0,0,0,0,0,0,0,null,0,0.47567567965539037]
[0,1,0,1,0,0,0,1,0,0,0,0,0,0,1,0,0,0,0,null,0,0.45388321484887162]
[0,0,0,0,0,0,0,1,0,1,0,0,0,0,0,0,0,0,0,null,1,0.47467092201587169]
[0,1,0,0,0,0,0,0,0,1,1,0,0,0,0,0,0,0,1,null,0,0.3060283589366638]
[1,0,0,0,1,0,0,0,0,0,0,0,0,0,0,0,1,0,0,null,1,0.335379839780797]
[0,0,0,0,1,0,0,0,0,0,0,0,0,0,0,0,0,0,0,null,1,0.84152942254439156]
[0,0,0,1,0,0,0,1,0,0,0,0,0,0,0,0,0,0,0,null,1,0.71675181239652419]
[0,0,0,1,0,1,0,1,0,0,0,0,0,0,0,1,0,0,1,null,1,0.1299658467940813]
[0,0,0,1,0,0,1,0,0,0,0,0,0,0,0,0,0,0,0,null,0,0.13452671139336836]
[0,0,0,0,0,0,0,1,0,0,1,0,1,0,0,0,0,0,0,null,1,0.26119428350787854]
[0,0,0,1,1,1,0,0,0,0,0,0,0,0,0,0,1,0,0,null,1,0.28956866915802737]
[1,0,0,1,1,0,0,0,0,0,0,0,0,0,0,0,0,0,0,null,1,0.75013959790249274]
[0,0,0,0,0,0,0,1,0,0,1,0,0,0,0,0,0,0,1,null,1,0.91129401839898816]
[0,0,1,0,0,0,0,1,0,0,1,0,0,0,0,0,0,0,1,null,1,0.74042753179619558]
[0,0,0,1,1,0,0,0,0,0,0,0,0,0,0,0,0,0,0,null,0,0.83245564312563924]
[0,0,0,0,0,0,0,1,0,0,1,0,0,0,0,0,0,0,0,null,0,0.56259450053215276]
[0,0,0,0,0,0,0,1,1,1,1,0,0,0,0,1,0,0,0,null,1,0.56504093539946421]
[0,0,0,0,0,0,0,0,0,0,1,0,0,0,1,0,0,0,0,null,1,0.55809312814235068]
[0,0,0,0,0,0,0,0,0,0,1,0,0,0,1,0,0,0,0,null,0,0.57490996231824554]
[0,0,0,0,0,0,0,1,0,0,1,0,0,1,1,0,0,0,0,null,0,{"$f":"RAND()","v":0.45904230637608545}]
[0,0,0,1,1,0,0,0,0,0,0,0,0,0,1,0,0,0,0,null,0,0.18704055765945327]
[0,0,0,1,0,0,0,1,0,0,0,0,0,0,0,0,0,0,0,null,0,0.57826422610500361]
[0,0,0,1,1,0,0,0,0,1,0,0,0,0,0,0,0,0,0,null,1,0.6183094726726297]
[0,0,0,1,1,0,0,0,1,0,0,0,0,0,0,0,0,0,0,null,1,0.16751777922103639]
[0,0,0,0,1,0,0,0,0,0,1,0,0,0,0,1,0,0,1,null,1,0.97182810639739858]
[0,0,0,0,0,0,0,1,0,0,1,0,0,0,0,0,1,0,0,null,0,0.94157851783364821]
[0,0,0,0,0,0,0,1,0,0,0,0,0,0,0,0,0,0,0,null,1,0.13445545125206937]
[0,0,0,1,1,0,0,0,0,0,0,0,0,0,1,0,0,0,0,null,0,0.73707143180597379]
[0,0,0,1,1,0,1,0,0,0,0,0,0,0,1,0,0,0,0,null,0,0.23660822112757074]
[0,0,0,1,0,0,0,1,0,0,0,0,0,0,0,0,0,0,0,null,0,0.40151761929722285]
[0,0,0,0,1,0,0,0,0,0,0,0,0,0,0,0,0,0,0,null,1,0.21096620231387941]
[0,0,0,0,0,0,0,1,0,0,1,0,0,0,1,0,0,0,0,null,1,0.12167146748712132]
[0,0,0,0,1,0,0,0,0,0,1,0,0,0,0,0,0,0,0,null,0,0.53325115117249178]
[0,0,0,0,1,0,1,0,0,0,1,1,0,0,0,0,0,0,0,null,0,0.62540407199924308]
[0,1,0,0,0,0,1,1,0,0,1,0,0,0,0,0,0,0,0,null,0,0.21497324073002899]
[1,0,0,0,0,0,0,0,0,1,1,0,0,0,0,0,0,0,0,null,1,0.91776294119806234]
[0,0,0,1,0,0,0,1,0,0,0,0,0,0,1,0,0,0,0,null,0,8.3307232181203728E-2]
[0,0,0,1,0,0,0,1,0,0,0,0,0,0,0,0,0,0,0,null,0,0.82516115723913053]
[1,0,0,0,0,0,0,1,0,0,1,0,0,0,0,1,0,0,0,null,1,0.90345905381575053]
[0,0,0,0,1,0,0,0,0,0,1,0,0,0,0,0,0,0,1,null,0,0.14717522373278513]
[0,0,0,1,0,0,0,1,0,0,0,0,0,0,0,0,0,0,0,null,0,0.23389759573730728]
[0,0,0,1,0,0,0,0,0,1,0,0,0,0,0,0,0,0,0,null,1,0.61562584511241014]
[0,0,0,0,1,0,0,0,1,0,0,0,0,0,0,0,0,0,0,null,1,0.13463270711403841]
[0,0,0,0,0,0,1,1,0,1,1,0,0,0,0,0,0,0,0,null,1,0.25386120442117432]
[0,0,1,1,1,0,0,0,1,0,0,1,0,1,0,1,0,0,0,null,1,6.3986343176325566E-2]
[0,0,0,1,0,0,0,1,0,0,0,0,1,0,0,0,0,0,0,null,0,0.39226293254965561]
[0,0,0,0,0,0,0,1,0,0,1,0,0,1,0,0,0,0,0,null,1,0.48382544934429916]
[0,0,0,1,0,0,0,1,0,0,0,0,0,0,0,0,0,1,0,null,1,0.2315901709842868]
[0,0,0,1,1,0,0,0,0,0,0,0,1,0,0,0,0,0,0,null,1,0.31718611891261062]
[0,0,0,0,0,0,1,1,0,0,1,1,0,0,0,0,0,0,0,null,0,1.0297001561658692E-2]
[0,0,0,0,0,0,0,1,0,0,1,0,0,0,1,0,0,0,0,null,0,0.69233201086234197]
[0,1,0,1,1,0,0,0,0,0,0,0,0,0,0,0,0,0,0,null,0,8.0299689082076964E-2]
[0,0,0,0,0,0,0,0,0,0,1,0,0,1,0,0,0,0,0,null,0,0.55899768675573369]
[0,1,0,0,0,0,0,1,0,0,1,0,0,0,0,0,0,0,0,null,0,0.13001075879507629]
[0,0,0,1,0,0,0,1,0,0,0,0,0,0,0,0,0,0,0,null,0,0.66137570561223857]
[1,0,0,1,1,0,0,0,0,1,0,0,0,0,0,1,1,0,0,null,1,0.95400260272935877]
[0,1,0,0,0,0,0,1,0,0,1,0,0,1,0,0,0,0,1,null,1,0.70194322545048171]
[0,0,0,1,0,0,0,1,0,0,0,0,0,0,0,0,0,0,0,null,1,0.61964966895318119]
[0,0,0,0,1,0,0,0,0,0,1,0,1,1,0,0,0,0,0,null,1,0.62730857368897042]
[1,0,0,1,0,0,0,0,0,1,0,0,1,0,0,0,1,0,0,null,1,0.13828755390802827]
[0,0,0,0,0,0,0,1,0,1,1,0,0,0,0,1,0,0,0,null,1,0.59586468559955819]
[0,0,0,0,1,0,0,0,0,0,0,1,0,0,0,0,0,0,0,null,0,0.52062124476805005]
[0,1,0,1,0,0,0,1,0,0,0,1,0,0,0,0,0,0,0,null,0,0.77969422691135293]
[0,1,0,1,0,0,0,1,0,0,0,0,0,0,0,0,0,0,0,null,0,0.85840703574097021]
[0,0,0,0,0,0,0,0,0,0,1,0,0,0,1,0,0,0,0,null,0,0.65557445780766721]
[0,0,0,0,1,0,0,0,0,0,1,0,0,0,0,0,0,0,0,null,0,0.34394695985105439]
[0,0,0,1,1,0,0,0,0,0,0,0,0,0,0,0,0,0,0,null,1,0.34477083278446019]
[0,1,0,0,0,0,0,0,0,0,1,1,0,0,1,0,0,0,0,null,0,0.33287065095162194]
[0,0,0,1,0,0,0,0,0,0,0,0,0,0,1,0,0,0,0,null,0,0.90780006050751127]
[0,0,0,1,0,0,1,1,0,0,0,0,0,0,0,0,0,0,0,null,0,0.57493827391137464]
[0,0,0,0,0,0,0,1,0,1,1,0,0,0,0,1,0,0,0,null,1,9.4209133261493938E-2]
[0,0,0,0,1,0,0,0,0,0,0,0,0,0,1,0,0,0,1,null,1,0.19813264008789866]
[0,0,0,0,1,0,1,0,0,0,0,0,0,0,0,0,0,0,0,null,0,0.91850777087357527]
[0,1,0,0,1,0,0,0,0,0,1,1,0,0,0,0,0,0,0,null,0,0.94003077244077449]
[0,0,0,1,0,0,0,0,0,0,0,0,1,0,0,0,0,0,0,null,1,0.18048765476109518]
[0,0,0,1,0,0,0,1,0,0,0,0,0,0,1,0,0,0,0,null,0,0.59894644520703788]
[0,0,0,1,1,0,0,0,1,0,0,0,1,0,0,0,0,0,0,null,0,0.1428315011336001]
[0,0,0,1,0,0,0,1,0,0,0,0,0,0,0,1,0,0,0,null,1,0.90091104880457262]
[0,0,0,1,1,0,0,0,0,0,0,0,0,0,0,1,0,0,0,null,1,4.0640663332875748E-2]
[0,1,0,0,1,0,0,0,0,0,1,0,0,0,0,0,0,0,0,null,1,0.70891031914241143]
[0,0,0,0,0,0,0,1,0,0,1,0,0,0,0,0,0,0,0,null,1,0.40286207626195114]
[1,0,0,0,0,0,0,1,0,0,1,0,0,0,0,0,0,0,1,null,1,0.48962563207385246]
[0,0,0,1,1,0,0,0,0,0,0,0,0,0,0,0,0,0,0,null,1,0.45177968388612699]
[0,0,0,1,0,0,0,1,0,0,0,1,0,0,0,1,0,0,0,null,1,{"$f":"RAND()","v":0.75933350423496315}]
[0,0,0,0,1,0,0,0,0,0,1,0,0,0,0,0,0,0,1,null,0,0.20741740953531207]
[0,0,0,0,0,0,0,1,0,1,1,1,0,0,0,0,0,0,0,null,1,0.31148831477846584]
[1,0,1,1,1,0,0,0,0,0,0,0,0,0,0,0,0,0,1,null,1,0.56293044469202558]
[0,0,0,1,0,0,0,1,0,0,0,0,0,0,0,0,0,0,0,null,0,0.11559518887753517]
[0,0,0,0,1,0,0,0,0,1,1,0,0,0,0,0,0,0,0,null,1,0.20664232971865026]
[0,0,0,0,1,0,0,0,0,0,1,0,0,0,1,0,0,0,0,null,0,0.9950225494653745]
[1,0,0,1,0,0,0,1,0,0,0,0,0,0,0,0,0,0,1,null,1,0.27014030003213974]
[0,0,0,0,0,0,0,0,0,0,1,0,0,0,0,0,0,0,0,null,1,0.26333460488149929]
[0,0,0,0,1,0,0,0,0,1,1,0,1,0,0,0,0,0,1,null,1,0.88061777241636185]
[0,0,0,1,1,0,0,0,0,0,0,1,0,0,0,0,0,0,0,null,0,0.26832543447299118]
[1,0,0,0,0,0,0,1,0,0,1,0,0,0,0,0,0,0,0,null,1,0.86698186298381519]
[0,0,0,0,1,0,1,0,0,0,1,0,0,0,0,0,0,0,0,null,0,0.13403359638032086]
[0,0,0,1,0,0,0,1,0,0,0,0,0,0,0,0,0,0,0,null,0,0.73702681111576107]
[0,0,0,1,1,0,1,0,0,0,0,0,0,0,0,0,0,0,0,null,0,0.41148117454261723]
[0,0,0,0,0,0,0,1,0,0,1,0,1,0,0,0,0,0,1,null,1,0.33055715103944094]
[0,1,0,1,0,0,0,1,0,0,0,0,0,0,0,0,0,0,0,null,0,0.97202840111694488]
[0,0,1,1,0,0,0,1,0,0,0,0,0,0,0,0,0,0,0,null,0,0.29968259334069081]
[0,0,0,1,0,0,0,0,0,0,0,1,0,0,1,0,0,0,0,null,0,1.5232962301166664E-2]
[1,0,1,1,0,0,0,1,0,1,0,0,0,0,0,0,0,0,0,null,1,0.76523112810169702]
[0,0,0,0,0,0,0,1,0,1,1,0,1,0,0,0,0,0,0,null,0,2.1773315960867956E-2]
[0,0,0,1,1,0,0,0,0,1,0,0,0,0,0,0,0,0,0,null,0,0.23469095277791474]
[0,1,0,0,1,0,1,0,0,0,1,0,0,0,1,0,0,0,0,null,0,0.63106970918722116]
[0,1,0,1,1,0,0,0,0,0,0,0,0,1,0,0,0,0,0,null,1,0.14343764391048708]
[0,0,0,0,0,1,0,1,0,0,1,0,0,0,0,0,0,0,0,null,1,0.8499126845421946]
[0,1,0,1,0,0,0,1,0,0,0,0,0,0,0,0,0,0,0,null,0,0.52079346505168134]
[0,0,0,1,0,0,0,0,0,1,0,0,0,0,0,0,0,0,0,null,1,0.96429699098358335]
[0,0,0,1,0,0,0,1,0,0,0,0,1,0,0,0,1,0,0,null,1,0.6021221851839943]
[0,1,0,1,1,0,0,0,1,0,0,0,0,0,0,0,0,0,0,null,0,3.5087817156631562E-2]
[0,0,1,1,0,0,0,1,0,0,0,1,0,0,0,0,0,0,0,null,0,0.12499953936885766]
[0,0,0,1,1,0,0,0,0,0,0,0,0,0,0,1,0,0,0,null,1,0.72902546660250889]
[0,0,0,1,0,0,0,1,0,0,0,0,0,0,0,0,0,0,0,null,0,0.44394149280763662]
[0,0,0,1,0,0,0,0,0,0,0,0,0,0,1,0,0,0,0,null,0,0.4196153212651218]
[0,0,0,0,1,0,0,0,0,0,1,0,0,1,0,0,0,0,0,null,1,0.63482804546189642]
[0,0,0,0,1,0,0,0,0,0,1,0,0,0,0,0,0,0,0,null,0,0.7449015379478513]
[0,0,0,0,1,0,0,0,0,0,1,0,0,0,0,0,1,0,0,null,1,0.85759539535356222]
[0,0,0,1,1,0,0,0,0,0,0,0,0,0,0,0,0,0,0,null,1,0.24854319880647302]
[0,0,0,0,0,0,0,0,0,0,1,0,0,0,0,0,0,0,0,null,1,0.62574692644016461]
[0,1,0,0,0,0,0,1,0,0,1,1,0,0,0,0,0,0,0,null,0,0.97650420266730487]
[0,0,1,0,0,0,0,0,0,0,0,0,0,0,0,1,0,0,0,null,1,0.13081363507718535]
[0,0,0,0,1,0,0,0,0,0,1,0,0,1,0,0,0,0,0,null,1,0.58301525508286667]
[0,1,0,0,0,0,0,1,0,0,1,0,0,0,0,0,0,0,0,null,0,0.90601550524058505]
[1,1,0,0,1,0,0,0,0,0,1,0,0,1,0,0,0,0,0,null,1,0.24769421419292503]
[0,0,0,1,1,0,0,0,0,0,0,0,0,1,0,1,0,0,0,null,1,0.82607917830913058]
[0,0,1,0,1,0,0,0,0,0,1,0,0,1,0,0,0,0,0,null,1,0.82060572266705489]
[0,0,0,0,0,0,0,1,0,0,1,0,0,0,0,0,0,0,0,null,1,0.56224008557460103]
[0,0,0,1,0,0,0,0,0,0,0,0,1,0,0,0,0,0,0,null,1,0.6511133832856274]
[0,0,0,0,0,1,0,1,0,0,1,0,0,0,0,0,0,0,1,null,1,0.73709340202506501]
[0,1,0,1,0,1,0,1,0,0,0,0,0,0,0,0,0,0,0,null,0,0.65683213311050626]
[0,0,0,0,1,0,0,0,0,0,1,0,0,0,0,0,0,0,0,null,0,0.22991691196927322]
[1,0,0,1,1,0,0,0,0,1,0,0,0,0,0,0,0,0,1,null,1,0.59917664115176827]
[0,0,0,1,0,0,0,1,0,0,0,0,0,0,0,0,0,0,0,null,1,4.2392318480149793E-2]
[0,0,0,1,1,0,0,0,0,0,0,0,0,0,0,0,0,0,0,null,1,7.4774844835780896E-2]
[0,0,1,0,0,0,0,1,0,0,1,0,0,0,0,0,0,0,0,null,1,0.5185968670750889]
[0,0,0,0,0,0,0,1,0,0,1,0,1,0,0,0,1,0,1,null,1,0.77093031769957976]
[0,0,0,0,1,0,0,0,0,0,1,0,0,0,0,0,0,0,0,null,0,0.53199328048992744]
[0,0,0,0,0,0,0,1,0,1,1,0,0,0,0,0,1,0,0,null,1,0.55861157424474617]
[0,0,0,1,0,0,0,1,0,0,0,1,0,0,1,0,0,0,0,null,0,0.45082180752271261]
[1,0,0,1,1,0,0,0,1,1,0,0,0,0,0,0,1,0,0,null,1,0.92179838841322459]
[0,0,0,0,1,0,0,0,0,0,1,0,0,0,0,0,0,0,0,null,0,0.79670735406061888]
[0,0,0,0,1,0,0,0,0,0,1,0,0,0,0,0,0,0,0,null,1,0.75580626882457203]
[0,0,0,1,0,0,0,0,0,0,0,0,0,0,1,0,0,0,0,null,0,4.5074956532947907E-2]
[0,0,0,1,0,0,0,0,0,0,0,0,0,0,0,0,0,0,1,null,1,0.20645837395071442]
[0,0,0,0,0,0,1,1,0,0,1,0,0,0,0,0,0,0,0,null,0,0.73518027560233801]
[0,0,0,0,0,0,0,0,0,0,1,0,0,0,0,0,0,0,0,null,1,{"$f":"RAND()","v":0.98602860654602165}]
[0,0,0,0,1,0,0,0,0,0,1,0,0,0,0,1,1,0,0,null,1,0.43044209961626545]
[0,0,1,0,1,0,0,0,0,0,1,1,0,0,0,0,1,0,0,null,1,0.11874104249160267]
[0,0,0,1,0,0,0,1,0,0,0,0,0,0,1,0,0,0,0,null,0,0.81104632600173787]
[1,0,0,0,1,0,0,0,0,0,1,0,0,0,0,1,0,0,0,null,1,6.3672066552560413E-2]
[0,0,0,1,0,0,1,1,0,0,0,0,0,0,0,0,0,0,0,null,0,0.25839011951850366]
[0,1,0,0,0,0,0,1,0,1,1,0,0,0,0,0,0,0,0,null,1,0.1779775021977209]
[0,0,0,0,0,0,0,1,0,0,0,0,0,0,0,0,0,0,0,null,0,0.51027617159031047]
[0,0,0,0,1,0,0,0,0,0,1,0,0,1,0,0,0,0,0,null,1,0.13819601017774452]
[0,0,0,0,0,0,0,0,0,0,1,0,0,0,1,0,0,0,0,null,0,0.79171400976632533]
[0,0,0,0,0,0,0,0,0,0,1,0,0,0,0,0,0,0,0,null,0,0.29090295691621149]
[0,1,0,0,0,0,1,1,0,0,1,0,0,0,0,0,0,0,0,null,0,0.50748995473698244]
[0,0,0,1,1,0,0,0,0,0,0,0,0,0,0,1,0,0,0,null,1,0.89188452872045987]
[0,0,0,1,1,0,0,0,0,0,0,0,0,0,1,0,0,0,0,null,0,0.89840673959846329]
[0,0,0,0,0,0,0,0,0,0,1,0,0,0,0,0,0,0,0,null,0,5.540639073736886E-2]
[0,0,0,1,1,0,0,0,0,0,0,0,0,1,0,0,0,1,0,null,1,0.31917019833878368]
[0,0,0,0,0,0,0,1,0,0,1,0,0,0,0,0,0,0,0,null,0,0.6395985974823537]
[0,0,0,0,1,0,0,0,0,0,1,0,0,0,1,0,0,0,0,null,0,0.43121855735601]
[0,1,0,1,1,0,0,0,0,0,0,0,0,0,1,0,0,0,0,null,0,0.76699951213792439]
[0,0,1,0,0,0,0,1,0,0,0,0,0,0,0,0,0,0,0,null,1,0.93902418197878634]
[0,0,0,0,0,0,0,1,0,0,1,0,0,1,1,1,0,0,1,null,1,9.8110981759135907E-2]
[0,0,0,0,1,0,0,0,0,0,0,0,0,1,0,0,0,0,0,null,1,0.23234080747655939]
[0,0,0,1,1,0,0,0,0,0,0,0,0,0,0,0,0,0,0,null,0,0.83321940619180268]
[0,0,0,0,0,0,1,1,0,0,0,0,0,0,1,0,0,0,0,null,0,0.17828093314682303]
[0,0,0,0,0,0,0,1,0,0,1,1,0,0,0,0,0,0,0,null,0,2.3851849346423593E-2]
[0,0,0,0,1,0,0,0,0,1,1,0,0,0,0,0,0,0,0,null,1,0.53958745408030073]
[0,1,0,0,1,0,0,0,0,0,0,0,0,0,0,0,0,0,0,null,0,0.75860411495777758]
[1,1,0,0,0,0,0,1,0,0,1,0,0,0,0,0,0,1,0,null,1,0.17199469063440387]
[0,1,0,1,0,0,0,1,0,0,0,1,0,0,0,0,0,0,0,null,0,0.67064969896519344]
[0,0,0,1,1,0,0,0,0,0,0,0,0,0,0,0,0,0,0,null,0,0.17826819064390143]
[0,0,0,1,0,0,0,0,0,0,0,0,0,0,1,0,0,0,0,null,0,0.4932517011534453]
[0,0,0,0,1,0,0,0,0,0,1,0,0,0,0,0,0,0,0,null,0,0.56989616349715011]
[1,0,0,0,0,0,0,1,1,0,1,0,0,0,0,0,0,0,0,null,1,4.4096154092442497E-2]
[0,0,0,1,0,0,0,1,0,0,0,1,0,0,0,0,0,0,0,null,0,0.16159495663040191]
[0,0,0,1,0,0,0,1,0,0,0,0,1,0,0,0,0,0,0,null,1,0.94579280861832604]
[0,0,0,0,1,0,0,0,0,1,0,0,0,0,0,0,1,0,1,null,1,0.302096583478764]
[0,0,0,0,1,0,1,0,0,0,1,1,0,0,1,0,0,0,0,null,0,9.8530274584583077E-2]
[0,1,0,0,1,0,0,0,0,1,1,0,1,0,0,0,0,0,0,null,1,8.8375958668244659E-2]
[0,0,0,1,0,0,0,1,0,0,0,0,0,0,0,0,0,0,0,null,1,0.3925052244161843]
[0,0,0,0,0,0,0,1,0,0,1,0,0,1,0,0,0,0,0,null,1,0.2794725146646343]
[0,0,0,0,0,0,0,1,0,0,1,0,0,0,1,0,0,0,0,null,0,0.7842357684879252]
[1,0,0,0,0,0,0,1,0,1,1,0,0,0,0,0,0,0,0,null,1,0.93833970008318035]
[0,0,0,1,1,0,0,0,0,0,0,0,0,0,0,0,0,0,0,null,1,0.61871439804369255]
[0,0,1,0,0,0,0,1,0,0,1,0,0,0,0,0,0,0,0,null,1,0.92298295755988713]
[1,0,0,0,0,0,0,1,0,0,0,0,0,0,0,0,0,0,0,null,1,0.86771674899737439]
[0,1,0,1,1,0,0,0,0,0,0,1,0,0,1,0,0,0,0,null,0,0.87153126555630589]
[0,1,0,0,0,0,0,1,0,0,1,1,0,1,0,0,0,0,0,null,0,0.19811468797706766]
[0,0,1,0,0,0,0,1,0,0,1,0,0,0,0,0,0,0,0,null,1,0.27720878445005093]
[0,0,0,1,1,0,0,0,0,0,0,0,0,0,1,0,0,0,0,null,0,0.34536731737471249]
[0,0,0,1,0,0,0,0,0,0,0,0,1,0,0,0,0,0,0,null,1,0.39145952604244871]
[1,0,0,1,1,0,0,0,0,0,0,0,0,0,0,0,0,0,1,null,1,0.44184372193082921]
[0,0,0,0,0,0,1,1,0,0,1,1,0,0,0,0,0,0,0,null,0,0.81935254170943028]
[0,0,0,0,1,0,0,0,0,0,1,0,0,1,0,0,0,0,1,null,1,0.71514255493308065]
[1,0,0,1,1,0,0,0,0,0,0,0,1,0,0,0,0,0,1,null,1,0.48772627894664533]
[0,1,0,0,1,0,1,0,0,0,0,0,0,0,0,0,0,0,0,null,0,0.54148264176333316]
[0,0,0,0,1,0,0,0,0,0,1,0,0,0,0,0,0,1,1,null,1,0.84546715203236467]
[0,0,0,0,0,0,1,1,0,0,1,1,0,0,0,0,0,0,0,null,0,0.65845013358056215]
[0,0,0,1,1,0,0,0,0,0,0,0,0,0,0,0,0,0,0,null,1,0.92684121257815966]
[0,0,0,0,1,0,1,0,0,0,1,0,0,0,0,0,0,0,0,null,0,0.21159549063845062]
[1,0,0,0,0,0,0,0,0,0,1,0,0,1,0,0,0,0,0,null,1,0.83730012314324798]
[0,0,0,0,0,0,0,1,0,0,0,0,0,0,0,0,0,0,0,null,0,0.84851171301896078]
[0,0,0,0,0,0,0,1,0,0,0,0,1,0,0,0,0,0,0,null,1,0.31473407200761283]
[0,0,0,0,1,0,0,0,0,1,1,0,0,0,0,0,0,0,0,null,1,0.98717095113004905]
[0,0,0,0,1,0,1,0,0,0,1,0,0,0,0,0,0,0,0,null,1,0.40884763084811071]
[0,0,0,1,0,0,0,1,0,0,0,0,0,0,0,0,0,0,1,null,1,{"$f":"RAND()","v":3.4706560880259141E-2}]
[0,0,0,0,0,0,0,1,0,0,1,0,0,0,0,0,0,0,1,null,1,0.73118795676244608]
[0,0,0,1,1,0,0,0,0,0,0,0,0,0,0,0,0,0,1,null,0,6.4665105241762388E-3]
[0,0,0,1,0,0,0,1,0,1,0,0,0,0,0,0,0,0,1,null,1,0.74100190856506243]
[0,0,0,0,1,0,0,0,0,0,1,0,0,0,0,0,0,0,0,null,1,9.3097989584751351E-2]
[0,1,0,1,1,0,0,0,0,1,0,0,0,0,1,0,0,0,0,null,0,0.8336298519792239]
[0,0,0,1,0,0,0,1,0,0,0,0,0,0,0,0,0,0,0,null,0,0.84464232936030359]
[0,1,0,0,0,0,0,0,0,0,0,0,0,0,1,0,0,0,1,null,0,7.1928486894069055E-2]
[0,0,0,1,1,0,0,0,0,0,0,1,0,0,0,1,0,0,0,null,1,0.90939545551743617]
[0,0,0,0,0,0,0,1,0,0,1,0,0,0,0,0,0,0,0,null,0,0.55696412253607575]
[0,0,1,0,0,0,0,1,0,0,1,0,0,0,0,0,0,0,1,null,1,0.42178362246512013]
[0,0,0,0,1,0,0,0,0,0,0,0,1,1,0,0,0,0,0,null,1,0.48665602359415672]
[0,0,0,1,0,0,0,1,0,0,0,0,0,0,0,0,0,0,0,null,0,5.3924701472930048E-2]
[0,0,0,0,0,0,0,1,0,0,1,0,0,0,0,0,0,0,0,null,0,0.92973462000371598]
[0,0,0,1,0,0,0,1,0,0,0,0,0,0,0,0,0,0,0,null,0,0.54866511023796605]
[0,0,0,0,1,0,0,0,0,0,1,0,0,0,1,0,0,0,0,null,0,0.42749465549722532]
[0,0,0,1,1,0,0,0,0,0,0,0,0,0,0,0,0,0,0,null,0,0.89876653575677623]
[1,0,1,0,0,0,0,1,0,0,1,0,0,0,0,0,1,0,0,null,1,0.92571314691548623]
[0,1,0,1,0,0,0,1,0,0,0,0,0,0,0,0,0,0,0,null,0,0.87000094444967624]
[0,0,0,1,1,0,0,0,0,0,0,0,0,0,0,0,0,0,0,null,0,0.9330328467874347]
[0,1,1,1,0,0,0,1,0,0,0,0,0,0,0,0,0,0,0,null,0,0.29636503080378962]
[0,0,1,0,0,0,0,1,0,0,0,0,0,0,0,1,0,1,0,null,1,0.77060068341292187]
[0,0,0,0,0,0,0,1,0,0,1,0,0,0,0,0,0,0,1,null,1,0.46079490035888504]
[0,0,0,1,1,0,1,0,0,0,0,1,0,0,0,0,0,0,0,null,0,0.87388347801341104]
[0,0,0,0,1,0,0,0,0,1,1,0,1,0,0,0,0,0,1,null,1,0.39956308878735214]
[0,0,0,0,0,0,0,0,0,0,1,0,0,0,0,0,0,0,0,null,1,0.20615686228193342]
[1,0,0,0,0,0,0,1,0,0,1,0,1,0,1,0,0,0,1,null,1,0.31963509063749118]
[0,0,0,0,1,0,0,0,0,0,1,0,0,0,0,0,0,0,0,null,0,3.7836381086875703E-2]
[0,0,0,1,1,0,0,0,0,0,0,0,0,0,1,0,0,0,0,null,0,0.64186199086570639]
[0,0,0,0,1,0,0,0,0,0,1,0,0,0,0,0,0,0,0,null,0,0.93014586980140723]
[0,0,0,1,1,0,0,0,0,0,0,0,0,0,0,0,0,0,1,null,1,0.54668387121882422]
[0,1,0,1,0,0,0,1,0,0,0,0,0,0,0,0,0,0,0,null,0,0.18045441755225855]
[0,0,0,0,0,0,0,1,0,0,0,0,0,0,0,1,0,0,0,null,1,0.76559828850508582]
[0,0,0,0,0,0,0,0,0,1,1,0,0,0,0,0,0,0,0,null,1,0.98917061166052533]
[1,0,0,0,0,0,0,1,0,0,1,0,0,0,0,0,0,0,0,null,1,0.15426185024315631]
[0,0,1,1,0,0,0,1,0,0,0,0,0,0,0,0,0,0,0,null,1,0.47434044100958339]
[0,1,0,1,0,0,0,1,0,0,0,0,0,0,1,0,0,0,0,null,0,0.55734482720630163]
[0,0,0,0,0,0,0,1,0,0,1,0,0,0,0,0,0,0,0,null,0,0.66162045283277271]
[0,0,0,1,0,0,1,0,0,0,0,1,0,0,1,0,0,0,0,null,0,0.48460233789459206]
[1,0,0,0,0,0,0,1,0,0,1,0,0,0,0,0,0,0,0,null,0,0.79152238637730277]
[0,0,0,1,0,0,0,1,0,0,0,0,0,0,0,0,0,0,0,null,0,0.83835295099099727]
[0,0,0,1,0,0,0,1,0,0,0,0,0,0,0,0,0,0,0,null,0,0.92980422130215212]
[0,1,0,0,0,0,0,1,0,0,1,0,0,0,0,0,0,0,0,null,0,0.73947233935989831]
[0,0,0,1,1,0,0,0,0,1,0,0,0,0,0,0,0,1,0,null,1,0.1130540639846026]
[0,0,0,1,1,0,0,0,0,0,0,0,0,0,0,0,0,0,0,null,0,0.60054753409350248]
[0,0,0,0,0,0,0,1,0,0,1,0,0,0,0,0,0,0,0,null,0,0.97524542962329563]
[0,1,0,1,0,0,0,1,1,0,0,0,0,0,0,0,0,0,0,null,0,0.44912746005416571]
[0,0,0,0,0,0,0,1,0,0,1,0,1,0,0,0,0,0,0,null,0,0.52690779737429405]
[0,0,0,0,0,0,1,1,0,0,1,0,0,0,0,0,0,0,0,null,0,2.7097496456936709E-2]
[0,0,0,0,0,0,0,1,0,0,0,0,0,0,0,0,0,0,0,null,0,0.93938812789887338]
[0,0,0,1,0,0,0,1,0,0,0,0,0,0,1,0,0,0,0,null,0,0.22378773560934651]
[0,0,0,0,0,0,0,1,0,0,1,0,0,0,1,0,0,0,0,null,0,0.57685410913428403]
[0,0,0,0,0,0,0,1,0,0,1,0,0,0,0,0,0,0,0,null,0,0.10354540684344549]
[0,0,0,0,1,0,0,0,0,0,1,0,0,0,0,0,0,0,0,null,0,0.46681821477423813]
[0,0,0,0,1,0,0,0,0,0,1,0,0,1,0,1,0,0,1,null,1,0.28946862374530347]
[0,0,0,0,1,0,1,0,0,0,1,0,0,0,0,0,0,0,0,null,0,0.2098541426038476]
[1,0,0,1,0,0,0,0,0,0,0,1,0,0,0,0,0,0,0,null,1,0.85902971432556585]
[0,0,0,0,0,0,0,1,0,0,1,0,0,0,0,0,0,0,0,null,0,0.2701364100704271]
[0,0,0,0,1,0,0,0,0,0,0,0,0,1,0,1,0,0,0,null,0,0.97226743465457321]
[0,1,0,0,0,0,0,1,0,0,1,0,0,1,0,1,0,0,1,null,1,0.18515538597923076]
[0,0,0,0,0,0,0,1,0,0,1,0,0,0,0,0,0,0,0,null,1,0.72859828893468714]
[0,0,0,1,0,0,0,0,0,0,0,0,0,0,0,0,0,0,1,null,0,0.15529826005712888]
[0,0,0,0,1,0,0,0,0,0,1,0,0,0,0,0,0,0,0,null,1,0.12796066047543309]
[0,0,0,0,0,0,0,1,0,1,1,0,0,0,1,0,0,0,0,null,0,0.72131123100428807]
[0,1,0,1,1,0,0,0,1,0,0,0,0,1,0,0,1,0,0,null,0,{"$f":"RAND()","v":0.66504532932889993}]
[0,0,0,0,0,0,0,1,0,0,1,0,0,0,0,0,0,0,1,null,0,0.91434944362623416]
[0,0,0,0,0,0,0,1,0,0,1,0,0,1,0,0,0,0,0,null,1,0.9953879994712046]
[1,0,0,0,1,0,1,0,0,0,0,0,0,1,0,0,0,0,0,null,1,3.9653566572768639E-2]
[0,0,0,0,1,0,1,0,0,0,1,0,0,0,1,0,0,0,0,null,0,0.52141035301246341]
[0,0,0,0,0,0,0,1,0,1,1,0,0,0,0,1,0,0,1,null,1,0.96526969510893035]
[0,0,0,0,0,0,0,1,0,0,1,0,0,0,0,0,0,0,0,null,1,0.72529938577046027]
[0,0,0,0,1,0,0,0,1,0,1,0,0,0,0,0,0,0,0,null,0,0.75312446604128558]
[0,1,1,0,0,0,1,1,0,0,1,0,0,0,0,0,0,0,0,null,0,0.21942163976948525]
[0,0,1,1,0,0,0,1,0,1,0,0,0,0,0,0,0,0,0,null,1,0.77323272599391824]
[0,0,0,0,0,0,0,1,1,1,1,1,0,1,0,0,0,0,0,null,1,0.26877442416592956]
[0,0,0,0,0,0,0,1,0,0,1,0,0,0,0,0,0,0,0,null,0,0.19764853078546629]
[0,0,1,0,0,0,0,1,0,1,1,0,0,1,0,0,1,0,0,null,1,0.39232132363937322]
[1,0,0,1,1,0,0,0,0,0,0,0,0,0,0,0,0,0,1,null,1,0.4838598548313886]
[0,0,0,1,0,0,0,1,0,0,0,1,0,0,0,0,0,0,0,null,0,0.82354513713097743]
[0,0,0,0,1,0,0,0,1,0,1,0,0,0,0,0,0,0,0,null,1,0.96614284599319933]
[0,0,0,0,0,0,0,1,0,0,1,1,0,0,0,0,0,0,0,null,0,0.80268492622091592]
[1,1,0,1,0,1,0,1,0,1,0,0,0,0,0,0,0,0,0,null,1,0.93814199191002667]
[0,0,0,0,1,0,0,0,0,0,1,0,0,0,0,0,0,0,1,null,0,0.33365645401363642]
[0,0,0,1,1,0,0,0,0,0,0,0,0,0,0,0,0,0,0,null,0,0.35463086125571297]
[0,1,0,0,0,0,0,1,0,0,1,0,0,0,0,0,0,0,0,null,0,0.52068983090769982]
[0,0,0,0,0,0,0,1,0,0,1,0,0,0,0,0,0,0,0,null,1,0.41915201943217506]
[0,0,0,1,0,0,0,1,0,1,0,0,0,0,0,0,0,0,0,null,1,0.98404170156452309]
[0,0,0,0,0,0,0,1,0,0,1,0,0,0,0,0,0,0,0,null,0,0.83971987639143053]
[0,1,0,0,0,0,0,1,0,1,1,0,0,0,0,0,0,0,0,null,0,0.9581656958548751]
[0,0,0,0,1,0,0,0,0,0,0,0,0,0,0,0,0,0,0,null,0,0.12356396905239464]
[0,0,0,0,0,0,0,0,0,0,1,0,0,0,0,0,0,0,0,null,1,0.23723702528661661]
[0,0,0,1,1,0,0,0,0,1,0,0,0,0,0,0,0,0,0,null,0,0.58231628656178125]
[0,0,0,0,1,0,0,0,0,0,1,0,0,0,0,0,0,0,0,null,0,8.2318263034426353E-2]
[0,0,1,1,0,0,0,1,0,0,0,1,0,0,0,0,0,0,0,null,0,0.85366082035371971]
[0,0,0,1,0,0,0,1,0,0,0,0,0,0,0,0,0,0,0,null,0,5.689998825778575E-2]
[0,0,0,0,1,0,0,0,0,0,1,0,0,1,0,0,0,0,0,null,1,0.548791704742849]
[0,0,0,0,0,0,0,1,0,0,0,0,1,0,0,0,0,0,0,null,1,0.788325931218539]
[0,0,0,0,1,0,0,0,0,0,1,0,0,0,0,0,0,0,1,null,1,0.18308770760562176]
[0,0,0,0,0,0,1,1,0,0,1,0,0,0,1,0,0,0,0,null,0,0.49781807754721241]
[0,0,0,1,1,0,1,0,0,0,0,0,0,0,0,0,0,0,0,null,0,0.24455973696959699]
[0,0,0,0,0,0,0,0,0,1,1,0,1,0,0,1,1,0,0,null,1,0.18755545457371825]
[0,0,0,0,0,0,1,1,0,0,1,0,0,0,0,0,0,0,0,null,0,0.54966532286478942]
[1,1,0,0,0,0,0,1,0,0,0,0,0,0,0,1,0,0,1,null,1,0.69134656822574292]
[0,0,0,0,1,0,0,0,0,0,1,0,0,0,0,0,0,0,0,null,1,8.623597877114253E-2]
[0,0,0,0,1,0,0,0,0,0,1,0,0,0,1,0,0,0,0,null,0,0.86273948388588917]
[0,0,0,0,1,0,0,0,0,0,0,0,1,0,0,0,0,0,0,null,0,0.55354350591616297]
[1,0,0,0,0,0,0,1,0,0,1,0,1,0,0,0,0,0,0,null,1,9.0310439282947574E-2]
[0,1,0,1,0,0,0,1,0,1,0,0,0,0,0,0,0,0,1,null,1,0.27627277908809833]
[0,0,0,1,0,0,0,1,1,0,0,0,0,0,0,1,0,0,0,null,1,0.72410394428146663]
[0,0,1,1,1,0,0,0,0,1,0,0,0,0,0,0,0,0,1,null,1,0.65414249694017357]
[0,0,0,0,1,0,0,0,0,0,1,0,0,0,0,0,0,0,0,null,0,0.55426367112500008]
[0,0,0,0,0,0,0,1,0,0,0,0,0,0,0,1,0,0,1,null,1,0.17411698617401339]
[0,0,0,1,0,0,0,1,0,0,0,0,0,1,0,0,0,0,0,null,1,0.43097637854881177]
[0,0,0,1,0,0,0,1,0,0,0,0,0,0,0,0,0,0,0,null,0,0.61624694685231884]
[0,0,0,1,1,0,0,0,0,0,0,0,0,0,0,0,0,0,0,null,0,0.10702551307533459]
[0,1,0,1,1,0,0,0,0,0,0,0,0,0,0,0,0,0,0,null,0,0.52228258591257959]
[0,0,0,0,1,0,0,0,0,0,1,0,0,0,0,0,0,0,0,null,0,0.63251283401593228]
[0,0,0,0,1,0,0,0,0,0,1,0,0,0,0,0,0,0,0,null,0,0.51413687120697793]
[0,0,0,1,1,0,0,0,0,0,0,0,0,0,1,0,0,0,0,null,0,0.7592887398944711]
[0,0,0,1,0,0,0,1,0,0,0,0,0,0,0,0,0,0,0,null,0,0.94335105150054699]
[0,0,0,0,1,0,0,0,0,0,1,0,0,0,0,0,0,0,0,null,1,0.30117107206835847]
[0,0,0,0,1,0,0,0,0,0,1,0,0,1,0,0,0,0,0,null,1,7.7011719992970407E-2]
[1,0,0,0,1,0,0,0,0,0,1,0,0,0,0,0,1,0,0,null,1,0.44850489959830708]
[0,0,0,1,1,0,0,0,0,0,0,0,0,0,1,0,0,0,0,null,0,0.42543774326015849]
[0,0,0,1,0,0,0,1,0,0,0,0,0,0,0,0,0,0,0,null,0,0.57544463316408134]
[0,0,0,1,1,0,0,0,0,0,0,0,0,0,0,0,0,0,0,null,0,0.70335561214997633]
[0,0,0,0,1,0,0,0,0,1,1,0,0,0,0,0,0,0,0,null,1,0.82523616794957477]
[1,0,0,0,1,0,0,0,0,0,1,0,0,0,0,0,0,0,1,null,1,0.85647275911273379]
[0,0,0,0,0,0,0,0,0,0,1,0,1,0,0,0,0,0,0,null,1,{"$f":"RAND()","v":0.86864363067509731}]
[0,0,0,0,0,0,0,1,0,0,1,0,1,1,0,0,0,0,1,null,1,0.76522940935744777]
[0,0,0,1,1,0,0,0,0,0,0,0,0,1,0,0,0,0,1,null,1,0.69941291606437883]
[0,0,0,1,0,0,0,1,0,0,0,0,0,0,0,0,0,0,1,null,1,0.91753390481800701]
[0,0,0,1,0,0,0,1,0,0,0,0,0,1,0,1,0,0,0,null,1,0.38442476190108166]
[0,0,0,0,0,0,0,1,0,0,1,0,0,0,0,0,0,0,0,null,0,0.53177392155469272]
[0,0,0,0,0,0,1,1,0,1,1,0,0,0,0,0,0,0,0,null,0,0.75298837045165912]
[0,0,0,0,1,0,0,0,0,1,1,0,0,0,0,1,0,0,0,null,1,0.23456441351722457]
[0,1,0,1,0,0,0,0,0,0,0,0,0,0,0,0,0,0,0,null,0,5.435731074468908E-2]
[0,1,0,0,0,0,1,1,0,1,1,1,0,0,0,0,0,0,0,null,0,0.85216284477454773]
[0,0,0,1,0,0,1,1,0,0,0,0,0,0,0,0,0,0,0,null,0,0.97276665400920814]
[0,0,0,1,1,0,0,0,0,0,0,0,0,0,0,0,0,0,0,null,1,0.10249783302212734]
[0,1,0,0,0,0,0,1,0,0,0,0,0,0,1,0,0,0,0,null,0,0.57734444455369982]
[0,0,0,0,0,0,0,0,0,0,1,0,0,0,0,0,0,0,0,null,0,0.63935116615919219]
[0,0,0,0,1,0,0,0,0,0,1,0,0,0,0,0,0,0,0,null,1,0.89198495360736418]
[0,0,0,0,0,0,0,1,0,0,1,1,0,0,0,0,0,0,0,null,1,0.78962865419481476]
[0,0,0,0,0,0,0,0,0,0,1,0,0,0,0,0,1,0,0,null,1,0.32995249126897841]
[0,1,1,1,0,0,0,1,0,0,0,1,0,0,0,0,0,0,0,null,0,0.357051442557066]
[0,0,0,1,0,0,1,1,0,0,0,0,0,0,1,0,0,0,0,null,0,0.57132879212593723]
[0,1,0,0,0,0,0,1,0,0,1,0,0,0,0,0,0,0,0,null,0,0.93462008887387393]
[0,0,0,1,1,0,1,0,0,0,0,0,0,0,0,0,0,0,0,null,0,0.27587518077413831]
[0,0,1,1,0,0,0,1,0,1,0,1,0,1,0,0,0,0,0,null,1,3.8722042269331625E-2]
[0,0,1,0,0,0,0,1,0,0,0,0,0,0,0,0,0,0,0,null,1,0.42716844754857908]
[0,0,0,1,0,0,0,0,0,0,0,0,0,0,0,0,0,0,0,null,0,0.83692758696431646]
[0,1,0,0,1,0,0,0,0,0,1,1,0,0,0,0,0,0,0,null,0,1.8071404246018163E-2]
[0,0,0,0,0,0,0,1,0,0,1,0,0,0,0,0,0,0,0,null,1,0.47204159505796772]
[0,0,0,1,1,0,0,0,0,0,0,0,1,0,0,0,0,0,0,null,0,0.79761579758575807]
[0,0,0,0,0,0,0,1,0,0,1,0,0,0,0,0,0,0,0,null,1,0.31050439998817436]
[0,1,0,0,1,0,0,0,0,0,0,0,1,1,0,0,0,0,0,null,1,0.14822862038967288]
[0,0,0,0,0,0,0,1,0,1,1,1,0,0,0,0,0,0,0,null,0,0.87137122589226923]
[0,0,1,1,0,0,0,1,0,0,0,0,0,0,0,1,0,0,0,null,1,0.86934719218859535]
[0,0,0,0,1,0,0,0,0,0,1,0,0,0,0,0,0,0,0,null,0,0.24356819043744127]
[0,0,0,0,0,0,0,1,0,1,1,0,0,0,0,0,0,0,1,null,1,0.19286873897462586]
[0,0,0,0,1,0,0,0,0,0,1,0,0,1,0,0,0,1,1,null,1,0.70061883895286881]
[0,0,0,0,1,0,1,0,0,0,1,0,0,0,0,0,0,0,0,null,0,0.96139951254039457]
[0,0,0,0,1,0,0,0,0,0,1,0,0,0,0,0,0,0,0,null,1,0.5224210037273499]
[1,0,0,0,1,0,0,0,0,0,1,0,0,0,0,0,0,0,0,null,1,5.5858545950010496E-2]
[0,0,0,0,1,0,0,0,0,0,1,0,0,1,0,0,0,0,0,null,1,0.21819858022994365]
[1,0,0,1,0,0,0,1,0,0,0,0,0,1,1,0,0,0,0,null,1,0.68070379343638454]
[0,0,0,1,0,0,0,1,0,0,0,0,1,0,0,0,0,0,0,null,0,4.2035897398006394E-2]
[0,0,0,0,0,0,0,0,0,0,1,1,0,0,1,0,0,0,0,null,1,0.27692209854544492]
[0,0,0,1,0,0,0,1,0,0,0,0,0,0,0,0,0,0,0,null,0,0.49239400927030441]
[1,0,0,1,0,0,0,1,0,0,0,1,0,0,0,0,0,0,0,null,1,0.41321830747558441]
[0,0,0,1,1,0,0,0,0,0,0,0,0,0,1,1,0,0,0,null,0,0.85588856904089594]
[0,0,1,0,0,0,0,1,0,0,1,0,1,0,0,0,0,0,0,null,1,0.55197618721019925]
[0,0,0,1,0,1,0,1,0,0,0,0,0,1,0,0,0,0,0,null,1,0.8275181492274265]
[1,0,0,1,0,0,0,0,0,0,0,0,0,0,0,0,0,0,1,null,1,0.47973767774116527]
[0,0,0,0,0,0,0,1,0,0,1,0,1,1,0,1,0,0,1,null,1,7.9500021278574917E-2]
[0,1,0,1,0,0,0,1,0,1,0,0,0,0,0,0,0,0,0,null,0,0.43834250490952797]
[0,0,0,1,0,0,0,1,0,0,0,0,0,0,0,1,1,0,0,null,1,3.8268257713546028E-2]
[0,0,0,1,0,0,0,1,0,0,0,0,0,0,0,0,0,0,0,null,0,0.36144087452671947]
[1,0,0,1,0,0,0,1,0,0,0,0,0,1,0,0,0,0,0,null,1,0.51103058514911126]
[0,0,0,0,0,0,0,1,0,0,1,0,0,1,0,0,0,0,0,null,1,0.62093502037627835]
[0,0,0,0,0,0,0,1,0,0,0,0,1,0,0,0,0,0,0,null,1,0.38907599414779737]
[0,0,0,1,0,0,0,1,0,0,0,0,0,0,0,0,0,0,1,null,0,0.11748700257924749]
[0,0,0,1,0,0,0,1,0,0,0,0,0,0,0,0,0,0,0,null,0,0.84818016526744511]
[0,0,0,1,0,0,0,1,0,0,0,0,0,0,0,0,0,0,0,null,0,0.93574955941326632]
[0,0,0,0,0,0,0,1,0,1,1,0,0,0,0,0,0,0,0,null,1,0.94807983470166757]
[0,0,0,0,0,0,0,1,0,0,0,1,0,0,0,0,0,0,0,null,0,0.43920123656755805]
[1,0,0,0,0,0,0,1,0,0,1,0,0,0,0,1,0,0,1,null,1,0.61313067587851489]
[1,0,0,0,0,0,0,0,0,0,1,0,0,0,0,0,0,0,0,null,1,0.65373974776283084]
[0,0,1,0,0,0,0,1,0,0,0,0,0,0,0,0,0,0,1,null,1,0.68714125918063629]
[1,0,0,0,0,0,0,1,0,0,1,0,0,1,0,0,0,0,0,null,1,0.69443568139300627]
[0,1,0,0,0,0,1,1,0,0,1,0,0,0,0,0,0,0,0,null,0,0.8916000611045376]
[0,1,0,1,0,0,1,1,0,0,0,0,0,0,0,0,0,0,0,null,0,{"$f":"RAND()","v":5.331376271079391E-2}]
[0,0,0,1,1,0,1,0,0,0,0,0,0,0,0,0,0,0,0,null,0,0.10920882401071319]
[0,0,0,0,1,0,0,0,0,0,1,0,1,0,0,0,0,0,1,null,1,0.37455895821374052]
[0,0,0,0,0,0,0,0,1,0,1,0,0,1,0,0,0,0,0,null,1,0.32752268038015953]
[1,0,0,1,0,0,0,1,0,0,0,0,0,0,0,0,1,0,1,null,1,0.42772749604742577]
[0,0,0,0,0,0,0,0,0,0,1,0,0,0,0,0,0,0,0,null,0,0.72848069436342344]
[0,0,0,0,0,0,1,1,0,0,1,0,1,0,0,0,0,0,0,null,0,0.88117767477283004]
[0,0,0,1,1,0,1,0,0,0,0,1,0,0,0,0,0,0,0,null,0,0.24179832167764592]
[0,1,0,1,0,0,0,1,0,0,0,0,0,0,0,0,0,0,0,null,0,0.77357406423978414]
[0,0,0,0,0,0,0,1,0,0,1,0,0,0,0,0,0,0,0,null,0,0.96119571079512156]
[0,0,0,0,0,0,0,0,0,0,1,0,0,0,1,0,0,0,0,null,0,0.48197974612894057]
[0,0,0,0,0,0,0,0,0,0,1,0,0,0,0,0,1,0,0,null,1,0.74875080582165099]
[0,1,0,1,0,0,0,1,0,0,0,0,0,0,0,0,0,0,0,null,0,0.59621132905256746]
[1,0,0,1,1,0,0,0,0,0,0,0,0,0,0,0,0,0,0,null,1,0.55346476335706529]
[0,0,0,0,1,0,0,0,0,0,1,0,0,0,0,0,0,0,0,null,1,0.61905580564113138]
[0,0,0,0,0,0,0,1,0,0,1,0,0,1,0,0,0,0,0,null,1,0.28048729976600351]
[0,0,0,0,1,0,0,0,0,0,1,0,0,0,0,0,0,0,0,null,1,0.6864142590831982]
[0,0,0,1,0,1,0,1,0,0,0,0,1,1,0,0,0,0,1,null,1,2.8182323974557111E-3]
[0,0,0,1,1,0,0,0,0,0,0,1,0,0,1,0,0,0,0,null,0,0.41439586013546292]
[0,0,0,0,1,0,0,0,0,0,1,0,1,0,0,0,0,0,1,null,1,0.10521767803905768]
[0,0,0,1,1,0,0,0,0,0,0,0,0,0,0,0,0,0,1,null,1,0.99768515497572607]
[0,1,0,0,0,0,0,1,0,0,1,0,0,0,1,0,0,0,0,null,0,0.52238205010902539]
[1,0,0,0,1,0,0,0,0,0,1,0,0,0,1,0,0,0,0,null,1,0.27344096405237395]
[0,0,1,1,0,0,0,1,0,0,0,0,0,0,0,0,1,0,0,null,1,0.55575896722010587]
[0,0,0,0,0,0,0,1,0,0,0,0,0,0,0,0,0,0,0,null,0,0.88451351007207046]
[0,0,0,1,1,0,0,0,0,1,0,0,0,0,0,0,0,0,1,null,1,5.0864796592342776E-2]
[0,0,0,0,1,0,0,0,0,1,1,0,0,0,0,0,0,0,1,null,1,0.24039964626109889]
[0,0,0,0,0,0,0,1,0,0,1,0,0,0,0,0,0,0,0,null,0,7.0093010203719497E-2]
[0,0,0,0,1,0,0,0,0,0,1,1,0,0,0,1,0,0,0,null,0,0.22859312194721537]
[0,0,0,0,0,0,1,1,0,0,1,0,0,0,0,0,0,0,0,null,0,0.29776665337790276]
[0,0,0,1,0,0,0,1,0,0,0,0,0,0,0,0,0,0,0,null,0,0.98720784187095201]
[0,0,0,0,0,0,1,1,0,0,1,0,0,0,0,0,0,0,0,null,0,0.47527468483923829]
[0,0,0,0,1,0,0,0,0,0,0,0,0,0,0,0,0,0,0,null,1,0.27847914799078211]
[0,0,1,1,0,0,0,1,0,0,0,0,1,0,0,0,0,0,0,null,1,0.92344995420659004]
[0,1,0,0,0,0,0,1,0,0,1,0,0,0,0,0,0,0,0,null,0,0.77999058036436708]
[0,0,0,0,1,0,1,0,0,1,0,0,0,0,0,0,0,0,0,null,1,0.81453686039931195]
[0,0,0,1,0,0,0,1,0,0,0,0,0,0,0,0,1,0,1,null,1,0.61968094867634749]
[0,0,0,1,0,0,0,1,0,0,0,0,0,0,0,0,0,0,0,null,0,0.59615120855320169]
[0,0,0,0,0,0,0,1,0,0,1,0,0,0,0,0,0,0,0,null,1,0.22477044993799478]
[0,0,0,0,0,0,0,1,0,0,1,0,0,0,0,0,0,0,1,null,0,0.51102486485721244]
[0,0,0,0,0,0,0,1,0,1,1,0,0,0,0,0,0,0,1,null,1,0.69503535478450096]
[0,0,1,0,0,0,0,1,0,0,1,1,0,0,0,0,1,0,0,null,1,0.38028187541177239]
[0,0,0,0,1,0,0,0,0,0,1,0,0,0,0,0,0,0,0,null,1,0.88738883596270468]
[0,0,0,1,0,0,0,1,0,0,0,0,0,1,0,0,0,0,0,null,1,0.46455399504838568]
[0,0,0,1,0,0,0,0,1,0,0,0,0,0,0,1,1,0,0,null,1,0.63269618488147683]
[0,0,0,0,0,0,0,1,0,1,0,0,0,1,0,0,0,0,0,null,1,0.60241464653177235]
[0,1,0,1,1,0,0,0,0,1,0,0,0,0,0,0,0,1,0,null,1,0.95356454349110842]
[0,1,0,1,0,0,0,1,0,0,0,1,0,1,0,0,0,0,0,null,0,8.3160703942771752E-3]
[0,0,0,1,0,0,0,1,0,0,0,0,0,0,1,0,0,0,1,null,0,0.58954229928307655]
[1,0,0,0,1,0,0,0,0,1,1,0,0,0,0,0,0,1,0,null,1,0.60063324546190888]
[0,0,0,1,1,0,0,0,0,0,0,1,0,0,0,0,0,0,0,null,0,0.9330232834823361]
[0,0,0,0,0,0,0,1,0,0,1,0,0,0,0,0,0,0,0,null,0,0.46418680580948435]
[1,0,1,0,0,0,1,1,0,1,1,0,0,0,0,0,0,0,0,null,1,0.55589147424603302]
[0,0,0,0,1,0,1,0,0,0,1,0,0,0,0,0,0,0,0,null,0,1.2397025126411165E-2]
[0,1,0,1,0,0,0,1,0,0,0,0,0,0,0,0,0,0,0,null,0,0.78505005061408195]
[0,1,0,1,1,0,1,0,0,0,0,0,0,0,0,0,0,0,0,null,0,0.9787421493140529]
[0,0,0,1,1,0,0,0,0,0,0,0,0,0,0,0,0,0,0,null,1,0.41414867681923029]
[0,0,0,1,0,0,1,0,0,0,0,0,0,0,0,0,0,0,0,null,0,0.78718430911773563]
[0,1,0,0,1,0,0,0,0,0,1,0,0,0,0,0,0,0,0,null,0,0.79142353643107277]
[0,0,0,0,1,0,0,0,0,0,1,0,0,0,0,0,0,0,0,null,0,0.72489612080671606]
[0,0,0,0,1,0,1,0,0,0,1,0,0,0,1,0,0,0,0,null,0,0.91787452000136338]
[0,0,0,1,0,0,0,1,0,0,0,1,0,0,0,0,1,0,0,null,0,0.24999787923420502]
[0,1,0,1,0,0,0,1,0,0,0,1,0,0,0,0,0,0,0,null,0,0.97369345604864332]
[0,0,0,0,0,0,1,1,0,0,1,0,0,0,0,0,0,0,0,null,1,8.9836111349783865E-2]
[0,0,0,0,1,0,0,0,0,0,0,0,1,0,0,0,0,0,0,null,1,{"$f":"RAND()","v":0.29243966916451025}]
[0,0,0,0,0,0,0,1,0,0,1,0,0,0,0,0,0,0,0,null,1,0.64874492805087591]
[0,0,0,1,1,0,0,0,0,0,0,0,1,0,0,1,1,0,0,null,1,0.72727714536204391]
[1,1,0,1,1,0,0,0,0,0,0,0,0,0,0,0,0,0,0,null,1,0.85861001338069565]
[0,1,0,0,1,0,1,0,0,0,1,0,0,0,0,0,0,0,0,null,0,0.54564652248575596]
[0,0,0,0,0,0,1,1,0,0,1,0,0,0,0,0,0,0,0,null,0,0.84139682114282699]
[1,0,1,1,1,0,0,0,0,1,0,0,0,1,0,0,0,0,0,null,1,6.5694002298246068E-2]
[0,0,0,0,0,0,0,1,0,0,1,0,0,0,0,0,0,1,1,null,1,0.64334669124241539]
[0,0,0,0,0,0,0,1,0,1,1,0,0,1,0,0,0,0,0,null,1,0.89158120594208157]
[0,0,0,0,0,0,0,1,0,0,1,0,0,0,0,0,0,0,0,null,0,0.48111454413536603]
[0,0,0,0,1,0,0,0,0,0,0,0,0,0,0,0,0,0,0,null,1,0.26683726003430686]
[0,0,0,1,1,0,0,0,0,0,0,0,0,0,1,0,0,0,0,null,0,0.67957124248278378]
[0,0,0,0,0,0,0,1,0,0,1,0,0,0,0,0,0,0,0,null,0,0.31539293820600867]
[0,0,0,0,0,0,0,1,0,0,1,0,0,0,1,0,0,0,0,null,0,0.76099561036109231]
[0,1,0,0,0,0,0,1,0,0,0,0,0,0,1,0,0,0,0,null,0,0.5357361025994517]
[1,0,0,0,0,0,0,1,0,0,0,0,0,0,0,0,0,0,0,null,1,0.46872138576621836]
[0,0,1,0,1,0,1,0,0,0,0,0,0,0,0,0,0,0,0,null,1,0.14469389909491503]
[0,0,0,1,1,0,0,0,0,1,0,1,0,0,0,0,0,0,0,null,0,0.27790966433384867]
[0,0,0,0,0,1,0,1,0,0,1,0,0,0,1,0,0,0,0,null,0,0.75703324077366907]
[0,0,0,0,1,0,0,0,0,0,0,0,0,0,0,0,0,0,0,null,1,0.33922109698647085]
[1,0,0,1,0,0,0,1,0,0,0,0,0,0,0,0,0,0,1,null,1,0.49670085154987664]
[1,0,1,0,0,0,0,1,0,0,1,0,0,0,0,1,0,0,0,null,1,0.70675425425032412]
[0,0,0,1,1,0,0,0,0,0,0,0,0,0,0,0,0,0,1,null,1,0.31864944355614322]
[0,0,0,0,0,0,0,1,0,0,1,0,0,0,0,0,0,0,0,null,0,6.9591195012446483E-2]
[0,0,0,0,0,0,0,1,0,0,0,0,0,0,1,0,0,0,0,null,0,0.81582673979571307]
[0,0,0,0,1,0,0,0,0,0,1,0,0,0,0,0,0,0,0,null,1,0.23278116880563227]
[1,0,0,1,0,0,0,1,0,0,0,0,1,0,0,0,0,0,0,null,1,0.24958581604576413]
[0,0,0,0,0,0,0,1,0,0,0,0,0,0,0,0,0,0,0,null,0,0.26686016786370381]
[0,1,0,0,1,0,0,0,0,0,1,0,1,0,0,0,0,0,0,null,0,0.70429195850146653]
[0,0,0,0,1,0,0,0,0,0,1,0,0,0,0,0,0,0,0,null,0,0.42825056846708853]
[0,0,0,0,0,0,0,1,0,0,1,0,0,0,0,0,0,0,0,null,0,0.56054870996995809]
[0,0,0,0,0,0,0,1,0,0,1,0,0,1,0,1,0,0,0,null,1,0.20625877276815774]
[0,0,0,0,0,0,0,1,0,1,1,0,0,0,0,0,0,0,0,null,1,0.18667799380072914]
[0,0,1,0,0,0,0,1,0,0,1,0,0,0,0,0,0,0,0,null,1,0.93162439268436426]
[1,0,0,1,0,0,0,1,0,1,0,0,0,0,0,0,0,0,0,null,1,4.9194486882934263E-2]
[0,0,0,1,0,0,0,1,0,0,0,0,0,0,0,0,0,0,0,null,0,0.18042948218391042]
[0,0,0,1,0,0,0,1,0,0,0,0,1,0,1,0,0,0,0,null,0,0.37290854768703829]
[0,0,0,0,1,0,0,0,0,0,1,1,0,0,0,0,0,0,0,null,0,0.52469809397934497]
[0,1,0,0,0,0,0,1,0,0,0,0,0,0,0,0,0,0,0,null,0,5.8826664679505369E-2]
[0,0,1,1,1,0,0,0,0,0,0,0,0,0,0,0,0,0,0,null,1,0.87682242633891694]

{"sheet":"Рис. 6-8","index":2,"n_rows":667,"n_cols":215,"rows_kept":667,"cut":false,"hidden":false,"merged":[[5,6,5,7]]}
[{"$f":"'Рис. 4 и 5'!A2","v":7},{"$f":"'Рис. 4 и 5'!B2","v":6},{"$f":"'Рис. 4 и 5'!C2","v":11},{"$f":"'Рис. 4 и 5'!D2","v":0},{"$f":"'Рис. 4 и 5'!U2","v":"PREGNANT"},null,"PREDICTOR","PREGNANT",{"$f":"A1","v":7},{"$f":"B1","v":6},{"$f":"C1","v":11},{"$f":"D1","v":0},null,"Winner:",{"$f":"INDEX(I1:L1,0,MATCH(MIN(I10:L10),I10:L10,0))","v":7},6,8,7,16,8,8,6,5,5,5,5,5,16,7,18,7,7,18,15,7,5,7,5,18,8,7,4,18,17,7,18,7,5,6,18,7,6,8,18,8,7,5,17,7,8,18,7,17,8,7,7,18,8,13,7,7,16,18,0,7,13,5,5,18,18,13,18,16,18,7,14,17,7,7,15,18,7,7,5,8,16,7,17,8,7,15,7,8,5,14,16,16,12,4,7,17,7,16,5,7,18,18,6,17,5,5,18,7,5,7,4,8,15,17,4,8,5,5,18,18,5,18,8,16,6,6,7,7,7,6,8,7,6,7,5,17,18,7,5,5,6,16,18,16,18,7,18,17,5,16,8,4,7,8,18,18,5,7,4,5,5,5,11,8,5,7,8,7,7,8,6,5,4,8,5,5,8,4,4,16,8,8,13,8,18,6,7,13,8,7,14,17,7,17,5,16,8,8,6,7]
[{"$f":"'Рис. 4 и 5'!A3","v":0},{"$f":"'Рис. 4 и 5'!B3","v":0},{"$f":"'Рис. 4 и 5'!C3","v":0},{"$f":"'Рис. 4 и 5'!D3","v":1},{"$f":"'Рис. 4 и 5'!U3","v":0},null,0,1,{"$f":"COUNTIFS(A$2:A$667,$G2,$E$2:$E$667,$H2)","v":269},{"$f":"COUNTIFS(B$2:B$667,$G2,$E$2:$E$667,$H2)","v":316},302,216,null,"Pregnant is:",{"$f":"INDEX(I6:L6,0,MATCH(MIN(I10:L10),I10:L10,0))","v":1},0,1,1,1,1,1,0,0,0,0,0,0,1,1,1,1,1,1,1,1,0,1,0,1,1,1,1,1,0,1,1,1,0,0,1,1,0,1,1,1,1,0,0,1,1,1,1,0,1,1,1,1,1,1,1,1,1,1,0,1,1,0,0,1,1,1,1,1,1,1,0,0,1,1,1,1,1,1,0,1,1,1,0,1,1,1,1,1,0,0,1,1,1,1,1,0,1,1,0,1,1,1,0,0,0,0,1,1,0,1,1,1,1,0,1,1,0,0,1,1,0,1,1,1,0,0,1,1,1,0,1,1,0,1,0,0,1,1,0,0,0,1,1,1,1,1,1,0,0,1,1,1,1,1,1,1,0,1,1,0,0,0,1,1,0,1,1,1,1,1,0,0,1,1,0,0,1,1,1,1,1,1,1,1,1,0,1,1,1,1,0,0,1,0,0,1,1,1,0,1]
[{"$f":"'Рис. 4 и 5'!A4","v":0},{"$f":"'Рис. 4 и 5'!B4","v":0},{"$f":"'Рис. 4 и 5'!C4","v":0},{"$f":"'Рис. 4 и 5'!D4","v":1},{"$f":"'Рис. 4 и 5'!U4","v":1},null,0,0,330,258,322,179]
[{"$f":"'Рис. 4 и 5'!A5","v":1},{"$f":"'Рис. 4 и 5'!B5","v":0},{"$f":"'Рис. 4 и 5'!C5","v":0},{"$f":"'Рис. 4 и 5'!D5","v":1},{"$f":"'Рис. 4 и 5'!U5","v":1},null,1,1,66,19,33,119]
[{"$f":"'Рис. 4 и 5'!A6","v":0},{"$f":"'Рис. 4 и 5'!B6","v":0},{"$f":"'Рис. 4 и 5'!C6","v":0},{"$f":"'Рис. 4 и 5'!D6","v":0},{"$f":"'Рис. 4 и 5'!U6","v":0},null,1,0,1,73,9,152]
[{"$f":"'Рис. 4 и 5'!A7","v":1},{"$f":"'Рис. 4 и 5'!B7","v":0},{"$f":"'Рис. 4 и 5'!C7","v":1},{"$f":"'Рис. 4 и 5'!D7","v":0},{"$f":"'Рис. 4 и 5'!U7","v":1},null,"Which value indicates pregnancy?",null,{"$f":"IF(I2/(I2+I3)>I4/(I4+I5),0,1)","v":1},{"$f":"IF(J2/(J2+J3)>J4/(J4+J5),0,1)","v":0},1,0]
[{"$f":"'Рис. 4 и 5'!A8","v":0},{"$f":"'Рис. 4 и 5'!B8","v":0},{"$f":"'Рис. 4 и 5'!C8","v":0},{"$f":"'Рис. 4 и 5'!D8","v":0},{"$f":"'Рис. 4 и 5'!U8","v":1}]
[{"$f":"'Рис. 4 и 5'!A9","v":0},{"$f":"'Рис. 4 и 5'!B9","v":0},{"$f":"'Рис. 4 и 5'!C9","v":0},{"$f":"'Рис. 4 и 5'!D9","v":1},{"$f":"'Рис. 4 и 5'!U9","v":0},null,"Impurity",0,{"$f":"1-(I2/(I2+I3))^2-(I3/(I2+I3))^2","v":0.49481467442955845},{"$f":"1-(J2/(J2+J3))^2-(J3/(J2+J3))^2","v":0.49489492406123659},0.4994863576594345,0.49561288255087321]
[{"$f":"'Рис. 4 и 5'!A10","v":0},{"$f":"'Рис. 4 и 5'!B10","v":0},{"$f":"'Рис. 4 и 5'!C10","v":0},{"$f":"'Рис. 4 и 5'!D10","v":0},{"$f":"'Рис. 4 и 5'!U10","v":1},null,null,1,{"$f":"1-(I4/(I4+I5))^2-(I5/(I4+I5))^2","v":2.9405212742258994E-2},{"$f":"1-(J4/(J4+J5))^2-(J5/(J4+J5))^2","v":0.32774102079395084},0.33673469387755106,0.49258588526844682]
[{"$f":"'Рис. 4 и 5'!A11","v":1},{"$f":"'Рис. 4 и 5'!B11","v":0},{"$f":"'Рис. 4 и 5'!C11","v":1},{"$f":"'Рис. 4 и 5'!D11","v":0},{"$f":"'Рис. 4 и 5'!U11","v":1},null,null,"Combined",{"$f":"(I8*(I2+I3)+I9*(I4+I5))/666","v":0.44799420305861387},{"$f":"(J8*(J2+J3)+J9*(J4+J5))/666","v":0.47180459508137135},0.48922273922273918,0.4943811764494655]
[{"$f":"'Рис. 4 и 5'!A12","v":0},{"$f":"'Рис. 4 и 5'!B12","v":0},{"$f":"'Рис. 4 и 5'!C12","v":0},{"$f":"'Рис. 4 и 5'!D12","v":1},{"$f":"'Рис. 4 и 5'!U12","v":0}]
[{"$f":"'Рис. 4 и 5'!A13","v":1},{"$f":"'Рис. 4 и 5'!B13","v":0},{"$f":"'Рис. 4 и 5'!C13","v":0},{"$f":"'Рис. 4 и 5'!D13","v":1},{"$f":"'Рис. 4 и 5'!U13","v":1}]
[{"$f":"'Рис. 4 и 5'!A14","v":0},{"$f":"'Рис. 4 и 5'!B14","v":0},{"$f":"'Рис. 4 и 5'!C14","v":0},{"$f":"'Рис. 4 и 5'!D14","v":0},{"$f":"'Рис. 4 и 5'!U14","v":0}]
[{"$f":"'Рис. 4 и 5'!A15","v":0},{"$f":"'Рис. 4 и 5'!B15","v":0},{"$f":"'Рис. 4 и 5'!C15","v":0},{"$f":"'Рис. 4 и 5'!D15","v":1},{"$f":"'Рис. 4 и 5'!U15","v":0}]
[{"$f":"'Рис. 4 и 5'!A16","v":0},{"$f":"'Рис. 4 и 5'!B16","v":0},{"$f":"'Рис. 4 и 5'!C16","v":1},{"$f":"'Рис. 4 и 5'!D16","v":0},{"$f":"'Рис. 4 и 5'!U16","v":0}]
[{"$f":"'Рис. 4 и 5'!A17","v":0},{"$f":"'Рис. 4 и 5'!B17","v":0},{"$f":"'Рис. 4 и 5'!C17","v":0},{"$f":"'Рис. 4 и 5'!D17","v":0},{"$f":"'Рис. 4 и 5'!U17","v":1}]
[{"$f":"'Рис. 4 и 5'!A18","v":0},{"$f":"'Рис. 4 и 5'!B18","v":0},{"$f":"'Рис. 4 и 5'!C18","v":1},{"$f":"'Рис. 4 и 5'!D18","v":0},{"$f":"'Рис. 4 и 5'!U18","v":1}]
[{"$f":"'Рис. 4 и 5'!A19","v":0},{"$f":"'Рис. 4 и 5'!B19","v":0},{"$f":"'Рис. 4 и 5'!C19","v":0},{"$f":"'Рис. 4 и 5'!D19","v":0},{"$f":"'Рис. 4 и 5'!U19","v":1}]
[{"$f":"'Рис. 4 и 5'!A20","v":0},{"$f":"'Рис. 4 и 5'!B20","v":0},{"$f":"'Рис. 4 и 5'!C20","v":0},{"$f":"'Рис. 4 и 5'!D20","v":0},{"$f":"'Рис. 4 и 5'!U20","v":1}]
[{"$f":"'Рис. 4 и 5'!A21","v":0},{"$f":"'Рис. 4 и 5'!B21","v":0},{"$f":"'Рис. 4 и 5'!C21","v":0},{"$f":"'Рис. 4 и 5'!D21","v":1},{"$f":"'Рис. 4 и 5'!U21","v":1}]
[{"$f":"'Рис. 4 и 5'!A22","v":0},{"$f":"'Рис. 4 и 5'!B22","v":0},{"$f":"'Рис. 4 и 5'!C22","v":0},{"$f":"'Рис. 4 и 5'!D22","v":0},{"$f":"'Рис. 4 и 5'!U22","v":1}]
[{"$f":"'Рис. 4 и 5'!A23","v":0},{"$f":"'Рис. 4 и 5'!B23","v":0},{"$f":"'Рис. 4 и 5'!C23","v":0},{"$f":"'Рис. 4 и 5'!D23","v":1},{"$f":"'Рис. 4 и 5'!U23","v":0}]
[{"$f":"'Рис. 4 и 5'!A24","v":0},{"$f":"'Рис. 4 и 5'!B24","v":0},{"$f":"'Рис. 4 и 5'!C24","v":0},{"$f":"'Рис. 4 и 5'!D24","v":0},{"$f":"'Рис. 4 и 5'!U24","v":0}]
[{"$f":"'Рис. 4 и 5'!A25","v":0},{"$f":"'Рис. 4 и 5'!B25","v":0},{"$f":"'Рис. 4 и 5'!C25","v":0},{"$f":"'Рис. 4 и 5'!D25","v":0},{"$f":"'Рис. 4 и 5'!U25","v":0}]
[{"$f":"'Рис. 4 и 5'!A26","v":0},{"$f":"'Рис. 4 и 5'!B26","v":1},{"$f":"'Рис. 4 и 5'!C26","v":0},{"$f":"'Рис. 4 и 5'!D26","v":1},{"$f":"'Рис. 4 и 5'!U26","v":0}]
[{"$f":"'Рис. 4 и 5'!A27","v":0},{"$f":"'Рис. 4 и 5'!B27","v":0},{"$f":"'Рис. 4 и 5'!C27","v":0},{"$f":"'Рис. 4 и 5'!D27","v":0},{"$f":"'Рис. 4 и 5'!U27","v":1}]
[{"$f":"'Рис. 4 и 5'!A28","v":0},{"$f":"'Рис. 4 и 5'!B28","v":0},{"$f":"'Рис. 4 и 5'!C28","v":0},{"$f":"'Рис. 4 и 5'!D28","v":1},{"$f":"'Рис. 4 и 5'!U28","v":1}]
[{"$f":"'Рис. 4 и 5'!A29","v":0},{"$f":"'Рис. 4 и 5'!B29","v":0},{"$f":"'Рис. 4 и 5'!C29","v":0},{"$f":"'Рис. 4 и 5'!D29","v":1},{"$f":"'Рис. 4 и 5'!U29","v":0}]
[{"$f":"'Рис. 4 и 5'!A30","v":1},{"$f":"'Рис. 4 и 5'!B30","v":0},{"$f":"'Рис. 4 и 5'!C30","v":0},{"$f":"'Рис. 4 и 5'!D30","v":0},{"$f":"'Рис. 4 и 5'!U30","v":1}]
[{"$f":"'Рис. 4 и 5'!A31","v":0},{"$f":"'Рис. 4 и 5'!B31","v":0},{"$f":"'Рис. 4 и 5'!C31","v":0},{"$f":"'Рис. 4 и 5'!D31","v":0},{"$f":"'Рис. 4 и 5'!U31","v":0}]
[{"$f":"'Рис. 4 и 5'!A32","v":0},{"$f":"'Рис. 4 и 5'!B32","v":0},{"$f":"'Рис. 4 и 5'!C32","v":1},{"$f":"'Рис. 4 и 5'!D32","v":1},{"$f":"'Рис. 4 и 5'!U32","v":1}]
[{"$f":"'Рис. 4 и 5'!A33","v":0},{"$f":"'Рис. 4 и 5'!B33","v":0},{"$f":"'Рис. 4 и 5'!C33","v":0},{"$f":"'Рис. 4 и 5'!D33","v":0},{"$f":"'Рис. 4 и 5'!U33","v":0}]
[{"$f":"'Рис. 4 и 5'!A34","v":0},{"$f":"'Рис. 4 и 5'!B34","v":0},{"$f":"'Рис. 4 и 5'!C34","v":0},{"$f":"'Рис. 4 и 5'!D34","v":0},{"$f":"'Рис. 4 и 5'!U34","v":0}]
[{"$f":"'Рис. 4 и 5'!A35","v":0},{"$f":"'Рис. 4 и 5'!B35","v":0},{"$f":"'Рис. 4 и 5'!C35","v":0},{"$f":"'Рис. 4 и 5'!D35","v":0},{"$f":"'Рис. 4 и 5'!U35","v":1}]
[{"$f":"'Рис. 4 и 5'!A36","v":0},{"$f":"'Рис. 4 и 5'!B36","v":0},{"$f":"'Рис. 4 и 5'!C36","v":0},{"$f":"'Рис. 4 и 5'!D36","v":0},{"$f":"'Рис. 4 и 5'!U36","v":1}]
[{"$f":"'Рис. 4 и 5'!A37","v":0},{"$f":"'Рис. 4 и 5'!B37","v":0},{"$f":"'Рис. 4 и 5'!C37","v":0},{"$f":"'Рис. 4 и 5'!D37","v":1},{"$f":"'Рис. 4 и 5'!U37","v":0}]
[{"$f":"'Рис. 4 и 5'!A38","v":0},{"$f":"'Рис. 4 и 5'!B38","v":0},{"$f":"'Рис. 4 и 5'!C38","v":0},{"$f":"'Рис. 4 и 5'!D38","v":0},{"$f":"'Рис. 4 и 5'!U38","v":0}]
[{"$f":"'Рис. 4 и 5'!A39","v":0},{"$f":"'Рис. 4 и 5'!B39","v":0},{"$f":"'Рис. 4 и 5'!C39","v":0},{"$f":"'Рис. 4 и 5'!D39","v":1},{"$f":"'Рис. 4 и 5'!U39","v":1}]
[{"$f":"'Рис. 4 и 5'!A40","v":0},{"$f":"'Рис. 4 и 5'!B40","v":0},{"$f":"'Рис. 4 и 5'!C40","v":0},{"$f":"'Рис. 4 и 5'!D40","v":1},{"$f":"'Рис. 4 и 5'!U40","v":0}]
[{"$f":"'Рис. 4 и 5'!A41","v":0},{"$f":"'Рис. 4 и 5'!B41","v":0},{"$f":"'Рис. 4 и 5'!C41","v":0},{"$f":"'Рис. 4 и 5'!D41","v":0},{"$f":"'Рис. 4 и 5'!U41","v":1}]
[{"$f":"'Рис. 4 и 5'!A42","v":0},{"$f":"'Рис. 4 и 5'!B42","v":0},{"$f":"'Рис. 4 и 5'!C42","v":0},{"$f":"'Рис. 4 и 5'!D42","v":0},{"$f":"'Рис. 4 и 5'!U42","v":0}]
[{"$f":"'Рис. 4 и 5'!A43","v":0},{"$f":"'Рис. 4 и 5'!B43","v":0},{"$f":"'Рис. 4 и 5'!C43","v":0},{"$f":"'Рис. 4 и 5'!D43","v":0},{"$f":"'Рис. 4 и 5'!U43","v":1}]
[{"$f":"'Рис. 4 и 5'!A44","v":0},{"$f":"'Рис. 4 и 5'!B44","v":0},{"$f":"'Рис. 4 и 5'!C44","v":0},{"$f":"'Рис. 4 и 5'!D44","v":0},{"$f":"'Рис. 4 и 5'!U44","v":1}]
[{"$f":"'Рис. 4 и 5'!A45","v":0},{"$f":"'Рис. 4 и 5'!B45","v":0},{"$f":"'Рис. 4 и 5'!C45","v":0},{"$f":"'Рис. 4 и 5'!D45","v":0},{"$f":"'Рис. 4 и 5'!U45","v":1}]
[{"$f":"'Рис. 4 и 5'!A46","v":1},{"$f":"'Рис. 4 и 5'!B46","v":0},{"$f":"'Рис. 4 и 5'!C46","v":1},{"$f":"'Рис. 4 и 5'!D46","v":0},{"$f":"'Рис. 4 и 5'!U46","v":1}]
[{"$f":"'Рис. 4 и 5'!A47","v":0},{"$f":"'Рис. 4 и 5'!B47","v":0},{"$f":"'Рис. 4 и 5'!C47","v":0},{"$f":"'Рис. 4 и 5'!D47","v":1},{"$f":"'Рис. 4 и 5'!U47","v":0}]
[{"$f":"'Рис. 4 и 5'!A48","v":0},{"$f":"'Рис. 4 и 5'!B48","v":0},{"$f":"'Рис. 4 и 5'!C48","v":0},{"$f":"'Рис. 4 и 5'!D48","v":1},{"$f":"'Рис. 4 и 5'!U48","v":1}]
[{"$f":"'Рис. 4 и 5'!A49","v":0},{"$f":"'Рис. 4 и 5'!B49","v":0},{"$f":"'Рис. 4 и 5'!C49","v":0},{"$f":"'Рис. 4 и 5'!D49","v":0},{"$f":"'Рис. 4 и 5'!U49","v":0}]
[{"$f":"'Рис. 4 и 5'!A50","v":0},{"$f":"'Рис. 4 и 5'!B50","v":0},{"$f":"'Рис. 4 и 5'!C50","v":0},{"$f":"'Рис. 4 и 5'!D50","v":1},{"$f":"'Рис. 4 и 5'!U50","v":1}]
[{"$f":"'Рис. 4 и 5'!A51","v":0},{"$f":"'Рис. 4 и 5'!B51","v":1},{"$f":"'Рис. 4 и 5'!C51","v":0},{"$f":"'Рис. 4 и 5'!D51","v":0},{"$f":"'Рис. 4 и 5'!U51","v":0}]
[{"$f":"'Рис. 4 и 5'!A52","v":0},{"$f":"'Рис. 4 и 5'!B52","v":1},{"$f":"'Рис. 4 и 5'!C52","v":0},{"$f":"'Рис. 4 и 5'!D52","v":1},{"$f":"'Рис. 4 и 5'!U52","v":0}]
[{"$f":"'Рис. 4 и 5'!A53","v":0},{"$f":"'Рис. 4 и 5'!B53","v":0},{"$f":"'Рис. 4 и 5'!C53","v":0},{"$f":"'Рис. 4 и 5'!D53","v":0},{"$f":"'Рис. 4 и 5'!U53","v":1}]
[{"$f":"'Рис. 4 и 5'!A54","v":0},{"$f":"'Рис. 4 и 5'!B54","v":0},{"$f":"'Рис. 4 и 5'!C54","v":0},{"$f":"'Рис. 4 и 5'!D54","v":1},{"$f":"'Рис. 4 и 5'!U54","v":0}]
[{"$f":"'Рис. 4 и 5'!A55","v":0},{"$f":"'Рис. 4 и 5'!B55","v":0},{"$f":"'Рис. 4 и 5'!C55","v":0},{"$f":"'Рис. 4 и 5'!D55","v":0},{"$f":"'Рис. 4 и 5'!U55","v":0}]
[{"$f":"'Рис. 4 и 5'!A56","v":0},{"$f":"'Рис. 4 и 5'!B56","v":0},{"$f":"'Рис. 4 и 5'!C56","v":1},{"$f":"'Рис. 4 и 5'!D56","v":0},{"$f":"'Рис. 4 и 5'!U56","v":1}]
[{"$f":"'Рис. 4 и 5'!A57","v":0},{"$f":"'Рис. 4 и 5'!B57","v":1},{"$f":"'Рис. 4 и 5'!C57","v":0},{"$f":"'Рис. 4 и 5'!D57","v":1},{"$f":"'Рис. 4 и 5'!U57","v":0}]
[{"$f":"'Рис. 4 и 5'!A58","v":1},{"$f":"'Рис. 4 и 5'!B58","v":0},{"$f":"'Рис. 4 и 5'!C58","v":0},{"$f":"'Рис. 4 и 5'!D58","v":0},{"$f":"'Рис. 4 и 5'!U58","v":1}]
[{"$f":"'Рис. 4 и 5'!A59","v":0},{"$f":"'Рис. 4 и 5'!B59","v":0},{"$f":"'Рис. 4 и 5'!C59","v":0},{"$f":"'Рис. 4 и 5'!D59","v":1},{"$f":"'Рис. 4 и 5'!U59","v":0}]
[{"$f":"'Рис. 4 и 5'!A60","v":1},{"$f":"'Рис. 4 и 5'!B60","v":0},{"$f":"'Рис. 4 и 5'!C60","v":0},{"$f":"'Рис. 4 и 5'!D60","v":0},{"$f":"'Рис. 4 и 5'!U60","v":1}]
[{"$f":"'Рис. 4 и 5'!A61","v":0},{"$f":"'Рис. 4 и 5'!B61","v":0},{"$f":"'Рис. 4 и 5'!C61","v":0},{"$f":"'Рис. 4 и 5'!D61","v":0},{"$f":"'Рис. 4 и 5'!U61","v":0}]
[{"$f":"'Рис. 4 и 5'!A62","v":0},{"$f":"'Рис. 4 и 5'!B62","v":0},{"$f":"'Рис. 4 и 5'!C62","v":0},{"$f":"'Рис. 4 и 5'!D62","v":0},{"$f":"'Рис. 4 и 5'!U62","v":0}]
[{"$f":"'Рис. 4 и 5'!A63","v":0},{"$f":"'Рис. 4 и 5'!B63","v":0},{"$f":"'Рис. 4 и 5'!C63","v":1},{"$f":"'Рис. 4 и 5'!D63","v":0},{"$f":"'Рис. 4 и 5'!U63","v":1}]
[{"$f":"'Рис. 4 и 5'!A64","v":1},{"$f":"'Рис. 4 и 5'!B64","v":0},{"$f":"'Рис. 4 и 5'!C64","v":0},{"$f":"'Рис. 4 и 5'!D64","v":1},{"$f":"'Рис. 4 и 5'!U64","v":1}]
[{"$f":"'Рис. 4 и 5'!A65","v":0},{"$f":"'Рис. 4 и 5'!B65","v":0},{"$f":"'Рис. 4 и 5'!C65","v":0},{"$f":"'Рис. 4 и 5'!D65","v":0},{"$f":"'Рис. 4 и 5'!U65","v":0}]
[{"$f":"'Рис. 4 и 5'!A66","v":0},{"$f":"'Рис. 4 и 5'!B66","v":0},{"$f":"'Рис. 4 и 5'!C66","v":0},{"$f":"'Рис. 4 и 5'!D66","v":0},{"$f":"'Рис. 4 и 5'!U66","v":0}]
[{"$f":"'Рис. 4 и 5'!A67","v":0},{"$f":"'Рис. 4 и 5'!B67","v":0},{"$f":"'Рис. 4 и 5'!C67","v":0},{"$f":"'Рис. 4 и 5'!D67","v":1},{"$f":"'Рис. 4 и 5'!U67","v":0}]
[{"$f":"'Рис. 4 и 5'!A68","v":0},{"$f":"'Рис. 4 и 5'!B68","v":1},{"$f":"'Рис. 4 и 5'!C68","v":0},{"$f":"'Рис. 4 и 5'!D68","v":0},{"$f":"'Рис. 4 и 5'!U68","v":0}]
[{"$f":"'Рис. 4 и 5'!A69","v":0},{"$f":"'Рис. 4 и 5'!B69","v":0},{"$f":"'Рис. 4 и 5'!C69","v":0},{"$f":"'Рис. 4 и 5'!D69","v":0},{"$f":"'Рис. 4 и 5'!U69","v":0}]
[{"$f":"'Рис. 4 и 5'!A70","v":0},{"$f":"'Рис. 4 и 5'!B70","v":0},{"$f":"'Рис. 4 и 5'!C70","v":0},{"$f":"'Рис. 4 и 5'!D70","v":0},{"$f":"'Рис. 4 и 5'!U70","v":1}]
[{"$f":"'Рис. 4 и 5'!A71","v":0},{"$f":"'Рис. 4 и 5'!B71","v":0},{"$f":"'Рис. 4 и 5'!C71","v":0},{"$f":"'Рис. 4 и 5'!D71","v":0},{"$f":"'Рис. 4 и 5'!U71","v":1}]
[{"$f":"'Рис. 4 и 5'!A72","v":0},{"$f":"'Рис. 4 и 5'!B72","v":0},{"$f":"'Рис. 4 и 5'!C72","v":0},{"$f":"'Рис. 4 и 5'!D72","v":0},{"$f":"'Рис. 4 и 5'!U72","v":0}]
[{"$f":"'Рис. 4 и 5'!A73","v":0},{"$f":"'Рис. 4 и 5'!B73","v":0},{"$f":"'Рис. 4 и 5'!C73","v":0},{"$f":"'Рис. 4 и 5'!D73","v":0},{"$f":"'Рис. 4 и 5'!U73","v":0}]
[{"$f":"'Рис. 4 и 5'!A74","v":0},{"$f":"'Рис. 4 и 5'!B74","v":0},{"$f":"'Рис. 4 и 5'!C74","v":0},{"$f":"'Рис. 4 и 5'!D74","v":0},{"$f":"'Рис. 4 и 5'!U74","v":1}]
[{"$f":"'Рис. 4 и 5'!A75","v":0},{"$f":"'Рис. 4 и 5'!B75","v":0},{"$f":"'Рис. 4 и 5'!C75","v":1},{"$f":"'Рис. 4 и 5'!D75","v":0},{"$f":"'Рис. 4 и 5'!U75","v":1}]
[{"$f":"'Рис. 4 и 5'!A76","v":0},{"$f":"'Рис. 4 и 5'!B76","v":0},{"$f":"'Рис. 4 и 5'!C76","v":0},{"$f":"'Рис. 4 и 5'!D76","v":1},{"$f":"'Рис. 4 и 5'!U76","v":1}]
[{"$f":"'Рис. 4 и 5'!A77","v":0},{"$f":"'Рис. 4 и 5'!B77","v":0},{"$f":"'Рис. 4 и 5'!C77","v":0},{"$f":"'Рис. 4 и 5'!D77","v":1},{"$f":"'Рис. 4 и 5'!U77","v":0}]
[{"$f":"'Рис. 4 и 5'!A78","v":0},{"$f":"'Рис. 4 и 5'!B78","v":0},{"$f":"'Рис. 4 и 5'!C78","v":0},{"$f":"'Рис. 4 и 5'!D78","v":1},{"$f":"'Рис. 4 и 5'!U78","v":1}]
[{"$f":"'Рис. 4 и 5'!A79","v":1},{"$f":"'Рис. 4 и 5'!B79","v":0},{"$f":"'Рис. 4 и 5'!C79","v":0},{"$f":"'Рис. 4 и 5'!D79","v":0},{"$f":"'Рис. 4 и 5'!U79","v":1}]
[{"$f":"'Рис. 4 и 5'!A80","v":0},{"$f":"'Рис. 4 и 5'!B80","v":0},{"$f":"'Рис. 4 и 5'!C80","v":0},{"$f":"'Рис. 4 и 5'!D80","v":0},{"$f":"'Рис. 4 и 5'!U80","v":1}]
[{"$f":"'Рис. 4 и 5'!A81","v":0},{"$f":"'Рис. 4 и 5'!B81","v":0},{"$f":"'Рис. 4 и 5'!C81","v":0},{"$f":"'Рис. 4 и 5'!D81","v":1},{"$f":"'Рис. 4 и 5'!U81","v":0}]
[{"$f":"'Рис. 4 и 5'!A82","v":1},{"$f":"'Рис. 4 и 5'!B82","v":0},{"$f":"'Рис. 4 и 5'!C82","v":0},{"$f":"'Рис. 4 и 5'!D82","v":1},{"$f":"'Рис. 4 и 5'!U82","v":1}]
[{"$f":"'Рис. 4 и 5'!A83","v":0},{"$f":"'Рис. 4 и 5'!B83","v":0},{"$f":"'Рис. 4 и 5'!C83","v":0},{"$f":"'Рис. 4 и 5'!D83","v":1},{"$f":"'Рис. 4 и 5'!U83","v":1}]
[{"$f":"'Рис. 4 и 5'!A84","v":0},{"$f":"'Рис. 4 и 5'!B84","v":0},{"$f":"'Рис. 4 и 5'!C84","v":0},{"$f":"'Рис. 4 и 5'!D84","v":1},{"$f":"'Рис. 4 и 5'!U84","v":0}]
[{"$f":"'Рис. 4 и 5'!A85","v":1},{"$f":"'Рис. 4 и 5'!B85","v":0},{"$f":"'Рис. 4 и 5'!C85","v":0},{"$f":"'Рис. 4 и 5'!D85","v":0},{"$f":"'Рис. 4 и 5'!U85","v":1}]
[{"$f":"'Рис. 4 и 5'!A86","v":0},{"$f":"'Рис. 4 и 5'!B86","v":0},{"$f":"'Рис. 4 и 5'!C86","v":0},{"$f":"'Рис. 4 и 5'!D86","v":0},{"$f":"'Рис. 4 и 5'!U86","v":1}]
[{"$f":"'Рис. 4 и 5'!A87","v":0},{"$f":"'Рис. 4 и 5'!B87","v":0},{"$f":"'Рис. 4 и 5'!C87","v":0},{"$f":"'Рис. 4 и 5'!D87","v":1},{"$f":"'Рис. 4 и 5'!U87","v":0}]
[{"$f":"'Рис. 4 и 5'!A88","v":0},{"$f":"'Рис. 4 и 5'!B88","v":0},{"$f":"'Рис. 4 и 5'!C88","v":0},{"$f":"'Рис. 4 и 5'!D88","v":1},{"$f":"'Рис. 4 и 5'!U88","v":1}]
[{"$f":"'Рис. 4 и 5'!A89","v":0},{"$f":"'Рис. 4 и 5'!B89","v":0},{"$f":"'Рис. 4 и 5'!C89","v":0},{"$f":"'Рис. 4 и 5'!D89","v":1},{"$f":"'Рис. 4 и 5'!U89","v":0}]
[{"$f":"'Рис. 4 и 5'!A90","v":0},{"$f":"'Рис. 4 и 5'!B90","v":1},{"$f":"'Рис. 4 и 5'!C90","v":0},{"$f":"'Рис. 4 и 5'!D90","v":1},{"$f":"'Рис. 4 и 5'!U90","v":1}]
[{"$f":"'Рис. 4 и 5'!A91","v":1},{"$f":"'Рис. 4 и 5'!B91","v":0},{"$f":"'Рис. 4 и 5'!C91","v":0},{"$f":"'Рис. 4 и 5'!D91","v":0},{"$f":"'Рис. 4 и 5'!U91","v":1}]
[{"$f":"'Рис. 4 и 5'!A92","v":0},{"$f":"'Рис. 4 и 5'!B92","v":0},{"$f":"'Рис. 4 и 5'!C92","v":0},{"$f":"'Рис. 4 и 5'!D92","v":1},{"$f":"'Рис. 4 и 5'!U92","v":0}]
[{"$f":"'Рис. 4 и 5'!A93","v":0},{"$f":"'Рис. 4 и 5'!B93","v":0},{"$f":"'Рис. 4 и 5'!C93","v":0},{"$f":"'Рис. 4 и 5'!D93","v":1},{"$f":"'Рис. 4 и 5'!U93","v":1}]
[{"$f":"'Рис. 4 и 5'!A94","v":0},{"$f":"'Рис. 4 и 5'!B94","v":0},{"$f":"'Рис. 4 и 5'!C94","v":0},{"$f":"'Рис. 4 и 5'!D94","v":0},{"$f":"'Рис. 4 и 5'!U94","v":1}]
[{"$f":"'Рис. 4 и 5'!A95","v":0},{"$f":"'Рис. 4 и 5'!B95","v":1},{"$f":"'Рис. 4 и 5'!C95","v":0},{"$f":"'Рис. 4 и 5'!D95","v":0},{"$f":"'Рис. 4 и 5'!U95","v":0}]
[{"$f":"'Рис. 4 и 5'!A96","v":0},{"$f":"'Рис. 4 и 5'!B96","v":0},{"$f":"'Рис. 4 и 5'!C96","v":0},{"$f":"'Рис. 4 и 5'!D96","v":0},{"$f":"'Рис. 4 и 5'!U96","v":0}]
[{"$f":"'Рис. 4 и 5'!A97","v":0},{"$f":"'Рис. 4 и 5'!B97","v":0},{"$f":"'Рис. 4 и 5'!C97","v":0},{"$f":"'Рис. 4 и 5'!D97","v":0},{"$f":"'Рис. 4 и 5'!U97","v":0}]
[{"$f":"'Рис. 4 и 5'!A98","v":0},{"$f":"'Рис. 4 и 5'!B98","v":0},{"$f":"'Рис. 4 и 5'!C98","v":0},{"$f":"'Рис. 4 и 5'!D98","v":0},{"$f":"'Рис. 4 и 5'!U98","v":0}]
[{"$f":"'Рис. 4 и 5'!A99","v":0},{"$f":"'Рис. 4 и 5'!B99","v":0},{"$f":"'Рис. 4 и 5'!C99","v":0},{"$f":"'Рис. 4 и 5'!D99","v":0},{"$f":"'Рис. 4 и 5'!U99","v":1}]
[{"$f":"'Рис. 4 и 5'!A100","v":0},{"$f":"'Рис. 4 и 5'!B100","v":0},{"$f":"'Рис. 4 и 5'!C100","v":0},{"$f":"'Рис. 4 и 5'!D100","v":1},{"$f":"'Рис. 4 и 5'!U100","v":0}]
[{"$f":"'Рис. 4 и 5'!A101","v":0},{"$f":"'Рис. 4 и 5'!B101","v":0},{"$f":"'Рис. 4 и 5'!C101","v":0},{"$f":"'Рис. 4 и 5'!D101","v":0},{"$f":"'Рис. 4 и 5'!U101","v":1}]
[{"$f":"'Рис. 4 и 5'!A102","v":0},{"$f":"'Рис. 4 и 5'!B102","v":0},{"$f":"'Рис. 4 и 5'!C102","v":0},{"$f":"'Рис. 4 и 5'!D102","v":1},{"$f":"'Рис. 4 и 5'!U102","v":1}]
[{"$f":"'Рис. 4 и 5'!A103","v":0},{"$f":"'Рис. 4 и 5'!B103","v":1},{"$f":"'Рис. 4 и 5'!C103","v":0},{"$f":"'Рис. 4 и 5'!D103","v":0},{"$f":"'Рис. 4 и 5'!U103","v":0}]
[{"$f":"'Рис. 4 и 5'!A104","v":0},{"$f":"'Рис. 4 и 5'!B104","v":0},{"$f":"'Рис. 4 и 5'!C104","v":0},{"$f":"'Рис. 4 и 5'!D104","v":1},{"$f":"'Рис. 4 и 5'!U104","v":0}]
[{"$f":"'Рис. 4 и 5'!A105","v":0},{"$f":"'Рис. 4 и 5'!B105","v":0},{"$f":"'Рис. 4 и 5'!C105","v":0},{"$f":"'Рис. 4 и 5'!D105","v":0},{"$f":"'Рис. 4 и 5'!U105","v":0}]
[{"$f":"'Рис. 4 и 5'!A106","v":0},{"$f":"'Рис. 4 и 5'!B106","v":0},{"$f":"'Рис. 4 и 5'!C106","v":0},{"$f":"'Рис. 4 и 5'!D106","v":0},{"$f":"'Рис. 4 и 5'!U106","v":0}]
[{"$f":"'Рис. 4 и 5'!A107","v":0},{"$f":"'Рис. 4 и 5'!B107","v":0},{"$f":"'Рис. 4 и 5'!C107","v":0},{"$f":"'Рис. 4 и 5'!D107","v":1},{"$f":"'Рис. 4 и 5'!U107","v":1}]
[{"$f":"'Рис. 4 и 5'!A108","v":0},{"$f":"'Рис. 4 и 5'!B108","v":1},{"$f":"'Рис. 4 и 5'!C108","v":0},{"$f":"'Рис. 4 и 5'!D108","v":1},{"$f":"'Рис. 4 и 5'!U108","v":1}]
[{"$f":"'Рис. 4 и 5'!A109","v":0},{"$f":"'Рис. 4 и 5'!B109","v":1},{"$f":"'Рис. 4 и 5'!C109","v":0},{"$f":"'Рис. 4 и 5'!D109","v":0},{"$f":"'Рис. 4 и 5'!U109","v":1}]
[{"$f":"'Рис. 4 и 5'!A110","v":0},{"$f":"'Рис. 4 и 5'!B110","v":0},{"$f":"'Рис. 4 и 5'!C110","v":0},{"$f":"'Рис. 4 и 5'!D110","v":0},{"$f":"'Рис. 4 и 5'!U110","v":0}]
[{"$f":"'Рис. 4 и 5'!A111","v":0},{"$f":"'Рис. 4 и 5'!B111","v":0},{"$f":"'Рис. 4 и 5'!C111","v":0},{"$f":"'Рис. 4 и 5'!D111","v":0},{"$f":"'Рис. 4 и 5'!U111","v":1}]
[{"$f":"'Рис. 4 и 5'!A112","v":0},{"$f":"'Рис. 4 и 5'!B112","v":0},{"$f":"'Рис. 4 и 5'!C112","v":0},{"$f":"'Рис. 4 и 5'!D112","v":0},{"$f":"'Рис. 4 и 5'!U112","v":0}]
[{"$f":"'Рис. 4 и 5'!A113","v":0},{"$f":"'Рис. 4 и 5'!B113","v":0},{"$f":"'Рис. 4 и 5'!C113","v":0},{"$f":"'Рис. 4 и 5'!D113","v":1},{"$f":"'Рис. 4 и 5'!U113","v":1}]
[{"$f":"'Рис. 4 и 5'!A114","v":0},{"$f":"'Рис. 4 и 5'!B114","v":0},{"$f":"'Рис. 4 и 5'!C114","v":0},{"$f":"'Рис. 4 и 5'!D114","v":0},{"$f":"'Рис. 4 и 5'!U114","v":1}]
[{"$f":"'Рис. 4 и 5'!A115","v":0},{"$f":"'Рис. 4 и 5'!B115","v":0},{"$f":"'Рис. 4 и 5'!C115","v":0},{"$f":"'Рис. 4 и 5'!D115","v":0},{"$f":"'Рис. 4 и 5'!U115","v":1}]
[{"$f":"'Рис. 4 и 5'!A116","v":0},{"$f":"'Рис. 4 и 5'!B116","v":0},{"$f":"'Рис. 4 и 5'!C116","v":0},{"$f":"'Рис. 4 и 5'!D116","v":0},{"$f":"'Рис. 4 и 5'!U116","v":1}]
[{"$f":"'Рис. 4 и 5'!A117","v":0},{"$f":"'Рис. 4 и 5'!B117","v":0},{"$f":"'Рис. 4 и 5'!C117","v":0},{"$f":"'Рис. 4 и 5'!D117","v":0},{"$f":"'Рис. 4 и 5'!U117","v":1}]
[{"$f":"'Рис. 4 и 5'!A118","v":0},{"$f":"'Рис. 4 и 5'!B118","v":0},{"$f":"'Рис. 4 и 5'!C118","v":0},{"$f":"'Рис. 4 и 5'!D118","v":1},{"$f":"'Рис. 4 и 5'!U118","v":0}]
[{"$f":"'Рис. 4 и 5'!A119","v":0},{"$f":"'Рис. 4 и 5'!B119","v":0},{"$f":"'Рис. 4 и 5'!C119","v":0},{"$f":"'Рис. 4 и 5'!D119","v":1},{"$f":"'Рис. 4 и 5'!U119","v":0}]
[{"$f":"'Рис. 4 и 5'!A120","v":0},{"$f":"'Рис. 4 и 5'!B120","v":0},{"$f":"'Рис. 4 и 5'!C120","v":1},{"$f":"'Рис. 4 и 5'!D120","v":0},{"$f":"'Рис. 4 и 5'!U120","v":1}]
[{"$f":"'Рис. 4 и 5'!A121","v":0},{"$f":"'Рис. 4 и 5'!B121","v":0},{"$f":"'Рис. 4 и 5'!C121","v":0},{"$f":"'Рис. 4 и 5'!D121","v":0},{"$f":"'Рис. 4 и 5'!U121","v":0}]
[{"$f":"'Рис. 4 и 5'!A122","v":0},{"$f":"'Рис. 4 и 5'!B122","v":1},{"$f":"'Рис. 4 и 5'!C122","v":0},{"$f":"'Рис. 4 и 5'!D122","v":0},{"$f":"'Рис. 4 и 5'!U122","v":1}]
[{"$f":"'Рис. 4 и 5'!A123","v":0},{"$f":"'Рис. 4 и 5'!B123","v":0},{"$f":"'Рис. 4 и 5'!C123","v":0},{"$f":"'Рис. 4 и 5'!D123","v":0},{"$f":"'Рис. 4 и 5'!U123","v":1}]
[{"$f":"'Рис. 4 и 5'!A124","v":0},{"$f":"'Рис. 4 и 5'!B124","v":0},{"$f":"'Рис. 4 и 5'!C124","v":0},{"$f":"'Рис. 4 и 5'!D124","v":1},{"$f":"'Рис. 4 и 5'!U124","v":1}]
[{"$f":"'Рис. 4 и 5'!A125","v":0},{"$f":"'Рис. 4 и 5'!B125","v":0},{"$f":"'Рис. 4 и 5'!C125","v":1},{"$f":"'Рис. 4 и 5'!D125","v":1},{"$f":"'Рис. 4 и 5'!U125","v":0}]
[{"$f":"'Рис. 4 и 5'!A126","v":0},{"$f":"'Рис. 4 и 5'!B126","v":0},{"$f":"'Рис. 4 и 5'!C126","v":0},{"$f":"'Рис. 4 и 5'!D126","v":0},{"$f":"'Рис. 4 и 5'!U126","v":0}]
[{"$f":"'Рис. 4 и 5'!A127","v":0},{"$f":"'Рис. 4 и 5'!B127","v":0},{"$f":"'Рис. 4 и 5'!C127","v":0},{"$f":"'Рис. 4 и 5'!D127","v":1},{"$f":"'Рис. 4 и 5'!U127","v":0}]
[{"$f":"'Рис. 4 и 5'!A128","v":0},{"$f":"'Рис. 4 и 5'!B128","v":0},{"$f":"'Рис. 4 и 5'!C128","v":1},{"$f":"'Рис. 4 и 5'!D128","v":1},{"$f":"'Рис. 4 и 5'!U128","v":1}]
[{"$f":"'Рис. 4 и 5'!A129","v":0},{"$f":"'Рис. 4 и 5'!B129","v":1},{"$f":"'Рис. 4 и 5'!C129","v":0},{"$f":"'Рис. 4 и 5'!D129","v":0},{"$f":"'Рис. 4 и 5'!U129","v":0}]
[{"$f":"'Рис. 4 и 5'!A130","v":0},{"$f":"'Рис. 4 и 5'!B130","v":0},{"$f":"'Рис. 4 и 5'!C130","v":0},{"$f":"'Рис. 4 и 5'!D130","v":0},{"$f":"'Рис. 4 и 5'!U130","v":0}]
[{"$f":"'Рис. 4 и 5'!A131","v":0},{"$f":"'Рис. 4 и 5'!B131","v":0},{"$f":"'Рис. 4 и 5'!C131","v":0},{"$f":"'Рис. 4 и 5'!D131","v":0},{"$f":"'Рис. 4 и 5'!U131","v":0}]
[{"$f":"'Рис. 4 и 5'!A132","v":0},{"$f":"'Рис. 4 и 5'!B132","v":0},{"$f":"'Рис. 4 и 5'!C132","v":0},{"$f":"'Рис. 4 и 5'!D132","v":0},{"$f":"'Рис. 4 и 5'!U132","v":1}]
[{"$f":"'Рис. 4 и 5'!A133","v":0},{"$f":"'Рис. 4 и 5'!B133","v":1},{"$f":"'Рис. 4 и 5'!C133","v":0},{"$f":"'Рис. 4 и 5'!D133","v":1},{"$f":"'Рис. 4 и 5'!U133","v":0}]
[{"$f":"'Рис. 4 и 5'!A134","v":1},{"$f":"'Рис. 4 и 5'!B134","v":1},{"$f":"'Рис. 4 и 5'!C134","v":0},{"$f":"'Рис. 4 и 5'!D134","v":0},{"$f":"'Рис. 4 и 5'!U134","v":1}]
[{"$f":"'Рис. 4 и 5'!A135","v":1},{"$f":"'Рис. 4 и 5'!B135","v":0},{"$f":"'Рис. 4 и 5'!C135","v":0},{"$f":"'Рис. 4 и 5'!D135","v":1},{"$f":"'Рис. 4 и 5'!U135","v":1}]
[{"$f":"'Рис. 4 и 5'!A136","v":1},{"$f":"'Рис. 4 и 5'!B136","v":0},{"$f":"'Рис. 4 и 5'!C136","v":0},{"$f":"'Рис. 4 и 5'!D136","v":1},{"$f":"'Рис. 4 и 5'!U136","v":1}]
[{"$f":"'Рис. 4 и 5'!A137","v":0},{"$f":"'Рис. 4 и 5'!B137","v":0},{"$f":"'Рис. 4 и 5'!C137","v":0},{"$f":"'Рис. 4 и 5'!D137","v":0},{"$f":"'Рис. 4 и 5'!U137","v":1}]
[{"$f":"'Рис. 4 и 5'!A138","v":0},{"$f":"'Рис. 4 и 5'!B138","v":0},{"$f":"'Рис. 4 и 5'!C138","v":0},{"$f":"'Рис. 4 и 5'!D138","v":1},{"$f":"'Рис. 4 и 5'!U138","v":0}]
[{"$f":"'Рис. 4 и 5'!A139","v":0},{"$f":"'Рис. 4 и 5'!B139","v":0},{"$f":"'Рис. 4 и 5'!C139","v":0},{"$f":"'Рис. 4 и 5'!D139","v":0},{"$f":"'Рис. 4 и 5'!U139","v":1}]
[{"$f":"'Рис. 4 и 5'!A140","v":0},{"$f":"'Рис. 4 и 5'!B140","v":0},{"$f":"'Рис. 4 и 5'!C140","v":0},{"$f":"'Рис. 4 и 5'!D140","v":0},{"$f":"'Рис. 4 и 5'!U140","v":0}]
[{"$f":"'Рис. 4 и 5'!A141","v":0},{"$f":"'Рис. 4 и 5'!B141","v":0},{"$f":"'Рис. 4 и 5'!C141","v":0},{"$f":"'Рис. 4 и 5'!D141","v":0},{"$f":"'Рис. 4 и 5'!U141","v":0}]
[{"$f":"'Рис. 4 и 5'!A142","v":1},{"$f":"'Рис. 4 и 5'!B142","v":0},{"$f":"'Рис. 4 и 5'!C142","v":0},{"$f":"'Рис. 4 и 5'!D142","v":1},{"$f":"'Рис. 4 и 5'!U142","v":1}]
[{"$f":"'Рис. 4 и 5'!A143","v":0},{"$f":"'Рис. 4 и 5'!B143","v":0},{"$f":"'Рис. 4 и 5'!C143","v":0},{"$f":"'Рис. 4 и 5'!D143","v":0},{"$f":"'Рис. 4 и 5'!U143","v":0}]
[{"$f":"'Рис. 4 и 5'!A144","v":0},{"$f":"'Рис. 4 и 5'!B144","v":0},{"$f":"'Рис. 4 и 5'!C144","v":0},{"$f":"'Рис. 4 и 5'!D144","v":0},{"$f":"'Рис. 4 и 5'!U144","v":0}]
[{"$f":"'Рис. 4 и 5'!A145","v":0},{"$f":"'Рис. 4 и 5'!B145","v":0},{"$f":"'Рис. 4 и 5'!C145","v":0},{"$f":"'Рис. 4 и 5'!D145","v":0},{"$f":"'Рис. 4 и 5'!U145","v":1}]
[{"$f":"'Рис. 4 и 5'!A146","v":0},{"$f":"'Рис. 4 и 5'!B146","v":0},{"$f":"'Рис. 4 и 5'!C146","v":0},{"$f":"'Рис. 4 и 5'!D146","v":1},{"$f":"'Рис. 4 и 5'!U146","v":1}]
[{"$f":"'Рис. 4 и 5'!A147","v":0},{"$f":"'Рис. 4 и 5'!B147","v":1},{"$f":"'Рис. 4 и 5'!C147","v":0},{"$f":"'Рис. 4 и 5'!D147","v":0},{"$f":"'Рис. 4 и 5'!U147","v":0}]
[{"$f":"'Рис. 4 и 5'!A148","v":0},{"$f":"'Рис. 4 и 5'!B148","v":1},{"$f":"'Рис. 4 и 5'!C148","v":0},{"$f":"'Рис. 4 и 5'!D148","v":1},{"$f":"'Рис. 4 и 5'!U148","v":0}]
[{"$f":"'Рис. 4 и 5'!A149","v":0},{"$f":"'Рис. 4 и 5'!B149","v":0},{"$f":"'Рис. 4 и 5'!C149","v":0},{"$f":"'Рис. 4 и 5'!D149","v":1},{"$f":"'Рис. 4 и 5'!U149","v":1}]
[{"$f":"'Рис. 4 и 5'!A150","v":0},{"$f":"'Рис. 4 и 5'!B150","v":0},{"$f":"'Рис. 4 и 5'!C150","v":0},{"$f":"'Рис. 4 и 5'!D150","v":1},{"$f":"'Рис. 4 и 5'!U150","v":0}]
[{"$f":"'Рис. 4 и 5'!A151","v":1},{"$f":"'Рис. 4 и 5'!B151","v":0},{"$f":"'Рис. 4 и 5'!C151","v":0},{"$f":"'Рис. 4 и 5'!D151","v":0},{"$f":"'Рис. 4 и 5'!U151","v":1}]
[{"$f":"'Рис. 4 и 5'!A152","v":0},{"$f":"'Рис. 4 и 5'!B152","v":0},{"$f":"'Рис. 4 и 5'!C152","v":0},{"$f":"'Рис. 4 и 5'!D152","v":0},{"$f":"'Рис. 4 и 5'!U152","v":0}]
[{"$f":"'Рис. 4 и 5'!A153","v":0},{"$f":"'Рис. 4 и 5'!B153","v":0},{"$f":"'Рис. 4 и 5'!C153","v":0},{"$f":"'Рис. 4 и 5'!D153","v":1},{"$f":"'Рис. 4 и 5'!U153","v":0}]
[{"$f":"'Рис. 4 и 5'!A154","v":0},{"$f":"'Рис. 4 и 5'!B154","v":1},{"$f":"'Рис. 4 и 5'!C154","v":0},{"$f":"'Рис. 4 и 5'!D154","v":0},{"$f":"'Рис. 4 и 5'!U154","v":0}]
[{"$f":"'Рис. 4 и 5'!A155","v":0},{"$f":"'Рис. 4 и 5'!B155","v":0},{"$f":"'Рис. 4 и 5'!C155","v":0},{"$f":"'Рис. 4 и 5'!D155","v":1},{"$f":"'Рис. 4 и 5'!U155","v":0}]
[{"$f":"'Рис. 4 и 5'!A156","v":0},{"$f":"'Рис. 4 и 5'!B156","v":0},{"$f":"'Рис. 4 и 5'!C156","v":0},{"$f":"'Рис. 4 и 5'!D156","v":1},{"$f":"'Рис. 4 и 5'!U156","v":0}]
[{"$f":"'Рис. 4 и 5'!A157","v":0},{"$f":"'Рис. 4 и 5'!B157","v":0},{"$f":"'Рис. 4 и 5'!C157","v":0},{"$f":"'Рис. 4 и 5'!D157","v":0},{"$f":"'Рис. 4 и 5'!U157","v":1}]
[{"$f":"'Рис. 4 и 5'!A158","v":0},{"$f":"'Рис. 4 и 5'!B158","v":1},{"$f":"'Рис. 4 и 5'!C158","v":0},{"$f":"'Рис. 4 и 5'!D158","v":0},{"$f":"'Рис. 4 и 5'!U158","v":0}]
[{"$f":"'Рис. 4 и 5'!A159","v":1},{"$f":"'Рис. 4 и 5'!B159","v":0},{"$f":"'Рис. 4 и 5'!C159","v":0},{"$f":"'Рис. 4 и 5'!D159","v":0},{"$f":"'Рис. 4 и 5'!U159","v":1}]
[{"$f":"'Рис. 4 и 5'!A160","v":0},{"$f":"'Рис. 4 и 5'!B160","v":0},{"$f":"'Рис. 4 и 5'!C160","v":0},{"$f":"'Рис. 4 и 5'!D160","v":0},{"$f":"'Рис. 4 и 5'!U160","v":0}]
[{"$f":"'Рис. 4 и 5'!A161","v":0},{"$f":"'Рис. 4 и 5'!B161","v":0},{"$f":"'Рис. 4 и 5'!C161","v":0},{"$f":"'Рис. 4 и 5'!D161","v":0},{"$f":"'Рис. 4 и 5'!U161","v":0}]
[{"$f":"'Рис. 4 и 5'!A162","v":1},{"$f":"'Рис. 4 и 5'!B162","v":0},{"$f":"'Рис. 4 и 5'!C162","v":1},{"$f":"'Рис. 4 и 5'!D162","v":0},{"$f":"'Рис. 4 и 5'!U162","v":1}]
[{"$f":"'Рис. 4 и 5'!A163","v":0},{"$f":"'Рис. 4 и 5'!B163","v":0},{"$f":"'Рис. 4 и 5'!C163","v":0},{"$f":"'Рис. 4 и 5'!D163","v":0},{"$f":"'Рис. 4 и 5'!U163","v":0}]
[{"$f":"'Рис. 4 и 5'!A164","v":0},{"$f":"'Рис. 4 и 5'!B164","v":0},{"$f":"'Рис. 4 и 5'!C164","v":0},{"$f":"'Рис. 4 и 5'!D164","v":0},{"$f":"'Рис. 4 и 5'!U164","v":0}]
[{"$f":"'Рис. 4 и 5'!A165","v":0},{"$f":"'Рис. 4 и 5'!B165","v":0},{"$f":"'Рис. 4 и 5'!C165","v":0},{"$f":"'Рис. 4 и 5'!D165","v":0},{"$f":"'Рис. 4 и 5'!U165","v":1}]
[{"$f":"'Рис. 4 и 5'!A166","v":0},{"$f":"'Рис. 4 и 5'!B166","v":0},{"$f":"'Рис. 4 и 5'!C166","v":0},{"$f":"'Рис. 4 и 5'!D166","v":1},{"$f":"'Рис. 4 и 5'!U166","v":1}]
[{"$f":"'Рис. 4 и 5'!A167","v":0},{"$f":"'Рис. 4 и 5'!B167","v":0},{"$f":"'Рис. 4 и 5'!C167","v":0},{"$f":"'Рис. 4 и 5'!D167","v":0},{"$f":"'Рис. 4 и 5'!U167","v":1}]
[{"$f":"'Рис. 4 и 5'!A168","v":0},{"$f":"'Рис. 4 и 5'!B168","v":1},{"$f":"'Рис. 4 и 5'!C168","v":0},{"$f":"'Рис. 4 и 5'!D168","v":0},{"$f":"'Рис. 4 и 5'!U168","v":0}]
[{"$f":"'Рис. 4 и 5'!A169","v":0},{"$f":"'Рис. 4 и 5'!B169","v":0},{"$f":"'Рис. 4 и 5'!C169","v":0},{"$f":"'Рис. 4 и 5'!D169","v":1},{"$f":"'Рис. 4 и 5'!U169","v":0}]
[{"$f":"'Рис. 4 и 5'!A170","v":0},{"$f":"'Рис. 4 и 5'!B170","v":0},{"$f":"'Рис. 4 и 5'!C170","v":0},{"$f":"'Рис. 4 и 5'!D170","v":0},{"$f":"'Рис. 4 и 5'!U170","v":0}]
[{"$f":"'Рис. 4 и 5'!A171","v":0},{"$f":"'Рис. 4 и 5'!B171","v":0},{"$f":"'Рис. 4 и 5'!C171","v":0},{"$f":"'Рис. 4 и 5'!D171","v":1},{"$f":"'Рис. 4 и 5'!U171","v":1}]
[{"$f":"'Рис. 4 и 5'!A172","v":0},{"$f":"'Рис. 4 и 5'!B172","v":0},{"$f":"'Рис. 4 и 5'!C172","v":0},{"$f":"'Рис. 4 и 5'!D172","v":1},{"$f":"'Рис. 4 и 5'!U172","v":0}]
[{"$f":"'Рис. 4 и 5'!A173","v":0},{"$f":"'Рис. 4 и 5'!B173","v":0},{"$f":"'Рис. 4 и 5'!C173","v":1},{"$f":"'Рис. 4 и 5'!D173","v":1},{"$f":"'Рис. 4 и 5'!U173","v":1}]
[{"$f":"'Рис. 4 и 5'!A174","v":0},{"$f":"'Рис. 4 и 5'!B174","v":0},{"$f":"'Рис. 4 и 5'!C174","v":0},{"$f":"'Рис. 4 и 5'!D174","v":0},{"$f":"'Рис. 4 и 5'!U174","v":1}]
[{"$f":"'Рис. 4 и 5'!A175","v":0},{"$f":"'Рис. 4 и 5'!B175","v":0},{"$f":"'Рис. 4 и 5'!C175","v":0},{"$f":"'Рис. 4 и 5'!D175","v":0},{"$f":"'Рис. 4 и 5'!U175","v":0}]
[{"$f":"'Рис. 4 и 5'!A176","v":0},{"$f":"'Рис. 4 и 5'!B176","v":0},{"$f":"'Рис. 4 и 5'!C176","v":0},{"$f":"'Рис. 4 и 5'!D176","v":0},{"$f":"'Рис. 4 и 5'!U176","v":1}]
[{"$f":"'Рис. 4 и 5'!A177","v":0},{"$f":"'Рис. 4 и 5'!B177","v":0},{"$f":"'Рис. 4 и 5'!C177","v":0},{"$f":"'Рис. 4 и 5'!D177","v":1},{"$f":"'Рис. 4 и 5'!U177","v":0}]
[{"$f":"'Рис. 4 и 5'!A178","v":0},{"$f":"'Рис. 4 и 5'!B178","v":1},{"$f":"'Рис. 4 и 5'!C178","v":0},{"$f":"'Рис. 4 и 5'!D178","v":1},{"$f":"'Рис. 4 и 5'!U178","v":0}]
[{"$f":"'Рис. 4 и 5'!A179","v":0},{"$f":"'Рис. 4 и 5'!B179","v":0},{"$f":"'Рис. 4 и 5'!C179","v":1},{"$f":"'Рис. 4 и 5'!D179","v":1},{"$f":"'Рис. 4 и 5'!U179","v":0}]
[{"$f":"'Рис. 4 и 5'!A180","v":0},{"$f":"'Рис. 4 и 5'!B180","v":0},{"$f":"'Рис. 4 и 5'!C180","v":0},{"$f":"'Рис. 4 и 5'!D180","v":0},{"$f":"'Рис. 4 и 5'!U180","v":0}]
[{"$f":"'Рис. 4 и 5'!A181","v":1},{"$f":"'Рис. 4 и 5'!B181","v":0},{"$f":"'Рис. 4 и 5'!C181","v":0},{"$f":"'Рис. 4 и 5'!D181","v":1},{"$f":"'Рис. 4 и 5'!U181","v":1}]
[{"$f":"'Рис. 4 и 5'!A182","v":0},{"$f":"'Рис. 4 и 5'!B182","v":0},{"$f":"'Рис. 4 и 5'!C182","v":0},{"$f":"'Рис. 4 и 5'!D182","v":0},{"$f":"'Рис. 4 и 5'!U182","v":1}]
[{"$f":"'Рис. 4 и 5'!A183","v":0},{"$f":"'Рис. 4 и 5'!B183","v":0},{"$f":"'Рис. 4 и 5'!C183","v":0},{"$f":"'Рис. 4 и 5'!D183","v":0},{"$f":"'Рис. 4 и 5'!U183","v":1}]
[{"$f":"'Рис. 4 и 5'!A184","v":0},{"$f":"'Рис. 4 и 5'!B184","v":1},{"$f":"'Рис. 4 и 5'!C184","v":0},{"$f":"'Рис. 4 и 5'!D184","v":0},{"$f":"'Рис. 4 и 5'!U184","v":1}]
[{"$f":"'Рис. 4 и 5'!A185","v":0},{"$f":"'Рис. 4 и 5'!B185","v":0},{"$f":"'Рис. 4 и 5'!C185","v":0},{"$f":"'Рис. 4 и 5'!D185","v":0},{"$f":"'Рис. 4 и 5'!U185","v":0}]
[{"$f":"'Рис. 4 и 5'!A186","v":0},{"$f":"'Рис. 4 и 5'!B186","v":0},{"$f":"'Рис. 4 и 5'!C186","v":0},{"$f":"'Рис. 4 и 5'!D186","v":0},{"$f":"'Рис. 4 и 5'!U186","v":1}]
[{"$f":"'Рис. 4 и 5'!A187","v":0},{"$f":"'Рис. 4 и 5'!B187","v":0},{"$f":"'Рис. 4 и 5'!C187","v":0},{"$f":"'Рис. 4 и 5'!D187","v":0},{"$f":"'Рис. 4 и 5'!U187","v":1}]
[{"$f":"'Рис. 4 и 5'!A188","v":0},{"$f":"'Рис. 4 и 5'!B188","v":0},{"$f":"'Рис. 4 и 5'!C188","v":0},{"$f":"'Рис. 4 и 5'!D188","v":1},{"$f":"'Рис. 4 и 5'!U188","v":0}]
[{"$f":"'Рис. 4 и 5'!A189","v":0},{"$f":"'Рис. 4 и 5'!B189","v":0},{"$f":"'Рис. 4 и 5'!C189","v":0},{"$f":"'Рис. 4 и 5'!D189","v":1},{"$f":"'Рис. 4 и 5'!U189","v":0}]
[{"$f":"'Рис. 4 и 5'!A190","v":0},{"$f":"'Рис. 4 и 5'!B190","v":0},{"$f":"'Рис. 4 и 5'!C190","v":0},{"$f":"'Рис. 4 и 5'!D190","v":0},{"$f":"'Рис. 4 и 5'!U190","v":0}]
[{"$f":"'Рис. 4 и 5'!A191","v":0},{"$f":"'Рис. 4 и 5'!B191","v":1},{"$f":"'Рис. 4 и 5'!C191","v":0},{"$f":"'Рис. 4 и 5'!D191","v":1},{"$f":"'Рис. 4 и 5'!U191","v":0}]
[{"$f":"'Рис. 4 и 5'!A192","v":0},{"$f":"'Рис. 4 и 5'!B192","v":0},{"$f":"'Рис. 4 и 5'!C192","v":0},{"$f":"'Рис. 4 и 5'!D192","v":0},{"$f":"'Рис. 4 и 5'!U192","v":1}]
[{"$f":"'Рис. 4 и 5'!A193","v":0},{"$f":"'Рис. 4 и 5'!B193","v":0},{"$f":"'Рис. 4 и 5'!C193","v":0},{"$f":"'Рис. 4 и 5'!D193","v":1},{"$f":"'Рис. 4 и 5'!U193","v":0}]
[{"$f":"'Рис. 4 и 5'!A194","v":1},{"$f":"'Рис. 4 и 5'!B194","v":0},{"$f":"'Рис. 4 и 5'!C194","v":0},{"$f":"'Рис. 4 и 5'!D194","v":1},{"$f":"'Рис. 4 и 5'!U194","v":1}]
[{"$f":"'Рис. 4 и 5'!A195","v":1},{"$f":"'Рис. 4 и 5'!B195","v":0},{"$f":"'Рис. 4 и 5'!C195","v":0},{"$f":"'Рис. 4 и 5'!D195","v":0},{"$f":"'Рис. 4 и 5'!U195","v":1}]
[{"$f":"'Рис. 4 и 5'!A196","v":0},{"$f":"'Рис. 4 и 5'!B196","v":0},{"$f":"'Рис. 4 и 5'!C196","v":1},{"$f":"'Рис. 4 и 5'!D196","v":0},{"$f":"'Рис. 4 и 5'!U196","v":1}]
[{"$f":"'Рис. 4 и 5'!A197","v":0},{"$f":"'Рис. 4 и 5'!B197","v":0},{"$f":"'Рис. 4 и 5'!C197","v":0},{"$f":"'Рис. 4 и 5'!D197","v":0},{"$f":"'Рис. 4 и 5'!U197","v":0}]
[{"$f":"'Рис. 4 и 5'!A198","v":0},{"$f":"'Рис. 4 и 5'!B198","v":1},{"$f":"'Рис. 4 и 5'!C198","v":0},{"$f":"'Рис. 4 и 5'!D198","v":0},{"$f":"'Рис. 4 и 5'!U198","v":1}]
[{"$f":"'Рис. 4 и 5'!A199","v":0},{"$f":"'Рис. 4 и 5'!B199","v":0},{"$f":"'Рис. 4 и 5'!C199","v":0},{"$f":"'Рис. 4 и 5'!D199","v":0},{"$f":"'Рис. 4 и 5'!U199","v":0}]
[{"$f":"'Рис. 4 и 5'!A200","v":0},{"$f":"'Рис. 4 и 5'!B200","v":0},{"$f":"'Рис. 4 и 5'!C200","v":0},{"$f":"'Рис. 4 и 5'!D200","v":1},{"$f":"'Рис. 4 и 5'!U200","v":0}]
[{"$f":"'Рис. 4 и 5'!A201","v":0},{"$f":"'Рис. 4 и 5'!B201","v":0},{"$f":"'Рис. 4 и 5'!C201","v":0},{"$f":"'Рис. 4 и 5'!D201","v":1},{"$f":"'Рис. 4 и 5'!U201","v":0}]
[{"$f":"'Рис. 4 и 5'!A202","v":1},{"$f":"'Рис. 4 и 5'!B202","v":0},{"$f":"'Рис. 4 и 5'!C202","v":0},{"$f":"'Рис. 4 и 5'!D202","v":0},{"$f":"'Рис. 4 и 5'!U202","v":1}]
[{"$f":"'Рис. 4 и 5'!A203","v":0},{"$f":"'Рис. 4 и 5'!B203","v":0},{"$f":"'Рис. 4 и 5'!C203","v":0},{"$f":"'Рис. 4 и 5'!D203","v":1},{"$f":"'Рис. 4 и 5'!U203","v":0}]
[{"$f":"'Рис. 4 и 5'!A204","v":0},{"$f":"'Рис. 4 и 5'!B204","v":0},{"$f":"'Рис. 4 и 5'!C204","v":0},{"$f":"'Рис. 4 и 5'!D204","v":0},{"$f":"'Рис. 4 и 5'!U204","v":1}]
[{"$f":"'Рис. 4 и 5'!A205","v":0},{"$f":"'Рис. 4 и 5'!B205","v":0},{"$f":"'Рис. 4 и 5'!C205","v":0},{"$f":"'Рис. 4 и 5'!D205","v":1},{"$f":"'Рис. 4 и 5'!U205","v":0}]
[{"$f":"'Рис. 4 и 5'!A206","v":0},{"$f":"'Рис. 4 и 5'!B206","v":0},{"$f":"'Рис. 4 и 5'!C206","v":0},{"$f":"'Рис. 4 и 5'!D206","v":0},{"$f":"'Рис. 4 и 5'!U206","v":1}]
[{"$f":"'Рис. 4 и 5'!A207","v":0},{"$f":"'Рис. 4 и 5'!B207","v":0},{"$f":"'Рис. 4 и 5'!C207","v":0},{"$f":"'Рис. 4 и 5'!D207","v":1},{"$f":"'Рис. 4 и 5'!U207","v":0}]
[{"$f":"'Рис. 4 и 5'!A208","v":0},{"$f":"'Рис. 4 и 5'!B208","v":0},{"$f":"'Рис. 4 и 5'!C208","v":0},{"$f":"'Рис. 4 и 5'!D208","v":0},{"$f":"'Рис. 4 и 5'!U208","v":1}]
[{"$f":"'Рис. 4 и 5'!A209","v":0},{"$f":"'Рис. 4 и 5'!B209","v":1},{"$f":"'Рис. 4 и 5'!C209","v":0},{"$f":"'Рис. 4 и 5'!D209","v":0},{"$f":"'Рис. 4 и 5'!U209","v":0}]
[{"$f":"'Рис. 4 и 5'!A210","v":0},{"$f":"'Рис. 4 и 5'!B210","v":0},{"$f":"'Рис. 4 и 5'!C210","v":0},{"$f":"'Рис. 4 и 5'!D210","v":1},{"$f":"'Рис. 4 и 5'!U210","v":0}]
[{"$f":"'Рис. 4 и 5'!A211","v":0},{"$f":"'Рис. 4 и 5'!B211","v":0},{"$f":"'Рис. 4 и 5'!C211","v":0},{"$f":"'Рис. 4 и 5'!D211","v":1},{"$f":"'Рис. 4 и 5'!U211","v":0}]
[{"$f":"'Рис. 4 и 5'!A212","v":0},{"$f":"'Рис. 4 и 5'!B212","v":0},{"$f":"'Рис. 4 и 5'!C212","v":0},{"$f":"'Рис. 4 и 5'!D212","v":0},{"$f":"'Рис. 4 и 5'!U212","v":1}]
[{"$f":"'Рис. 4 и 5'!A213","v":0},{"$f":"'Рис. 4 и 5'!B213","v":1},{"$f":"'Рис. 4 и 5'!C213","v":0},{"$f":"'Рис. 4 и 5'!D213","v":0},{"$f":"'Рис. 4 и 5'!U213","v":0}]
[{"$f":"'Рис. 4 и 5'!A214","v":0},{"$f":"'Рис. 4 и 5'!B214","v":1},{"$f":"'Рис. 4 и 5'!C214","v":0},{"$f":"'Рис. 4 и 5'!D214","v":1},{"$f":"'Рис. 4 и 5'!U214","v":0}]
[{"$f":"'Рис. 4 и 5'!A215","v":0},{"$f":"'Рис. 4 и 5'!B215","v":1},{"$f":"'Рис. 4 и 5'!C215","v":0},{"$f":"'Рис. 4 и 5'!D215","v":0},{"$f":"'Рис. 4 и 5'!U215","v":0}]
[{"$f":"'Рис. 4 и 5'!A216","v":0},{"$f":"'Рис. 4 и 5'!B216","v":0},{"$f":"'Рис. 4 и 5'!C216","v":0},{"$f":"'Рис. 4 и 5'!D216","v":0},{"$f":"'Рис. 4 и 5'!U216","v":1}]
[{"$f":"'Рис. 4 и 5'!A217","v":0},{"$f":"'Рис. 4 и 5'!B217","v":1},{"$f":"'Рис. 4 и 5'!C217","v":0},{"$f":"'Рис. 4 и 5'!D217","v":1},{"$f":"'Рис. 4 и 5'!U217","v":0}]
[{"$f":"'Рис. 4 и 5'!A218","v":0},{"$f":"'Рис. 4 и 5'!B218","v":0},{"$f":"'Рис. 4 и 5'!C218","v":0},{"$f":"'Рис. 4 и 5'!D218","v":1},{"$f":"'Рис. 4 и 5'!U218","v":0}]
[{"$f":"'Рис. 4 и 5'!A219","v":0},{"$f":"'Рис. 4 и 5'!B219","v":1},{"$f":"'Рис. 4 и 5'!C219","v":0},{"$f":"'Рис. 4 и 5'!D219","v":0},{"$f":"'Рис. 4 и 5'!U219","v":0}]
[{"$f":"'Рис. 4 и 5'!A220","v":0},{"$f":"'Рис. 4 и 5'!B220","v":0},{"$f":"'Рис. 4 и 5'!C220","v":0},{"$f":"'Рис. 4 и 5'!D220","v":1},{"$f":"'Рис. 4 и 5'!U220","v":1}]
[{"$f":"'Рис. 4 и 5'!A221","v":0},{"$f":"'Рис. 4 и 5'!B221","v":0},{"$f":"'Рис. 4 и 5'!C221","v":0},{"$f":"'Рис. 4 и 5'!D221","v":1},{"$f":"'Рис. 4 и 5'!U221","v":0}]
[{"$f":"'Рис. 4 и 5'!A222","v":0},{"$f":"'Рис. 4 и 5'!B222","v":0},{"$f":"'Рис. 4 и 5'!C222","v":0},{"$f":"'Рис. 4 и 5'!D222","v":1},{"$f":"'Рис. 4 и 5'!U222","v":1}]
[{"$f":"'Рис. 4 и 5'!A223","v":0},{"$f":"'Рис. 4 и 5'!B223","v":0},{"$f":"'Рис. 4 и 5'!C223","v":0},{"$f":"'Рис. 4 и 5'!D223","v":0},{"$f":"'Рис. 4 и 5'!U223","v":0}]
[{"$f":"'Рис. 4 и 5'!A224","v":0},{"$f":"'Рис. 4 и 5'!B224","v":0},{"$f":"'Рис. 4 и 5'!C224","v":0},{"$f":"'Рис. 4 и 5'!D224","v":0},{"$f":"'Рис. 4 и 5'!U224","v":1}]
[{"$f":"'Рис. 4 и 5'!A225","v":1},{"$f":"'Рис. 4 и 5'!B225","v":0},{"$f":"'Рис. 4 и 5'!C225","v":0},{"$f":"'Рис. 4 и 5'!D225","v":1},{"$f":"'Рис. 4 и 5'!U225","v":1}]
[{"$f":"'Рис. 4 и 5'!A226","v":0},{"$f":"'Рис. 4 и 5'!B226","v":0},{"$f":"'Рис. 4 и 5'!C226","v":0},{"$f":"'Рис. 4 и 5'!D226","v":0},{"$f":"'Рис. 4 и 5'!U226","v":1}]
[{"$f":"'Рис. 4 и 5'!A227","v":0},{"$f":"'Рис. 4 и 5'!B227","v":0},{"$f":"'Рис. 4 и 5'!C227","v":0},{"$f":"'Рис. 4 и 5'!D227","v":0},{"$f":"'Рис. 4 и 5'!U227","v":1}]
[{"$f":"'Рис. 4 и 5'!A228","v":0},{"$f":"'Рис. 4 и 5'!B228","v":0},{"$f":"'Рис. 4 и 5'!C228","v":0},{"$f":"'Рис. 4 и 5'!D228","v":0},{"$f":"'Рис. 4 и 5'!U228","v":1}]
[{"$f":"'Рис. 4 и 5'!A229","v":0},{"$f":"'Рис. 4 и 5'!B229","v":0},{"$f":"'Рис. 4 и 5'!C229","v":0},{"$f":"'Рис. 4 и 5'!D229","v":1},{"$f":"'Рис. 4 и 5'!U229","v":0}]
[{"$f":"'Рис. 4 и 5'!A230","v":0},{"$f":"'Рис. 4 и 5'!B230","v":0},{"$f":"'Рис. 4 и 5'!C230","v":1},{"$f":"'Рис. 4 и 5'!D230","v":0},{"$f":"'Рис. 4 и 5'!U230","v":1}]
[{"$f":"'Рис. 4 и 5'!A231","v":0},{"$f":"'Рис. 4 и 5'!B231","v":0},{"$f":"'Рис. 4 и 5'!C231","v":0},{"$f":"'Рис. 4 и 5'!D231","v":0},{"$f":"'Рис. 4 и 5'!U231","v":1}]
[{"$f":"'Рис. 4 и 5'!A232","v":0},{"$f":"'Рис. 4 и 5'!B232","v":0},{"$f":"'Рис. 4 и 5'!C232","v":0},{"$f":"'Рис. 4 и 5'!D232","v":0},{"$f":"'Рис. 4 и 5'!U232","v":1}]
[{"$f":"'Рис. 4 и 5'!A233","v":0},{"$f":"'Рис. 4 и 5'!B233","v":1},{"$f":"'Рис. 4 и 5'!C233","v":0},{"$f":"'Рис. 4 и 5'!D233","v":0},{"$f":"'Рис. 4 и 5'!U233","v":0}]
[{"$f":"'Рис. 4 и 5'!A234","v":0},{"$f":"'Рис. 4 и 5'!B234","v":1},{"$f":"'Рис. 4 и 5'!C234","v":0},{"$f":"'Рис. 4 и 5'!D234","v":0},{"$f":"'Рис. 4 и 5'!U234","v":1}]
[{"$f":"'Рис. 4 и 5'!A235","v":0},{"$f":"'Рис. 4 и 5'!B235","v":0},{"$f":"'Рис. 4 и 5'!C235","v":0},{"$f":"'Рис. 4 и 5'!D235","v":0},{"$f":"'Рис. 4 и 5'!U235","v":1}]
[{"$f":"'Рис. 4 и 5'!A236","v":0},{"$f":"'Рис. 4 и 5'!B236","v":0},{"$f":"'Рис. 4 и 5'!C236","v":1},{"$f":"'Рис. 4 и 5'!D236","v":1},{"$f":"'Рис. 4 и 5'!U236","v":1}]
[{"$f":"'Рис. 4 и 5'!A237","v":0},{"$f":"'Рис. 4 и 5'!B237","v":0},{"$f":"'Рис. 4 и 5'!C237","v":0},{"$f":"'Рис. 4 и 5'!D237","v":0},{"$f":"'Рис. 4 и 5'!U237","v":1}]
[{"$f":"'Рис. 4 и 5'!A238","v":0},{"$f":"'Рис. 4 и 5'!B238","v":0},{"$f":"'Рис. 4 и 5'!C238","v":0},{"$f":"'Рис. 4 и 5'!D238","v":1},{"$f":"'Рис. 4 и 5'!U238","v":0}]
[{"$f":"'Рис. 4 и 5'!A239","v":0},{"$f":"'Рис. 4 и 5'!B239","v":0},{"$f":"'Рис. 4 и 5'!C239","v":0},{"$f":"'Рис. 4 и 5'!D239","v":0},{"$f":"'Рис. 4 и 5'!U239","v":1}]
[{"$f":"'Рис. 4 и 5'!A240","v":0},{"$f":"'Рис. 4 и 5'!B240","v":0},{"$f":"'Рис. 4 и 5'!C240","v":0},{"$f":"'Рис. 4 и 5'!D240","v":0},{"$f":"'Рис. 4 и 5'!U240","v":0}]
[{"$f":"'Рис. 4 и 5'!A241","v":0},{"$f":"'Рис. 4 и 5'!B241","v":0},{"$f":"'Рис. 4 и 5'!C241","v":0},{"$f":"'Рис. 4 и 5'!D241","v":0},{"$f":"'Рис. 4 и 5'!U241","v":0}]
[{"$f":"'Рис. 4 и 5'!A242","v":1},{"$f":"'Рис. 4 и 5'!B242","v":0},{"$f":"'Рис. 4 и 5'!C242","v":0},{"$f":"'Рис. 4 и 5'!D242","v":0},{"$f":"'Рис. 4 и 5'!U242","v":1}]
[{"$f":"'Рис. 4 и 5'!A243","v":0},{"$f":"'Рис. 4 и 5'!B243","v":1},{"$f":"'Рис. 4 и 5'!C243","v":0},{"$f":"'Рис. 4 и 5'!D243","v":0},{"$f":"'Рис. 4 и 5'!U243","v":0}]
[{"$f":"'Рис. 4 и 5'!A244","v":0},{"$f":"'Рис. 4 и 5'!B244","v":0},{"$f":"'Рис. 4 и 5'!C244","v":0},{"$f":"'Рис. 4 и 5'!D244","v":0},{"$f":"'Рис. 4 и 5'!U244","v":1}]
[{"$f":"'Рис. 4 и 5'!A245","v":0},{"$f":"'Рис. 4 и 5'!B245","v":0},{"$f":"'Рис. 4 и 5'!C245","v":0},{"$f":"'Рис. 4 и 5'!D245","v":1},{"$f":"'Рис. 4 и 5'!U245","v":1}]
[{"$f":"'Рис. 4 и 5'!A246","v":0},{"$f":"'Рис. 4 и 5'!B246","v":0},{"$f":"'Рис. 4 и 5'!C246","v":0},{"$f":"'Рис. 4 и 5'!D246","v":0},{"$f":"'Рис. 4 и 5'!U246","v":0}]
[{"$f":"'Рис. 4 и 5'!A247","v":0},{"$f":"'Рис. 4 и 5'!B247","v":0},{"$f":"'Рис. 4 и 5'!C247","v":0},{"$f":"'Рис. 4 и 5'!D247","v":0},{"$f":"'Рис. 4 и 5'!U247","v":0}]
[{"$f":"'Рис. 4 и 5'!A248","v":0},{"$f":"'Рис. 4 и 5'!B248","v":1},{"$f":"'Рис. 4 и 5'!C248","v":0},{"$f":"'Рис. 4 и 5'!D248","v":1},{"$f":"'Рис. 4 и 5'!U248","v":0}]
[{"$f":"'Рис. 4 и 5'!A249","v":0},{"$f":"'Рис. 4 и 5'!B249","v":0},{"$f":"'Рис. 4 и 5'!C249","v":0},{"$f":"'Рис. 4 и 5'!D249","v":0},{"$f":"'Рис. 4 и 5'!U249","v":0}]
[{"$f":"'Рис. 4 и 5'!A250","v":1},{"$f":"'Рис. 4 и 5'!B250","v":1},{"$f":"'Рис. 4 и 5'!C250","v":0},{"$f":"'Рис. 4 и 5'!D250","v":1},{"$f":"'Рис. 4 и 5'!U250","v":1}]
[{"$f":"'Рис. 4 и 5'!A251","v":0},{"$f":"'Рис. 4 и 5'!B251","v":1},{"$f":"'Рис. 4 и 5'!C251","v":0},{"$f":"'Рис. 4 и 5'!D251","v":1},{"$f":"'Рис. 4 и 5'!U251","v":1}]
[{"$f":"'Рис. 4 и 5'!A252","v":0},{"$f":"'Рис. 4 и 5'!B252","v":0},{"$f":"'Рис. 4 и 5'!C252","v":0},{"$f":"'Рис. 4 и 5'!D252","v":0},{"$f":"'Рис. 4 и 5'!U252","v":0}]
[{"$f":"'Рис. 4 и 5'!A253","v":0},{"$f":"'Рис. 4 и 5'!B253","v":0},{"$f":"'Рис. 4 и 5'!C253","v":0},{"$f":"'Рис. 4 и 5'!D253","v":1},{"$f":"'Рис. 4 и 5'!U253","v":0}]
[{"$f":"'Рис. 4 и 5'!A254","v":0},{"$f":"'Рис. 4 и 5'!B254","v":0},{"$f":"'Рис. 4 и 5'!C254","v":0},{"$f":"'Рис. 4 и 5'!D254","v":0},{"$f":"'Рис. 4 и 5'!U254","v":0}]
[{"$f":"'Рис. 4 и 5'!A255","v":0},{"$f":"'Рис. 4 и 5'!B255","v":0},{"$f":"'Рис. 4 и 5'!C255","v":0},{"$f":"'Рис. 4 и 5'!D255","v":0},{"$f":"'Рис. 4 и 5'!U255","v":0}]
[{"$f":"'Рис. 4 и 5'!A256","v":0},{"$f":"'Рис. 4 и 5'!B256","v":0},{"$f":"'Рис. 4 и 5'!C256","v":0},{"$f":"'Рис. 4 и 5'!D256","v":0},{"$f":"'Рис. 4 и 5'!U256","v":0}]
[{"$f":"'Рис. 4 и 5'!A257","v":0},{"$f":"'Рис. 4 и 5'!B257","v":0},{"$f":"'Рис. 4 и 5'!C257","v":0},{"$f":"'Рис. 4 и 5'!D257","v":0},{"$f":"'Рис. 4 и 5'!U257","v":1}]
[{"$f":"'Рис. 4 и 5'!A258","v":0},{"$f":"'Рис. 4 и 5'!B258","v":0},{"$f":"'Рис. 4 и 5'!C258","v":0},{"$f":"'Рис. 4 и 5'!D258","v":1},{"$f":"'Рис. 4 и 5'!U258","v":0}]
[{"$f":"'Рис. 4 и 5'!A259","v":0},{"$f":"'Рис. 4 и 5'!B259","v":0},{"$f":"'Рис. 4 и 5'!C259","v":0},{"$f":"'Рис. 4 и 5'!D259","v":1},{"$f":"'Рис. 4 и 5'!U259","v":1}]
[{"$f":"'Рис. 4 и 5'!A260","v":0},{"$f":"'Рис. 4 и 5'!B260","v":0},{"$f":"'Рис. 4 и 5'!C260","v":0},{"$f":"'Рис. 4 и 5'!D260","v":1},{"$f":"'Рис. 4 и 5'!U260","v":0}]
[{"$f":"'Рис. 4 и 5'!A261","v":0},{"$f":"'Рис. 4 и 5'!B261","v":1},{"$f":"'Рис. 4 и 5'!C261","v":0},{"$f":"'Рис. 4 и 5'!D261","v":1},{"$f":"'Рис. 4 и 5'!U261","v":0}]
[{"$f":"'Рис. 4 и 5'!A262","v":0},{"$f":"'Рис. 4 и 5'!B262","v":0},{"$f":"'Рис. 4 и 5'!C262","v":0},{"$f":"'Рис. 4 и 5'!D262","v":0},{"$f":"'Рис. 4 и 5'!U262","v":0}]
[{"$f":"'Рис. 4 и 5'!A263","v":0},{"$f":"'Рис. 4 и 5'!B263","v":0},{"$f":"'Рис. 4 и 5'!C263","v":0},{"$f":"'Рис. 4 и 5'!D263","v":1},{"$f":"'Рис. 4 и 5'!U263","v":1}]
[{"$f":"'Рис. 4 и 5'!A264","v":1},{"$f":"'Рис. 4 и 5'!B264","v":0},{"$f":"'Рис. 4 и 5'!C264","v":0},{"$f":"'Рис. 4 и 5'!D264","v":0},{"$f":"'Рис. 4 и 5'!U264","v":1}]
[{"$f":"'Рис. 4 и 5'!A265","v":0},{"$f":"'Рис. 4 и 5'!B265","v":0},{"$f":"'Рис. 4 и 5'!C265","v":0},{"$f":"'Рис. 4 и 5'!D265","v":0},{"$f":"'Рис. 4 и 5'!U265","v":0}]
[{"$f":"'Рис. 4 и 5'!A266","v":0},{"$f":"'Рис. 4 и 5'!B266","v":0},{"$f":"'Рис. 4 и 5'!C266","v":0},{"$f":"'Рис. 4 и 5'!D266","v":0},{"$f":"'Рис. 4 и 5'!U266","v":0}]
[{"$f":"'Рис. 4 и 5'!A267","v":0},{"$f":"'Рис. 4 и 5'!B267","v":0},{"$f":"'Рис. 4 и 5'!C267","v":0},{"$f":"'Рис. 4 и 5'!D267","v":1},{"$f":"'Рис. 4 и 5'!U267","v":0}]
[{"$f":"'Рис. 4 и 5'!A268","v":0},{"$f":"'Рис. 4 и 5'!B268","v":0},{"$f":"'Рис. 4 и 5'!C268","v":0},{"$f":"'Рис. 4 и 5'!D268","v":1},{"$f":"'Рис. 4 и 5'!U268","v":0}]
[{"$f":"'Рис. 4 и 5'!A269","v":0},{"$f":"'Рис. 4 и 5'!B269","v":1},{"$f":"'Рис. 4 и 5'!C269","v":0},{"$f":"'Рис. 4 и 5'!D269","v":0},{"$f":"'Рис. 4 и 5'!U269","v":0}]
[{"$f":"'Рис. 4 и 5'!A270","v":0},{"$f":"'Рис. 4 и 5'!B270","v":1},{"$f":"'Рис. 4 и 5'!C270","v":0},{"$f":"'Рис. 4 и 5'!D270","v":0},{"$f":"'Рис. 4 и 5'!U270","v":0}]
[{"$f":"'Рис. 4 и 5'!A271","v":0},{"$f":"'Рис. 4 и 5'!B271","v":0},{"$f":"'Рис. 4 и 5'!C271","v":0},{"$f":"'Рис. 4 и 5'!D271","v":0},{"$f":"'Рис. 4 и 5'!U271","v":1}]
[{"$f":"'Рис. 4 и 5'!A272","v":0},{"$f":"'Рис. 4 и 5'!B272","v":0},{"$f":"'Рис. 4 и 5'!C272","v":0},{"$f":"'Рис. 4 и 5'!D272","v":1},{"$f":"'Рис. 4 и 5'!U272","v":1}]
[{"$f":"'Рис. 4 и 5'!A273","v":0},{"$f":"'Рис. 4 и 5'!B273","v":0},{"$f":"'Рис. 4 и 5'!C273","v":0},{"$f":"'Рис. 4 и 5'!D273","v":0},{"$f":"'Рис. 4 и 5'!U273","v":1}]
[{"$f":"'Рис. 4 и 5'!A274","v":0},{"$f":"'Рис. 4 и 5'!B274","v":0},{"$f":"'Рис. 4 и 5'!C274","v":0},{"$f":"'Рис. 4 и 5'!D274","v":0},{"$f":"'Рис. 4 и 5'!U274","v":1}]
[{"$f":"'Рис. 4 и 5'!A275","v":0},{"$f":"'Рис. 4 и 5'!B275","v":0},{"$f":"'Рис. 4 и 5'!C275","v":0},{"$f":"'Рис. 4 и 5'!D275","v":0},{"$f":"'Рис. 4 и 5'!U275","v":0}]
[{"$f":"'Рис. 4 и 5'!A276","v":0},{"$f":"'Рис. 4 и 5'!B276","v":0},{"$f":"'Рис. 4 и 5'!C276","v":0},{"$f":"'Рис. 4 и 5'!D276","v":0},{"$f":"'Рис. 4 и 5'!U276","v":1}]
[{"$f":"'Рис. 4 и 5'!A277","v":0},{"$f":"'Рис. 4 и 5'!B277","v":0},{"$f":"'Рис. 4 и 5'!C277","v":0},{"$f":"'Рис. 4 и 5'!D277","v":0},{"$f":"'Рис. 4 и 5'!U277","v":1}]
[{"$f":"'Рис. 4 и 5'!A278","v":0},{"$f":"'Рис. 4 и 5'!B278","v":0},{"$f":"'Рис. 4 и 5'!C278","v":0},{"$f":"'Рис. 4 и 5'!D278","v":0},{"$f":"'Рис. 4 и 5'!U278","v":1}]
[{"$f":"'Рис. 4 и 5'!A279","v":0},{"$f":"'Рис. 4 и 5'!B279","v":0},{"$f":"'Рис. 4 и 5'!C279","v":0},{"$f":"'Рис. 4 и 5'!D279","v":0},{"$f":"'Рис. 4 и 5'!U279","v":0}]
[{"$f":"'Рис. 4 и 5'!A280","v":0},{"$f":"'Рис. 4 и 5'!B280","v":1},{"$f":"'Рис. 4 и 5'!C280","v":0},{"$f":"'Рис. 4 и 5'!D280","v":0},{"$f":"'Рис. 4 и 5'!U280","v":0}]
[{"$f":"'Рис. 4 и 5'!A281","v":0},{"$f":"'Рис. 4 и 5'!B281","v":0},{"$f":"'Рис. 4 и 5'!C281","v":0},{"$f":"'Рис. 4 и 5'!D281","v":1},{"$f":"'Рис. 4 и 5'!U281","v":0}]
[{"$f":"'Рис. 4 и 5'!A282","v":1},{"$f":"'Рис. 4 и 5'!B282","v":0},{"$f":"'Рис. 4 и 5'!C282","v":0},{"$f":"'Рис. 4 и 5'!D282","v":0},{"$f":"'Рис. 4 и 5'!U282","v":1}]
[{"$f":"'Рис. 4 и 5'!A283","v":0},{"$f":"'Рис. 4 и 5'!B283","v":0},{"$f":"'Рис. 4 и 5'!C283","v":0},{"$f":"'Рис. 4 и 5'!D283","v":1},{"$f":"'Рис. 4 и 5'!U283","v":1}]
[{"$f":"'Рис. 4 и 5'!A284","v":0},{"$f":"'Рис. 4 и 5'!B284","v":0},{"$f":"'Рис. 4 и 5'!C284","v":0},{"$f":"'Рис. 4 и 5'!D284","v":0},{"$f":"'Рис. 4 и 5'!U284","v":0}]
[{"$f":"'Рис. 4 и 5'!A285","v":0},{"$f":"'Рис. 4 и 5'!B285","v":0},{"$f":"'Рис. 4 и 5'!C285","v":0},{"$f":"'Рис. 4 и 5'!D285","v":0},{"$f":"'Рис. 4 и 5'!U285","v":0}]
[{"$f":"'Рис. 4 и 5'!A286","v":0},{"$f":"'Рис. 4 и 5'!B286","v":0},{"$f":"'Рис. 4 и 5'!C286","v":0},{"$f":"'Рис. 4 и 5'!D286","v":0},{"$f":"'Рис. 4 и 5'!U286","v":1}]
[{"$f":"'Рис. 4 и 5'!A287","v":0},{"$f":"'Рис. 4 и 5'!B287","v":0},{"$f":"'Рис. 4 и 5'!C287","v":0},{"$f":"'Рис. 4 и 5'!D287","v":1},{"$f":"'Рис. 4 и 5'!U287","v":0}]
[{"$f":"'Рис. 4 и 5'!A288","v":0},{"$f":"'Рис. 4 и 5'!B288","v":0},{"$f":"'Рис. 4 и 5'!C288","v":0},{"$f":"'Рис. 4 и 5'!D288","v":1},{"$f":"'Рис. 4 и 5'!U288","v":0}]
[{"$f":"'Рис. 4 и 5'!A289","v":0},{"$f":"'Рис. 4 и 5'!B289","v":0},{"$f":"'Рис. 4 и 5'!C289","v":0},{"$f":"'Рис. 4 и 5'!D289","v":1},{"$f":"'Рис. 4 и 5'!U289","v":1}]
[{"$f":"'Рис. 4 и 5'!A290","v":0},{"$f":"'Рис. 4 и 5'!B290","v":1},{"$f":"'Рис. 4 и 5'!C290","v":0},{"$f":"'Рис. 4 и 5'!D290","v":0},{"$f":"'Рис. 4 и 5'!U290","v":0}]
[{"$f":"'Рис. 4 и 5'!A291","v":0},{"$f":"'Рис. 4 и 5'!B291","v":0},{"$f":"'Рис. 4 и 5'!C291","v":0},{"$f":"'Рис. 4 и 5'!D291","v":0},{"$f":"'Рис. 4 и 5'!U291","v":1}]
[{"$f":"'Рис. 4 и 5'!A292","v":0},{"$f":"'Рис. 4 и 5'!B292","v":0},{"$f":"'Рис. 4 и 5'!C292","v":0},{"$f":"'Рис. 4 и 5'!D292","v":0},{"$f":"'Рис. 4 и 5'!U292","v":1}]
[{"$f":"'Рис. 4 и 5'!A293","v":1},{"$f":"'Рис. 4 и 5'!B293","v":0},{"$f":"'Рис. 4 и 5'!C293","v":0},{"$f":"'Рис. 4 и 5'!D293","v":0},{"$f":"'Рис. 4 и 5'!U293","v":1}]
[{"$f":"'Рис. 4 и 5'!A294","v":0},{"$f":"'Рис. 4 и 5'!B294","v":0},{"$f":"'Рис. 4 и 5'!C294","v":0},{"$f":"'Рис. 4 и 5'!D294","v":0},{"$f":"'Рис. 4 и 5'!U294","v":1}]
[{"$f":"'Рис. 4 и 5'!A295","v":0},{"$f":"'Рис. 4 и 5'!B295","v":1},{"$f":"'Рис. 4 и 5'!C295","v":0},{"$f":"'Рис. 4 и 5'!D295","v":0},{"$f":"'Рис. 4 и 5'!U295","v":1}]
[{"$f":"'Рис. 4 и 5'!A296","v":0},{"$f":"'Рис. 4 и 5'!B296","v":0},{"$f":"'Рис. 4 и 5'!C296","v":0},{"$f":"'Рис. 4 и 5'!D296","v":0},{"$f":"'Рис. 4 и 5'!U296","v":0}]
[{"$f":"'Рис. 4 и 5'!A297","v":0},{"$f":"'Рис. 4 и 5'!B297","v":1},{"$f":"'Рис. 4 и 5'!C297","v":0},{"$f":"'Рис. 4 и 5'!D297","v":1},{"$f":"'Рис. 4 и 5'!U297","v":0}]
[{"$f":"'Рис. 4 и 5'!A298","v":0},{"$f":"'Рис. 4 и 5'!B298","v":0},{"$f":"'Рис. 4 и 5'!C298","v":0},{"$f":"'Рис. 4 и 5'!D298","v":1},{"$f":"'Рис. 4 и 5'!U298","v":0}]
[{"$f":"'Рис. 4 и 5'!A299","v":1},{"$f":"'Рис. 4 и 5'!B299","v":0},{"$f":"'Рис. 4 и 5'!C299","v":0},{"$f":"'Рис. 4 и 5'!D299","v":0},{"$f":"'Рис. 4 и 5'!U299","v":1}]
[{"$f":"'Рис. 4 и 5'!A300","v":0},{"$f":"'Рис. 4 и 5'!B300","v":0},{"$f":"'Рис. 4 и 5'!C300","v":0},{"$f":"'Рис. 4 и 5'!D300","v":1},{"$f":"'Рис. 4 и 5'!U300","v":1}]
[{"$f":"'Рис. 4 и 5'!A301","v":1},{"$f":"'Рис. 4 и 5'!B301","v":0},{"$f":"'Рис. 4 и 5'!C301","v":0},{"$f":"'Рис. 4 и 5'!D301","v":0},{"$f":"'Рис. 4 и 5'!U301","v":1}]
[{"$f":"'Рис. 4 и 5'!A302","v":0},{"$f":"'Рис. 4 и 5'!B302","v":0},{"$f":"'Рис. 4 и 5'!C302","v":0},{"$f":"'Рис. 4 и 5'!D302","v":0},{"$f":"'Рис. 4 и 5'!U302","v":1}]
[{"$f":"'Рис. 4 и 5'!A303","v":0},{"$f":"'Рис. 4 и 5'!B303","v":0},{"$f":"'Рис. 4 и 5'!C303","v":0},{"$f":"'Рис. 4 и 5'!D303","v":0},{"$f":"'Рис. 4 и 5'!U303","v":0}]
[{"$f":"'Рис. 4 и 5'!A304","v":0},{"$f":"'Рис. 4 и 5'!B304","v":0},{"$f":"'Рис. 4 и 5'!C304","v":0},{"$f":"'Рис. 4 и 5'!D304","v":1},{"$f":"'Рис. 4 и 5'!U304","v":1}]
[{"$f":"'Рис. 4 и 5'!A305","v":0},{"$f":"'Рис. 4 и 5'!B305","v":0},{"$f":"'Рис. 4 и 5'!C305","v":1},{"$f":"'Рис. 4 и 5'!D305","v":0},{"$f":"'Рис. 4 и 5'!U305","v":1}]
[{"$f":"'Рис. 4 и 5'!A306","v":0},{"$f":"'Рис. 4 и 5'!B306","v":0},{"$f":"'Рис. 4 и 5'!C306","v":0},{"$f":"'Рис. 4 и 5'!D306","v":0},{"$f":"'Рис. 4 и 5'!U306","v":0}]
[{"$f":"'Рис. 4 и 5'!A307","v":1},{"$f":"'Рис. 4 и 5'!B307","v":0},{"$f":"'Рис. 4 и 5'!C307","v":0},{"$f":"'Рис. 4 и 5'!D307","v":0},{"$f":"'Рис. 4 и 5'!U307","v":1}]
[{"$f":"'Рис. 4 и 5'!A308","v":0},{"$f":"'Рис. 4 и 5'!B308","v":0},{"$f":"'Рис. 4 и 5'!C308","v":0},{"$f":"'Рис. 4 и 5'!D308","v":1},{"$f":"'Рис. 4 и 5'!U308","v":1}]
[{"$f":"'Рис. 4 и 5'!A309","v":0},{"$f":"'Рис. 4 и 5'!B309","v":0},{"$f":"'Рис. 4 и 5'!C309","v":0},{"$f":"'Рис. 4 и 5'!D309","v":0},{"$f":"'Рис. 4 и 5'!U309","v":1}]
[{"$f":"'Рис. 4 и 5'!A310","v":1},{"$f":"'Рис. 4 и 5'!B310","v":0},{"$f":"'Рис. 4 и 5'!C310","v":0},{"$f":"'Рис. 4 и 5'!D310","v":0},{"$f":"'Рис. 4 и 5'!U310","v":1}]
[{"$f":"'Рис. 4 и 5'!A311","v":0},{"$f":"'Рис. 4 и 5'!B311","v":0},{"$f":"'Рис. 4 и 5'!C311","v":0},{"$f":"'Рис. 4 и 5'!D311","v":0},{"$f":"'Рис. 4 и 5'!U311","v":1}]
[{"$f":"'Рис. 4 и 5'!A312","v":0},{"$f":"'Рис. 4 и 5'!B312","v":0},{"$f":"'Рис. 4 и 5'!C312","v":1},{"$f":"'Рис. 4 и 5'!D312","v":0},{"$f":"'Рис. 4 и 5'!U312","v":1}]
[{"$f":"'Рис. 4 и 5'!A313","v":0},{"$f":"'Рис. 4 и 5'!B313","v":0},{"$f":"'Рис. 4 и 5'!C313","v":0},{"$f":"'Рис. 4 и 5'!D313","v":0},{"$f":"'Рис. 4 и 5'!U313","v":0}]
[{"$f":"'Рис. 4 и 5'!A314","v":0},{"$f":"'Рис. 4 и 5'!B314","v":0},{"$f":"'Рис. 4 и 5'!C314","v":0},{"$f":"'Рис. 4 и 5'!D314","v":0},{"$f":"'Рис. 4 и 5'!U314","v":1}]
[{"$f":"'Рис. 4 и 5'!A315","v":1},{"$f":"'Рис. 4 и 5'!B315","v":0},{"$f":"'Рис. 4 и 5'!C315","v":0},{"$f":"'Рис. 4 и 5'!D315","v":0},{"$f":"'Рис. 4 и 5'!U315","v":1}]
[{"$f":"'Рис. 4 и 5'!A316","v":0},{"$f":"'Рис. 4 и 5'!B316","v":0},{"$f":"'Рис. 4 и 5'!C316","v":1},{"$f":"'Рис. 4 и 5'!D316","v":0},{"$f":"'Рис. 4 и 5'!U316","v":1}]
[{"$f":"'Рис. 4 и 5'!A317","v":1},{"$f":"'Рис. 4 и 5'!B317","v":0},{"$f":"'Рис. 4 и 5'!C317","v":0},{"$f":"'Рис. 4 и 5'!D317","v":0},{"$f":"'Рис. 4 и 5'!U317","v":0}]
[{"$f":"'Рис. 4 и 5'!A318","v":0},{"$f":"'Рис. 4 и 5'!B318","v":0},{"$f":"'Рис. 4 и 5'!C318","v":0},{"$f":"'Рис. 4 и 5'!D318","v":1},{"$f":"'Рис. 4 и 5'!U318","v":1}]
[{"$f":"'Рис. 4 и 5'!A319","v":0},{"$f":"'Рис. 4 и 5'!B319","v":0},{"$f":"'Рис. 4 и 5'!C319","v":0},{"$f":"'Рис. 4 и 5'!D319","v":0},{"$f":"'Рис. 4 и 5'!U319","v":0}]
[{"$f":"'Рис. 4 и 5'!A320","v":0},{"$f":"'Рис. 4 и 5'!B320","v":0},{"$f":"'Рис. 4 и 5'!C320","v":0},{"$f":"'Рис. 4 и 5'!D320","v":1},{"$f":"'Рис. 4 и 5'!U320","v":1}]
[{"$f":"'Рис. 4 и 5'!A321","v":0},{"$f":"'Рис. 4 и 5'!B321","v":0},{"$f":"'Рис. 4 и 5'!C321","v":0},{"$f":"'Рис. 4 и 5'!D321","v":0},{"$f":"'Рис. 4 и 5'!U321","v":0}]
[{"$f":"'Рис. 4 и 5'!A322","v":1},{"$f":"'Рис. 4 и 5'!B322","v":0},{"$f":"'Рис. 4 и 5'!C322","v":0},{"$f":"'Рис. 4 и 5'!D322","v":0},{"$f":"'Рис. 4 и 5'!U322","v":1}]
[{"$f":"'Рис. 4 и 5'!A323","v":0},{"$f":"'Рис. 4 и 5'!B323","v":1},{"$f":"'Рис. 4 и 5'!C323","v":0},{"$f":"'Рис. 4 и 5'!D323","v":1},{"$f":"'Рис. 4 и 5'!U323","v":0}]
[{"$f":"'Рис. 4 и 5'!A324","v":0},{"$f":"'Рис. 4 и 5'!B324","v":0},{"$f":"'Рис. 4 и 5'!C324","v":0},{"$f":"'Рис. 4 и 5'!D324","v":1},{"$f":"'Рис. 4 и 5'!U324","v":1}]
[{"$f":"'Рис. 4 и 5'!A325","v":0},{"$f":"'Рис. 4 и 5'!B325","v":0},{"$f":"'Рис. 4 и 5'!C325","v":0},{"$f":"'Рис. 4 и 5'!D325","v":1},{"$f":"'Рис. 4 и 5'!U325","v":0}]
[{"$f":"'Рис. 4 и 5'!A326","v":0},{"$f":"'Рис. 4 и 5'!B326","v":0},{"$f":"'Рис. 4 и 5'!C326","v":0},{"$f":"'Рис. 4 и 5'!D326","v":0},{"$f":"'Рис. 4 и 5'!U326","v":1}]
[{"$f":"'Рис. 4 и 5'!A327","v":0},{"$f":"'Рис. 4 и 5'!B327","v":0},{"$f":"'Рис. 4 и 5'!C327","v":0},{"$f":"'Рис. 4 и 5'!D327","v":1},{"$f":"'Рис. 4 и 5'!U327","v":1}]
[{"$f":"'Рис. 4 и 5'!A328","v":0},{"$f":"'Рис. 4 и 5'!B328","v":0},{"$f":"'Рис. 4 и 5'!C328","v":0},{"$f":"'Рис. 4 и 5'!D328","v":1},{"$f":"'Рис. 4 и 5'!U328","v":1}]
[{"$f":"'Рис. 4 и 5'!A329","v":0},{"$f":"'Рис. 4 и 5'!B329","v":0},{"$f":"'Рис. 4 и 5'!C329","v":0},{"$f":"'Рис. 4 и 5'!D329","v":0},{"$f":"'Рис. 4 и 5'!U329","v":1}]
[{"$f":"'Рис. 4 и 5'!A330","v":0},{"$f":"'Рис. 4 и 5'!B330","v":0},{"$f":"'Рис. 4 и 5'!C330","v":0},{"$f":"'Рис. 4 и 5'!D330","v":0},{"$f":"'Рис. 4 и 5'!U330","v":1}]
[{"$f":"'Рис. 4 и 5'!A331","v":0},{"$f":"'Рис. 4 и 5'!B331","v":0},{"$f":"'Рис. 4 и 5'!C331","v":0},{"$f":"'Рис. 4 и 5'!D331","v":0},{"$f":"'Рис. 4 и 5'!U331","v":1}]
[{"$f":"'Рис. 4 и 5'!A332","v":0},{"$f":"'Рис. 4 и 5'!B332","v":0},{"$f":"'Рис. 4 и 5'!C332","v":0},{"$f":"'Рис. 4 и 5'!D332","v":0},{"$f":"'Рис. 4 и 5'!U332","v":0}]
[{"$f":"'Рис. 4 и 5'!A333","v":0},{"$f":"'Рис. 4 и 5'!B333","v":0},{"$f":"'Рис. 4 и 5'!C333","v":0},{"$f":"'Рис. 4 и 5'!D333","v":0},{"$f":"'Рис. 4 и 5'!U333","v":1}]
[{"$f":"'Рис. 4 и 5'!A334","v":0},{"$f":"'Рис. 4 и 5'!B334","v":0},{"$f":"'Рис. 4 и 5'!C334","v":0},{"$f":"'Рис. 4 и 5'!D334","v":1},{"$f":"'Рис. 4 и 5'!U334","v":0}]
[{"$f":"'Рис. 4 и 5'!A335","v":0},{"$f":"'Рис. 4 и 5'!B335","v":0},{"$f":"'Рис. 4 и 5'!C335","v":0},{"$f":"'Рис. 4 и 5'!D335","v":0},{"$f":"'Рис. 4 и 5'!U335","v":0}]
[{"$f":"'Рис. 4 и 5'!A336","v":0},{"$f":"'Рис. 4 и 5'!B336","v":1},{"$f":"'Рис. 4 и 5'!C336","v":0},{"$f":"'Рис. 4 и 5'!D336","v":1},{"$f":"'Рис. 4 и 5'!U336","v":0}]
[{"$f":"'Рис. 4 и 5'!A337","v":0},{"$f":"'Рис. 4 и 5'!B337","v":0},{"$f":"'Рис. 4 и 5'!C337","v":0},{"$f":"'Рис. 4 и 5'!D337","v":0},{"$f":"'Рис. 4 и 5'!U337","v":0}]
[{"$f":"'Рис. 4 и 5'!A338","v":0},{"$f":"'Рис. 4 и 5'!B338","v":0},{"$f":"'Рис. 4 и 5'!C338","v":0},{"$f":"'Рис. 4 и 5'!D338","v":0},{"$f":"'Рис. 4 и 5'!U338","v":1}]
[{"$f":"'Рис. 4 и 5'!A339","v":0},{"$f":"'Рис. 4 и 5'!B339","v":0},{"$f":"'Рис. 4 и 5'!C339","v":0},{"$f":"'Рис. 4 и 5'!D339","v":1},{"$f":"'Рис. 4 и 5'!U339","v":1}]
[{"$f":"'Рис. 4 и 5'!A340","v":0},{"$f":"'Рис. 4 и 5'!B340","v":0},{"$f":"'Рис. 4 и 5'!C340","v":0},{"$f":"'Рис. 4 и 5'!D340","v":0},{"$f":"'Рис. 4 и 5'!U340","v":0}]
[{"$f":"'Рис. 4 и 5'!A341","v":0},{"$f":"'Рис. 4 и 5'!B341","v":1},{"$f":"'Рис. 4 и 5'!C341","v":0},{"$f":"'Рис. 4 и 5'!D341","v":1},{"$f":"'Рис. 4 и 5'!U341","v":0}]
[{"$f":"'Рис. 4 и 5'!A342","v":0},{"$f":"'Рис. 4 и 5'!B342","v":0},{"$f":"'Рис. 4 и 5'!C342","v":0},{"$f":"'Рис. 4 и 5'!D342","v":0},{"$f":"'Рис. 4 и 5'!U342","v":1}]
[{"$f":"'Рис. 4 и 5'!A343","v":0},{"$f":"'Рис. 4 и 5'!B343","v":1},{"$f":"'Рис. 4 и 5'!C343","v":1},{"$f":"'Рис. 4 и 5'!D343","v":1},{"$f":"'Рис. 4 и 5'!U343","v":0}]
[{"$f":"'Рис. 4 и 5'!A344","v":0},{"$f":"'Рис. 4 и 5'!B344","v":0},{"$f":"'Рис. 4 и 5'!C344","v":0},{"$f":"'Рис. 4 и 5'!D344","v":1},{"$f":"'Рис. 4 и 5'!U344","v":1}]
[{"$f":"'Рис. 4 и 5'!A345","v":0},{"$f":"'Рис. 4 и 5'!B345","v":0},{"$f":"'Рис. 4 и 5'!C345","v":0},{"$f":"'Рис. 4 и 5'!D345","v":0},{"$f":"'Рис. 4 и 5'!U345","v":0}]
[{"$f":"'Рис. 4 и 5'!A346","v":0},{"$f":"'Рис. 4 и 5'!B346","v":0},{"$f":"'Рис. 4 и 5'!C346","v":0},{"$f":"'Рис. 4 и 5'!D346","v":0},{"$f":"'Рис. 4 и 5'!U346","v":1}]
[{"$f":"'Рис. 4 и 5'!A347","v":0},{"$f":"'Рис. 4 и 5'!B347","v":0},{"$f":"'Рис. 4 и 5'!C347","v":0},{"$f":"'Рис. 4 и 5'!D347","v":0},{"$f":"'Рис. 4 и 5'!U347","v":0}]
[{"$f":"'Рис. 4 и 5'!A348","v":0},{"$f":"'Рис. 4 и 5'!B348","v":0},{"$f":"'Рис. 4 и 5'!C348","v":0},{"$f":"'Рис. 4 и 5'!D348","v":1},{"$f":"'Рис. 4 и 5'!U348","v":0}]
[{"$f":"'Рис. 4 и 5'!A349","v":0},{"$f":"'Рис. 4 и 5'!B349","v":0},{"$f":"'Рис. 4 и 5'!C349","v":0},{"$f":"'Рис. 4 и 5'!D349","v":1},{"$f":"'Рис. 4 и 5'!U349","v":1}]
[{"$f":"'Рис. 4 и 5'!A350","v":0},{"$f":"'Рис. 4 и 5'!B350","v":0},{"$f":"'Рис. 4 и 5'!C350","v":0},{"$f":"'Рис. 4 и 5'!D350","v":0},{"$f":"'Рис. 4 и 5'!U350","v":1}]
[{"$f":"'Рис. 4 и 5'!A351","v":0},{"$f":"'Рис. 4 и 5'!B351","v":0},{"$f":"'Рис. 4 и 5'!C351","v":0},{"$f":"'Рис. 4 и 5'!D351","v":0},{"$f":"'Рис. 4 и 5'!U351","v":0}]
[{"$f":"'Рис. 4 и 5'!A352","v":0},{"$f":"'Рис. 4 и 5'!B352","v":0},{"$f":"'Рис. 4 и 5'!C352","v":0},{"$f":"'Рис. 4 и 5'!D352","v":0},{"$f":"'Рис. 4 и 5'!U352","v":1}]
[{"$f":"'Рис. 4 и 5'!A353","v":0},{"$f":"'Рис. 4 и 5'!B353","v":0},{"$f":"'Рис. 4 и 5'!C353","v":0},{"$f":"'Рис. 4 и 5'!D353","v":0},{"$f":"'Рис. 4 и 5'!U353","v":1}]
[{"$f":"'Рис. 4 и 5'!A354","v":0},{"$f":"'Рис. 4 и 5'!B354","v":0},{"$f":"'Рис. 4 и 5'!C354","v":0},{"$f":"'Рис. 4 и 5'!D354","v":0},{"$f":"'Рис. 4 и 5'!U354","v":1}]
[{"$f":"'Рис. 4 и 5'!A355","v":0},{"$f":"'Рис. 4 и 5'!B355","v":0},{"$f":"'Рис. 4 и 5'!C355","v":0},{"$f":"'Рис. 4 и 5'!D355","v":1},{"$f":"'Рис. 4 и 5'!U355","v":1}]
[{"$f":"'Рис. 4 и 5'!A356","v":0},{"$f":"'Рис. 4 и 5'!B356","v":1},{"$f":"'Рис. 4 и 5'!C356","v":0},{"$f":"'Рис. 4 и 5'!D356","v":1},{"$f":"'Рис. 4 и 5'!U356","v":1}]
[{"$f":"'Рис. 4 и 5'!A357","v":1},{"$f":"'Рис. 4 и 5'!B357","v":0},{"$f":"'Рис. 4 и 5'!C357","v":0},{"$f":"'Рис. 4 и 5'!D357","v":1},{"$f":"'Рис. 4 и 5'!U357","v":1}]
[{"$f":"'Рис. 4 и 5'!A358","v":0},{"$f":"'Рис. 4 и 5'!B358","v":0},{"$f":"'Рис. 4 и 5'!C358","v":0},{"$f":"'Рис. 4 и 5'!D358","v":0},{"$f":"'Рис. 4 и 5'!U358","v":0}]
[{"$f":"'Рис. 4 и 5'!A359","v":0},{"$f":"'Рис. 4 и 5'!B359","v":0},{"$f":"'Рис. 4 и 5'!C359","v":0},{"$f":"'Рис. 4 и 5'!D359","v":0},{"$f":"'Рис. 4 и 5'!U359","v":1}]
[{"$f":"'Рис. 4 и 5'!A360","v":0},{"$f":"'Рис. 4 и 5'!B360","v":0},{"$f":"'Рис. 4 и 5'!C360","v":1},{"$f":"'Рис. 4 и 5'!D360","v":0},{"$f":"'Рис. 4 и 5'!U360","v":1}]
[{"$f":"'Рис. 4 и 5'!A361","v":0},{"$f":"'Рис. 4 и 5'!B361","v":0},{"$f":"'Рис. 4 и 5'!C361","v":0},{"$f":"'Рис. 4 и 5'!D361","v":0},{"$f":"'Рис. 4 и 5'!U361","v":0}]
[{"$f":"'Рис. 4 и 5'!A362","v":0},{"$f":"'Рис. 4 и 5'!B362","v":1},{"$f":"'Рис. 4 и 5'!C362","v":0},{"$f":"'Рис. 4 и 5'!D362","v":1},{"$f":"'Рис. 4 и 5'!U362","v":0}]
[{"$f":"'Рис. 4 и 5'!A363","v":0},{"$f":"'Рис. 4 и 5'!B363","v":0},{"$f":"'Рис. 4 и 5'!C363","v":0},{"$f":"'Рис. 4 и 5'!D363","v":0},{"$f":"'Рис. 4 и 5'!U363","v":1}]
[{"$f":"'Рис. 4 и 5'!A364","v":0},{"$f":"'Рис. 4 и 5'!B364","v":0},{"$f":"'Рис. 4 и 5'!C364","v":0},{"$f":"'Рис. 4 и 5'!D364","v":0},{"$f":"'Рис. 4 и 5'!U364","v":1}]
[{"$f":"'Рис. 4 и 5'!A365","v":0},{"$f":"'Рис. 4 и 5'!B365","v":0},{"$f":"'Рис. 4 и 5'!C365","v":0},{"$f":"'Рис. 4 и 5'!D365","v":0},{"$f":"'Рис. 4 и 5'!U365","v":1}]
[{"$f":"'Рис. 4 и 5'!A366","v":0},{"$f":"'Рис. 4 и 5'!B366","v":0},{"$f":"'Рис. 4 и 5'!C366","v":0},{"$f":"'Рис. 4 и 5'!D366","v":0},{"$f":"'Рис. 4 и 5'!U366","v":0}]
[{"$f":"'Рис. 4 и 5'!A367","v":0},{"$f":"'Рис. 4 и 5'!B367","v":0},{"$f":"'Рис. 4 и 5'!C367","v":0},{"$f":"'Рис. 4 и 5'!D367","v":0},{"$f":"'Рис. 4 и 5'!U367","v":0}]
[{"$f":"'Рис. 4 и 5'!A368","v":0},{"$f":"'Рис. 4 и 5'!B368","v":0},{"$f":"'Рис. 4 и 5'!C368","v":0},{"$f":"'Рис. 4 и 5'!D368","v":1},{"$f":"'Рис. 4 и 5'!U368","v":0}]
[{"$f":"'Рис. 4 и 5'!A369","v":0},{"$f":"'Рис. 4 и 5'!B369","v":0},{"$f":"'Рис. 4 и 5'!C369","v":0},{"$f":"'Рис. 4 и 5'!D369","v":1},{"$f":"'Рис. 4 и 5'!U369","v":1}]
[{"$f":"'Рис. 4 и 5'!A370","v":0},{"$f":"'Рис. 4 и 5'!B370","v":0},{"$f":"'Рис. 4 и 5'!C370","v":0},{"$f":"'Рис. 4 и 5'!D370","v":0},{"$f":"'Рис. 4 и 5'!U370","v":0}]
[{"$f":"'Рис. 4 и 5'!A371","v":0},{"$f":"'Рис. 4 и 5'!B371","v":0},{"$f":"'Рис. 4 и 5'!C371","v":1},{"$f":"'Рис. 4 и 5'!D371","v":0},{"$f":"'Рис. 4 и 5'!U371","v":1}]
[{"$f":"'Рис. 4 и 5'!A372","v":0},{"$f":"'Рис. 4 и 5'!B372","v":0},{"$f":"'Рис. 4 и 5'!C372","v":0},{"$f":"'Рис. 4 и 5'!D372","v":1},{"$f":"'Рис. 4 и 5'!U372","v":1}]
[{"$f":"'Рис. 4 и 5'!A373","v":0},{"$f":"'Рис. 4 и 5'!B373","v":0},{"$f":"'Рис. 4 и 5'!C373","v":0},{"$f":"'Рис. 4 и 5'!D373","v":0},{"$f":"'Рис. 4 и 5'!U373","v":0}]
[{"$f":"'Рис. 4 и 5'!A374","v":0},{"$f":"'Рис. 4 и 5'!B374","v":0},{"$f":"'Рис. 4 и 5'!C374","v":0},{"$f":"'Рис. 4 и 5'!D374","v":1},{"$f":"'Рис. 4 и 5'!U374","v":1}]
[{"$f":"'Рис. 4 и 5'!A375","v":0},{"$f":"'Рис. 4 и 5'!B375","v":0},{"$f":"'Рис. 4 и 5'!C375","v":0},{"$f":"'Рис. 4 и 5'!D375","v":0},{"$f":"'Рис. 4 и 5'!U375","v":1}]
[{"$f":"'Рис. 4 и 5'!A376","v":0},{"$f":"'Рис. 4 и 5'!B376","v":0},{"$f":"'Рис. 4 и 5'!C376","v":0},{"$f":"'Рис. 4 и 5'!D376","v":1},{"$f":"'Рис. 4 и 5'!U376","v":0}]
[{"$f":"'Рис. 4 и 5'!A377","v":0},{"$f":"'Рис. 4 и 5'!B377","v":0},{"$f":"'Рис. 4 и 5'!C377","v":0},{"$f":"'Рис. 4 и 5'!D377","v":1},{"$f":"'Рис. 4 и 5'!U377","v":1}]
[{"$f":"'Рис. 4 и 5'!A378","v":0},{"$f":"'Рис. 4 и 5'!B378","v":1},{"$f":"'Рис. 4 и 5'!C378","v":0},{"$f":"'Рис. 4 и 5'!D378","v":0},{"$f":"'Рис. 4 и 5'!U378","v":0}]
[{"$f":"'Рис. 4 и 5'!A379","v":0},{"$f":"'Рис. 4 и 5'!B379","v":1},{"$f":"'Рис. 4 и 5'!C379","v":0},{"$f":"'Рис. 4 и 5'!D379","v":0},{"$f":"'Рис. 4 и 5'!U379","v":0}]
[{"$f":"'Рис. 4 и 5'!A380","v":0},{"$f":"'Рис. 4 и 5'!B380","v":0},{"$f":"'Рис. 4 и 5'!C380","v":0},{"$f":"'Рис. 4 и 5'!D380","v":1},{"$f":"'Рис. 4 и 5'!U380","v":0}]
[{"$f":"'Рис. 4 и 5'!A381","v":0},{"$f":"'Рис. 4 и 5'!B381","v":0},{"$f":"'Рис. 4 и 5'!C381","v":0},{"$f":"'Рис. 4 и 5'!D381","v":0},{"$f":"'Рис. 4 и 5'!U381","v":1}]
[{"$f":"'Рис. 4 и 5'!A382","v":0},{"$f":"'Рис. 4 и 5'!B382","v":0},{"$f":"'Рис. 4 и 5'!C382","v":0},{"$f":"'Рис. 4 и 5'!D382","v":0},{"$f":"'Рис. 4 и 5'!U382","v":1}]
[{"$f":"'Рис. 4 и 5'!A383","v":1},{"$f":"'Рис. 4 и 5'!B383","v":0},{"$f":"'Рис. 4 и 5'!C383","v":0},{"$f":"'Рис. 4 и 5'!D383","v":0},{"$f":"'Рис. 4 и 5'!U383","v":1}]
[{"$f":"'Рис. 4 и 5'!A384","v":0},{"$f":"'Рис. 4 и 5'!B384","v":0},{"$f":"'Рис. 4 и 5'!C384","v":0},{"$f":"'Рис. 4 и 5'!D384","v":0},{"$f":"'Рис. 4 и 5'!U384","v":1}]
[{"$f":"'Рис. 4 и 5'!A385","v":0},{"$f":"'Рис. 4 и 5'!B385","v":0},{"$f":"'Рис. 4 и 5'!C385","v":0},{"$f":"'Рис. 4 и 5'!D385","v":0},{"$f":"'Рис. 4 и 5'!U385","v":0}]
[{"$f":"'Рис. 4 и 5'!A386","v":0},{"$f":"'Рис. 4 и 5'!B386","v":0},{"$f":"'Рис. 4 и 5'!C386","v":0},{"$f":"'Рис. 4 и 5'!D386","v":1},{"$f":"'Рис. 4 и 5'!U386","v":0}]
[{"$f":"'Рис. 4 и 5'!A387","v":0},{"$f":"'Рис. 4 и 5'!B387","v":0},{"$f":"'Рис. 4 и 5'!C387","v":0},{"$f":"'Рис. 4 и 5'!D387","v":1},{"$f":"'Рис. 4 и 5'!U387","v":0}]
[{"$f":"'Рис. 4 и 5'!A388","v":0},{"$f":"'Рис. 4 и 5'!B388","v":0},{"$f":"'Рис. 4 и 5'!C388","v":0},{"$f":"'Рис. 4 и 5'!D388","v":1},{"$f":"'Рис. 4 и 5'!U388","v":1}]
[{"$f":"'Рис. 4 и 5'!A389","v":1},{"$f":"'Рис. 4 и 5'!B389","v":0},{"$f":"'Рис. 4 и 5'!C389","v":0},{"$f":"'Рис. 4 и 5'!D389","v":0},{"$f":"'Рис. 4 и 5'!U389","v":1}]
[{"$f":"'Рис. 4 и 5'!A390","v":1},{"$f":"'Рис. 4 и 5'!B390","v":0},{"$f":"'Рис. 4 и 5'!C390","v":0},{"$f":"'Рис. 4 и 5'!D390","v":0},{"$f":"'Рис. 4 и 5'!U390","v":1}]
[{"$f":"'Рис. 4 и 5'!A391","v":0},{"$f":"'Рис. 4 и 5'!B391","v":0},{"$f":"'Рис. 4 и 5'!C391","v":0},{"$f":"'Рис. 4 и 5'!D391","v":1},{"$f":"'Рис. 4 и 5'!U391","v":1}]
[{"$f":"'Рис. 4 и 5'!A392","v":0},{"$f":"'Рис. 4 и 5'!B392","v":1},{"$f":"'Рис. 4 и 5'!C392","v":0},{"$f":"'Рис. 4 и 5'!D392","v":0},{"$f":"'Рис. 4 и 5'!U392","v":0}]
[{"$f":"'Рис. 4 и 5'!A393","v":0},{"$f":"'Рис. 4 и 5'!B393","v":0},{"$f":"'Рис. 4 и 5'!C393","v":1},{"$f":"'Рис. 4 и 5'!D393","v":0},{"$f":"'Рис. 4 и 5'!U393","v":0}]
[{"$f":"'Рис. 4 и 5'!A394","v":0},{"$f":"'Рис. 4 и 5'!B394","v":0},{"$f":"'Рис. 4 и 5'!C394","v":0},{"$f":"'Рис. 4 и 5'!D394","v":1},{"$f":"'Рис. 4 и 5'!U394","v":0}]
[{"$f":"'Рис. 4 и 5'!A395","v":0},{"$f":"'Рис. 4 и 5'!B395","v":0},{"$f":"'Рис. 4 и 5'!C395","v":0},{"$f":"'Рис. 4 и 5'!D395","v":1},{"$f":"'Рис. 4 и 5'!U395","v":1}]
[{"$f":"'Рис. 4 и 5'!A396","v":0},{"$f":"'Рис. 4 и 5'!B396","v":0},{"$f":"'Рис. 4 и 5'!C396","v":0},{"$f":"'Рис. 4 и 5'!D396","v":0},{"$f":"'Рис. 4 и 5'!U396","v":0}]
[{"$f":"'Рис. 4 и 5'!A397","v":0},{"$f":"'Рис. 4 и 5'!B397","v":0},{"$f":"'Рис. 4 и 5'!C397","v":0},{"$f":"'Рис. 4 и 5'!D397","v":0},{"$f":"'Рис. 4 и 5'!U397","v":0}]
[{"$f":"'Рис. 4 и 5'!A398","v":0},{"$f":"'Рис. 4 и 5'!B398","v":0},{"$f":"'Рис. 4 и 5'!C398","v":0},{"$f":"'Рис. 4 и 5'!D398","v":0},{"$f":"'Рис. 4 и 5'!U398","v":0}]
[{"$f":"'Рис. 4 и 5'!A399","v":0},{"$f":"'Рис. 4 и 5'!B399","v":1},{"$f":"'Рис. 4 и 5'!C399","v":0},{"$f":"'Рис. 4 и 5'!D399","v":0},{"$f":"'Рис. 4 и 5'!U399","v":0}]
[{"$f":"'Рис. 4 и 5'!A400","v":0},{"$f":"'Рис. 4 и 5'!B400","v":0},{"$f":"'Рис. 4 и 5'!C400","v":0},{"$f":"'Рис. 4 и 5'!D400","v":1},{"$f":"'Рис. 4 и 5'!U400","v":0}]
[{"$f":"'Рис. 4 и 5'!A401","v":0},{"$f":"'Рис. 4 и 5'!B401","v":0},{"$f":"'Рис. 4 и 5'!C401","v":0},{"$f":"'Рис. 4 и 5'!D401","v":0},{"$f":"'Рис. 4 и 5'!U401","v":0}]
[{"$f":"'Рис. 4 и 5'!A402","v":0},{"$f":"'Рис. 4 и 5'!B402","v":0},{"$f":"'Рис. 4 и 5'!C402","v":0},{"$f":"'Рис. 4 и 5'!D402","v":0},{"$f":"'Рис. 4 и 5'!U402","v":1}]
[{"$f":"'Рис. 4 и 5'!A403","v":0},{"$f":"'Рис. 4 и 5'!B403","v":0},{"$f":"'Рис. 4 и 5'!C403","v":0},{"$f":"'Рис. 4 и 5'!D403","v":0},{"$f":"'Рис. 4 и 5'!U403","v":0}]
[{"$f":"'Рис. 4 и 5'!A404","v":0},{"$f":"'Рис. 4 и 5'!B404","v":0},{"$f":"'Рис. 4 и 5'!C404","v":0},{"$f":"'Рис. 4 и 5'!D404","v":0},{"$f":"'Рис. 4 и 5'!U404","v":0}]
[{"$f":"'Рис. 4 и 5'!A405","v":0},{"$f":"'Рис. 4 и 5'!B405","v":0},{"$f":"'Рис. 4 и 5'!C405","v":0},{"$f":"'Рис. 4 и 5'!D405","v":1},{"$f":"'Рис. 4 и 5'!U405","v":1}]
[{"$f":"'Рис. 4 и 5'!A406","v":0},{"$f":"'Рис. 4 и 5'!B406","v":0},{"$f":"'Рис. 4 и 5'!C406","v":0},{"$f":"'Рис. 4 и 5'!D406","v":1},{"$f":"'Рис. 4 и 5'!U406","v":1}]
[{"$f":"'Рис. 4 и 5'!A407","v":0},{"$f":"'Рис. 4 и 5'!B407","v":0},{"$f":"'Рис. 4 и 5'!C407","v":0},{"$f":"'Рис. 4 и 5'!D407","v":1},{"$f":"'Рис. 4 и 5'!U407","v":0}]
[{"$f":"'Рис. 4 и 5'!A408","v":0},{"$f":"'Рис. 4 и 5'!B408","v":1},{"$f":"'Рис. 4 и 5'!C408","v":0},{"$f":"'Рис. 4 и 5'!D408","v":1},{"$f":"'Рис. 4 и 5'!U408","v":0}]
[{"$f":"'Рис. 4 и 5'!A409","v":0},{"$f":"'Рис. 4 и 5'!B409","v":1},{"$f":"'Рис. 4 и 5'!C409","v":0},{"$f":"'Рис. 4 и 5'!D409","v":1},{"$f":"'Рис. 4 и 5'!U409","v":0}]
[{"$f":"'Рис. 4 и 5'!A410","v":0},{"$f":"'Рис. 4 и 5'!B410","v":0},{"$f":"'Рис. 4 и 5'!C410","v":0},{"$f":"'Рис. 4 и 5'!D410","v":1},{"$f":"'Рис. 4 и 5'!U410","v":1}]
[{"$f":"'Рис. 4 и 5'!A411","v":0},{"$f":"'Рис. 4 и 5'!B411","v":1},{"$f":"'Рис. 4 и 5'!C411","v":1},{"$f":"'Рис. 4 и 5'!D411","v":1},{"$f":"'Рис. 4 и 5'!U411","v":0}]
[{"$f":"'Рис. 4 и 5'!A412","v":0},{"$f":"'Рис. 4 и 5'!B412","v":0},{"$f":"'Рис. 4 и 5'!C412","v":0},{"$f":"'Рис. 4 и 5'!D412","v":1},{"$f":"'Рис. 4 и 5'!U412","v":0}]
[{"$f":"'Рис. 4 и 5'!A413","v":0},{"$f":"'Рис. 4 и 5'!B413","v":0},{"$f":"'Рис. 4 и 5'!C413","v":0},{"$f":"'Рис. 4 и 5'!D413","v":0},{"$f":"'Рис. 4 и 5'!U413","v":1}]
[{"$f":"'Рис. 4 и 5'!A414","v":0},{"$f":"'Рис. 4 и 5'!B414","v":1},{"$f":"'Рис. 4 и 5'!C414","v":0},{"$f":"'Рис. 4 и 5'!D414","v":0},{"$f":"'Рис. 4 и 5'!U414","v":0}]
[{"$f":"'Рис. 4 и 5'!A415","v":0},{"$f":"'Рис. 4 и 5'!B415","v":0},{"$f":"'Рис. 4 и 5'!C415","v":0},{"$f":"'Рис. 4 и 5'!D415","v":0},{"$f":"'Рис. 4 и 5'!U415","v":0}]
[{"$f":"'Рис. 4 и 5'!A416","v":0},{"$f":"'Рис. 4 и 5'!B416","v":0},{"$f":"'Рис. 4 и 5'!C416","v":0},{"$f":"'Рис. 4 и 5'!D416","v":1},{"$f":"'Рис. 4 и 5'!U416","v":0}]
[{"$f":"'Рис. 4 и 5'!A417","v":0},{"$f":"'Рис. 4 и 5'!B417","v":0},{"$f":"'Рис. 4 и 5'!C417","v":0},{"$f":"'Рис. 4 и 5'!D417","v":1},{"$f":"'Рис. 4 и 5'!U417","v":0}]
[{"$f":"'Рис. 4 и 5'!A418","v":0},{"$f":"'Рис. 4 и 5'!B418","v":0},{"$f":"'Рис. 4 и 5'!C418","v":0},{"$f":"'Рис. 4 и 5'!D418","v":1},{"$f":"'Рис. 4 и 5'!U418","v":0}]
[{"$f":"'Рис. 4 и 5'!A419","v":0},{"$f":"'Рис. 4 и 5'!B419","v":0},{"$f":"'Рис. 4 и 5'!C419","v":0},{"$f":"'Рис. 4 и 5'!D419","v":0},{"$f":"'Рис. 4 и 5'!U419","v":0}]
[{"$f":"'Рис. 4 и 5'!A420","v":0},{"$f":"'Рис. 4 и 5'!B420","v":0},{"$f":"'Рис. 4 и 5'!C420","v":0},{"$f":"'Рис. 4 и 5'!D420","v":0},{"$f":"'Рис. 4 и 5'!U420","v":1}]
[{"$f":"'Рис. 4 и 5'!A421","v":0},{"$f":"'Рис. 4 и 5'!B421","v":0},{"$f":"'Рис. 4 и 5'!C421","v":0},{"$f":"'Рис. 4 и 5'!D421","v":0},{"$f":"'Рис. 4 и 5'!U421","v":1}]
[{"$f":"'Рис. 4 и 5'!A422","v":0},{"$f":"'Рис. 4 и 5'!B422","v":0},{"$f":"'Рис. 4 и 5'!C422","v":0},{"$f":"'Рис. 4 и 5'!D422","v":1},{"$f":"'Рис. 4 и 5'!U422","v":0}]
[{"$f":"'Рис. 4 и 5'!A423","v":0},{"$f":"'Рис. 4 и 5'!B423","v":0},{"$f":"'Рис. 4 и 5'!C423","v":0},{"$f":"'Рис. 4 и 5'!D423","v":1},{"$f":"'Рис. 4 и 5'!U423","v":0}]
[{"$f":"'Рис. 4 и 5'!A424","v":0},{"$f":"'Рис. 4 и 5'!B424","v":0},{"$f":"'Рис. 4 и 5'!C424","v":0},{"$f":"'Рис. 4 и 5'!D424","v":0},{"$f":"'Рис. 4 и 5'!U424","v":0}]
[{"$f":"'Рис. 4 и 5'!A425","v":0},{"$f":"'Рис. 4 и 5'!B425","v":0},{"$f":"'Рис. 4 и 5'!C425","v":0},{"$f":"'Рис. 4 и 5'!D425","v":0},{"$f":"'Рис. 4 и 5'!U425","v":0}]
[{"$f":"'Рис. 4 и 5'!A426","v":0},{"$f":"'Рис. 4 и 5'!B426","v":1},{"$f":"'Рис. 4 и 5'!C426","v":0},{"$f":"'Рис. 4 и 5'!D426","v":1},{"$f":"'Рис. 4 и 5'!U426","v":1}]
[{"$f":"'Рис. 4 и 5'!A427","v":0},{"$f":"'Рис. 4 и 5'!B427","v":0},{"$f":"'Рис. 4 и 5'!C427","v":0},{"$f":"'Рис. 4 и 5'!D427","v":1},{"$f":"'Рис. 4 и 5'!U427","v":0}]
[{"$f":"'Рис. 4 и 5'!A428","v":0},{"$f":"'Рис. 4 и 5'!B428","v":0},{"$f":"'Рис. 4 и 5'!C428","v":0},{"$f":"'Рис. 4 и 5'!D428","v":0},{"$f":"'Рис. 4 и 5'!U428","v":0}]
[{"$f":"'Рис. 4 и 5'!A429","v":0},{"$f":"'Рис. 4 и 5'!B429","v":1},{"$f":"'Рис. 4 и 5'!C429","v":1},{"$f":"'Рис. 4 и 5'!D429","v":0},{"$f":"'Рис. 4 и 5'!U429","v":1}]
[{"$f":"'Рис. 4 и 5'!A430","v":0},{"$f":"'Рис. 4 и 5'!B430","v":0},{"$f":"'Рис. 4 и 5'!C430","v":0},{"$f":"'Рис. 4 и 5'!D430","v":0},{"$f":"'Рис. 4 и 5'!U430","v":1}]
[{"$f":"'Рис. 4 и 5'!A431","v":1},{"$f":"'Рис. 4 и 5'!B431","v":0},{"$f":"'Рис. 4 и 5'!C431","v":0},{"$f":"'Рис. 4 и 5'!D431","v":1},{"$f":"'Рис. 4 и 5'!U431","v":1}]
[{"$f":"'Рис. 4 и 5'!A432","v":1},{"$f":"'Рис. 4 и 5'!B432","v":0},{"$f":"'Рис. 4 и 5'!C432","v":1},{"$f":"'Рис. 4 и 5'!D432","v":1},{"$f":"'Рис. 4 и 5'!U432","v":1}]
[{"$f":"'Рис. 4 и 5'!A433","v":0},{"$f":"'Рис. 4 и 5'!B433","v":0},{"$f":"'Рис. 4 и 5'!C433","v":0},{"$f":"'Рис. 4 и 5'!D433","v":0},{"$f":"'Рис. 4 и 5'!U433","v":1}]
[{"$f":"'Рис. 4 и 5'!A434","v":0},{"$f":"'Рис. 4 и 5'!B434","v":0},{"$f":"'Рис. 4 и 5'!C434","v":0},{"$f":"'Рис. 4 и 5'!D434","v":0},{"$f":"'Рис. 4 и 5'!U434","v":1}]
[{"$f":"'Рис. 4 и 5'!A435","v":0},{"$f":"'Рис. 4 и 5'!B435","v":0},{"$f":"'Рис. 4 и 5'!C435","v":0},{"$f":"'Рис. 4 и 5'!D435","v":0},{"$f":"'Рис. 4 и 5'!U435","v":1}]
[{"$f":"'Рис. 4 и 5'!A436","v":0},{"$f":"'Рис. 4 и 5'!B436","v":1},{"$f":"'Рис. 4 и 5'!C436","v":0},{"$f":"'Рис. 4 и 5'!D436","v":0},{"$f":"'Рис. 4 и 5'!U436","v":0}]
[{"$f":"'Рис. 4 и 5'!A437","v":0},{"$f":"'Рис. 4 и 5'!B437","v":0},{"$f":"'Рис. 4 и 5'!C437","v":0},{"$f":"'Рис. 4 и 5'!D437","v":0},{"$f":"'Рис. 4 и 5'!U437","v":1}]
[{"$f":"'Рис. 4 и 5'!A438","v":1},{"$f":"'Рис. 4 и 5'!B438","v":0},{"$f":"'Рис. 4 и 5'!C438","v":0},{"$f":"'Рис. 4 и 5'!D438","v":0},{"$f":"'Рис. 4 и 5'!U438","v":1}]
[{"$f":"'Рис. 4 и 5'!A439","v":0},{"$f":"'Рис. 4 и 5'!B439","v":0},{"$f":"'Рис. 4 и 5'!C439","v":0},{"$f":"'Рис. 4 и 5'!D439","v":0},{"$f":"'Рис. 4 и 5'!U439","v":0}]
[{"$f":"'Рис. 4 и 5'!A440","v":0},{"$f":"'Рис. 4 и 5'!B440","v":0},{"$f":"'Рис. 4 и 5'!C440","v":0},{"$f":"'Рис. 4 и 5'!D440","v":0},{"$f":"'Рис. 4 и 5'!U440","v":1}]
[{"$f":"'Рис. 4 и 5'!A441","v":0},{"$f":"'Рис. 4 и 5'!B441","v":0},{"$f":"'Рис. 4 и 5'!C441","v":0},{"$f":"'Рис. 4 и 5'!D441","v":0},{"$f":"'Рис. 4 и 5'!U441","v":0}]
[{"$f":"'Рис. 4 и 5'!A442","v":0},{"$f":"'Рис. 4 и 5'!B442","v":1},{"$f":"'Рис. 4 и 5'!C442","v":0},{"$f":"'Рис. 4 и 5'!D442","v":1},{"$f":"'Рис. 4 и 5'!U442","v":0}]
[{"$f":"'Рис. 4 и 5'!A443","v":1},{"$f":"'Рис. 4 и 5'!B443","v":0},{"$f":"'Рис. 4 и 5'!C443","v":0},{"$f":"'Рис. 4 и 5'!D443","v":0},{"$f":"'Рис. 4 и 5'!U443","v":1}]
[{"$f":"'Рис. 4 и 5'!A444","v":0},{"$f":"'Рис. 4 и 5'!B444","v":1},{"$f":"'Рис. 4 и 5'!C444","v":0},{"$f":"'Рис. 4 и 5'!D444","v":1},{"$f":"'Рис. 4 и 5'!U444","v":0}]
[{"$f":"'Рис. 4 и 5'!A445","v":0},{"$f":"'Рис. 4 и 5'!B445","v":0},{"$f":"'Рис. 4 и 5'!C445","v":1},{"$f":"'Рис. 4 и 5'!D445","v":1},{"$f":"'Рис. 4 и 5'!U445","v":1}]
[{"$f":"'Рис. 4 и 5'!A446","v":0},{"$f":"'Рис. 4 и 5'!B446","v":0},{"$f":"'Рис. 4 и 5'!C446","v":0},{"$f":"'Рис. 4 и 5'!D446","v":1},{"$f":"'Рис. 4 и 5'!U446","v":1}]
[{"$f":"'Рис. 4 и 5'!A447","v":0},{"$f":"'Рис. 4 и 5'!B447","v":0},{"$f":"'Рис. 4 и 5'!C447","v":0},{"$f":"'Рис. 4 и 5'!D447","v":0},{"$f":"'Рис. 4 и 5'!U447","v":0}]
[{"$f":"'Рис. 4 и 5'!A448","v":0},{"$f":"'Рис. 4 и 5'!B448","v":0},{"$f":"'Рис. 4 и 5'!C448","v":1},{"$f":"'Рис. 4 и 5'!D448","v":1},{"$f":"'Рис. 4 и 5'!U448","v":0}]
[{"$f":"'Рис. 4 и 5'!A449","v":0},{"$f":"'Рис. 4 и 5'!B449","v":0},{"$f":"'Рис. 4 и 5'!C449","v":0},{"$f":"'Рис. 4 и 5'!D449","v":1},{"$f":"'Рис. 4 и 5'!U449","v":1}]
[{"$f":"'Рис. 4 и 5'!A450","v":0},{"$f":"'Рис. 4 и 5'!B450","v":0},{"$f":"'Рис. 4 и 5'!C450","v":0},{"$f":"'Рис. 4 и 5'!D450","v":0},{"$f":"'Рис. 4 и 5'!U450","v":1}]
[{"$f":"'Рис. 4 и 5'!A451","v":0},{"$f":"'Рис. 4 и 5'!B451","v":0},{"$f":"'Рис. 4 и 5'!C451","v":0},{"$f":"'Рис. 4 и 5'!D451","v":1},{"$f":"'Рис. 4 и 5'!U451","v":1}]
[{"$f":"'Рис. 4 и 5'!A452","v":0},{"$f":"'Рис. 4 и 5'!B452","v":1},{"$f":"'Рис. 4 и 5'!C452","v":0},{"$f":"'Рис. 4 и 5'!D452","v":1},{"$f":"'Рис. 4 и 5'!U452","v":0}]
[{"$f":"'Рис. 4 и 5'!A453","v":0},{"$f":"'Рис. 4 и 5'!B453","v":0},{"$f":"'Рис. 4 и 5'!C453","v":0},{"$f":"'Рис. 4 и 5'!D453","v":0},{"$f":"'Рис. 4 и 5'!U453","v":1}]
[{"$f":"'Рис. 4 и 5'!A454","v":0},{"$f":"'Рис. 4 и 5'!B454","v":0},{"$f":"'Рис. 4 и 5'!C454","v":0},{"$f":"'Рис. 4 и 5'!D454","v":1},{"$f":"'Рис. 4 и 5'!U454","v":0}]
[{"$f":"'Рис. 4 и 5'!A455","v":0},{"$f":"'Рис. 4 и 5'!B455","v":0},{"$f":"'Рис. 4 и 5'!C455","v":0},{"$f":"'Рис. 4 и 5'!D455","v":0},{"$f":"'Рис. 4 и 5'!U455","v":0}]
[{"$f":"'Рис. 4 и 5'!A456","v":0},{"$f":"'Рис. 4 и 5'!B456","v":0},{"$f":"'Рис. 4 и 5'!C456","v":0},{"$f":"'Рис. 4 и 5'!D456","v":0},{"$f":"'Рис. 4 и 5'!U456","v":0}]
[{"$f":"'Рис. 4 и 5'!A457","v":1},{"$f":"'Рис. 4 и 5'!B457","v":0},{"$f":"'Рис. 4 и 5'!C457","v":0},{"$f":"'Рис. 4 и 5'!D457","v":0},{"$f":"'Рис. 4 и 5'!U457","v":1}]
[{"$f":"'Рис. 4 и 5'!A458","v":0},{"$f":"'Рис. 4 и 5'!B458","v":0},{"$f":"'Рис. 4 и 5'!C458","v":0},{"$f":"'Рис. 4 и 5'!D458","v":1},{"$f":"'Рис. 4 и 5'!U458","v":0}]
[{"$f":"'Рис. 4 и 5'!A459","v":0},{"$f":"'Рис. 4 и 5'!B459","v":0},{"$f":"'Рис. 4 и 5'!C459","v":0},{"$f":"'Рис. 4 и 5'!D459","v":0},{"$f":"'Рис. 4 и 5'!U459","v":0}]
[{"$f":"'Рис. 4 и 5'!A460","v":0},{"$f":"'Рис. 4 и 5'!B460","v":0},{"$f":"'Рис. 4 и 5'!C460","v":0},{"$f":"'Рис. 4 и 5'!D460","v":0},{"$f":"'Рис. 4 и 5'!U460","v":0}]
[{"$f":"'Рис. 4 и 5'!A461","v":0},{"$f":"'Рис. 4 и 5'!B461","v":0},{"$f":"'Рис. 4 и 5'!C461","v":0},{"$f":"'Рис. 4 и 5'!D461","v":1},{"$f":"'Рис. 4 и 5'!U461","v":0}]
[{"$f":"'Рис. 4 и 5'!A462","v":0},{"$f":"'Рис. 4 и 5'!B462","v":0},{"$f":"'Рис. 4 и 5'!C462","v":0},{"$f":"'Рис. 4 и 5'!D462","v":1},{"$f":"'Рис. 4 и 5'!U462","v":0}]
[{"$f":"'Рис. 4 и 5'!A463","v":0},{"$f":"'Рис. 4 и 5'!B463","v":0},{"$f":"'Рис. 4 и 5'!C463","v":0},{"$f":"'Рис. 4 и 5'!D463","v":0},{"$f":"'Рис. 4 и 5'!U463","v":1}]
[{"$f":"'Рис. 4 и 5'!A464","v":1},{"$f":"'Рис. 4 и 5'!B464","v":0},{"$f":"'Рис. 4 и 5'!C464","v":0},{"$f":"'Рис. 4 и 5'!D464","v":1},{"$f":"'Рис. 4 и 5'!U464","v":1}]
[{"$f":"'Рис. 4 и 5'!A465","v":0},{"$f":"'Рис. 4 и 5'!B465","v":0},{"$f":"'Рис. 4 и 5'!C465","v":1},{"$f":"'Рис. 4 и 5'!D465","v":1},{"$f":"'Рис. 4 и 5'!U465","v":1}]
[{"$f":"'Рис. 4 и 5'!A466","v":0},{"$f":"'Рис. 4 и 5'!B466","v":0},{"$f":"'Рис. 4 и 5'!C466","v":0},{"$f":"'Рис. 4 и 5'!D466","v":0},{"$f":"'Рис. 4 и 5'!U466","v":0}]
[{"$f":"'Рис. 4 и 5'!A467","v":0},{"$f":"'Рис. 4 и 5'!B467","v":0},{"$f":"'Рис. 4 и 5'!C467","v":0},{"$f":"'Рис. 4 и 5'!D467","v":0},{"$f":"'Рис. 4 и 5'!U467","v":1}]
[{"$f":"'Рис. 4 и 5'!A468","v":0},{"$f":"'Рис. 4 и 5'!B468","v":0},{"$f":"'Рис. 4 и 5'!C468","v":0},{"$f":"'Рис. 4 и 5'!D468","v":0},{"$f":"'Рис. 4 и 5'!U468","v":0}]
[{"$f":"'Рис. 4 и 5'!A469","v":1},{"$f":"'Рис. 4 и 5'!B469","v":0},{"$f":"'Рис. 4 и 5'!C469","v":0},{"$f":"'Рис. 4 и 5'!D469","v":1},{"$f":"'Рис. 4 и 5'!U469","v":1}]
[{"$f":"'Рис. 4 и 5'!A470","v":1},{"$f":"'Рис. 4 и 5'!B470","v":0},{"$f":"'Рис. 4 и 5'!C470","v":0},{"$f":"'Рис. 4 и 5'!D470","v":1},{"$f":"'Рис. 4 и 5'!U470","v":1}]
[{"$f":"'Рис. 4 и 5'!A471","v":0},{"$f":"'Рис. 4 и 5'!B471","v":1},{"$f":"'Рис. 4 и 5'!C471","v":0},{"$f":"'Рис. 4 и 5'!D471","v":0},{"$f":"'Рис. 4 и 5'!U471","v":0}]
[{"$f":"'Рис. 4 и 5'!A472","v":0},{"$f":"'Рис. 4 и 5'!B472","v":1},{"$f":"'Рис. 4 и 5'!C472","v":0},{"$f":"'Рис. 4 и 5'!D472","v":1},{"$f":"'Рис. 4 и 5'!U472","v":0}]
[{"$f":"'Рис. 4 и 5'!A473","v":0},{"$f":"'Рис. 4 и 5'!B473","v":1},{"$f":"'Рис. 4 и 5'!C473","v":0},{"$f":"'Рис. 4 и 5'!D473","v":0},{"$f":"'Рис. 4 и 5'!U473","v":0}]
[{"$f":"'Рис. 4 и 5'!A474","v":1},{"$f":"'Рис. 4 и 5'!B474","v":0},{"$f":"'Рис. 4 и 5'!C474","v":0},{"$f":"'Рис. 4 и 5'!D474","v":0},{"$f":"'Рис. 4 и 5'!U474","v":1}]
[{"$f":"'Рис. 4 и 5'!A475","v":0},{"$f":"'Рис. 4 и 5'!B475","v":0},{"$f":"'Рис. 4 и 5'!C475","v":0},{"$f":"'Рис. 4 и 5'!D475","v":1},{"$f":"'Рис. 4 и 5'!U475","v":0}]
[{"$f":"'Рис. 4 и 5'!A476","v":0},{"$f":"'Рис. 4 и 5'!B476","v":1},{"$f":"'Рис. 4 и 5'!C476","v":0},{"$f":"'Рис. 4 и 5'!D476","v":1},{"$f":"'Рис. 4 и 5'!U476","v":0}]
[{"$f":"'Рис. 4 и 5'!A477","v":0},{"$f":"'Рис. 4 и 5'!B477","v":0},{"$f":"'Рис. 4 и 5'!C477","v":0},{"$f":"'Рис. 4 и 5'!D477","v":1},{"$f":"'Рис. 4 и 5'!U477","v":1}]
[{"$f":"'Рис. 4 и 5'!A478","v":0},{"$f":"'Рис. 4 и 5'!B478","v":0},{"$f":"'Рис. 4 и 5'!C478","v":0},{"$f":"'Рис. 4 и 5'!D478","v":0},{"$f":"'Рис. 4 и 5'!U478","v":0}]
[{"$f":"'Рис. 4 и 5'!A479","v":0},{"$f":"'Рис. 4 и 5'!B479","v":0},{"$f":"'Рис. 4 и 5'!C479","v":0},{"$f":"'Рис. 4 и 5'!D479","v":0},{"$f":"'Рис. 4 и 5'!U479","v":1}]
[{"$f":"'Рис. 4 и 5'!A480","v":0},{"$f":"'Рис. 4 и 5'!B480","v":0},{"$f":"'Рис. 4 и 5'!C480","v":0},{"$f":"'Рис. 4 и 5'!D480","v":0},{"$f":"'Рис. 4 и 5'!U480","v":1}]
[{"$f":"'Рис. 4 и 5'!A481","v":0},{"$f":"'Рис. 4 и 5'!B481","v":0},{"$f":"'Рис. 4 и 5'!C481","v":0},{"$f":"'Рис. 4 и 5'!D481","v":1},{"$f":"'Рис. 4 и 5'!U481","v":0}]
[{"$f":"'Рис. 4 и 5'!A482","v":1},{"$f":"'Рис. 4 и 5'!B482","v":0},{"$f":"'Рис. 4 и 5'!C482","v":0},{"$f":"'Рис. 4 и 5'!D482","v":1},{"$f":"'Рис. 4 и 5'!U482","v":1}]
[{"$f":"'Рис. 4 и 5'!A483","v":0},{"$f":"'Рис. 4 и 5'!B483","v":0},{"$f":"'Рис. 4 и 5'!C483","v":0},{"$f":"'Рис. 4 и 5'!D483","v":0},{"$f":"'Рис. 4 и 5'!U483","v":0}]
[{"$f":"'Рис. 4 и 5'!A484","v":0},{"$f":"'Рис. 4 и 5'!B484","v":1},{"$f":"'Рис. 4 и 5'!C484","v":0},{"$f":"'Рис. 4 и 5'!D484","v":1},{"$f":"'Рис. 4 и 5'!U484","v":0}]
[{"$f":"'Рис. 4 и 5'!A485","v":0},{"$f":"'Рис. 4 и 5'!B485","v":0},{"$f":"'Рис. 4 и 5'!C485","v":0},{"$f":"'Рис. 4 и 5'!D485","v":0},{"$f":"'Рис. 4 и 5'!U485","v":0}]
[{"$f":"'Рис. 4 и 5'!A486","v":0},{"$f":"'Рис. 4 и 5'!B486","v":1},{"$f":"'Рис. 4 и 5'!C486","v":0},{"$f":"'Рис. 4 и 5'!D486","v":1},{"$f":"'Рис. 4 и 5'!U486","v":0}]
[{"$f":"'Рис. 4 и 5'!A487","v":0},{"$f":"'Рис. 4 и 5'!B487","v":1},{"$f":"'Рис. 4 и 5'!C487","v":0},{"$f":"'Рис. 4 и 5'!D487","v":0},{"$f":"'Рис. 4 и 5'!U487","v":0}]
[{"$f":"'Рис. 4 и 5'!A488","v":0},{"$f":"'Рис. 4 и 5'!B488","v":0},{"$f":"'Рис. 4 и 5'!C488","v":0},{"$f":"'Рис. 4 и 5'!D488","v":0},{"$f":"'Рис. 4 и 5'!U488","v":0}]
[{"$f":"'Рис. 4 и 5'!A489","v":1},{"$f":"'Рис. 4 и 5'!B489","v":0},{"$f":"'Рис. 4 и 5'!C489","v":0},{"$f":"'Рис. 4 и 5'!D489","v":0},{"$f":"'Рис. 4 и 5'!U489","v":1}]
[{"$f":"'Рис. 4 и 5'!A490","v":0},{"$f":"'Рис. 4 и 5'!B490","v":0},{"$f":"'Рис. 4 и 5'!C490","v":0},{"$f":"'Рис. 4 и 5'!D490","v":1},{"$f":"'Рис. 4 и 5'!U490","v":0}]
[{"$f":"'Рис. 4 и 5'!A491","v":0},{"$f":"'Рис. 4 и 5'!B491","v":0},{"$f":"'Рис. 4 и 5'!C491","v":0},{"$f":"'Рис. 4 и 5'!D491","v":0},{"$f":"'Рис. 4 и 5'!U491","v":0}]
[{"$f":"'Рис. 4 и 5'!A492","v":0},{"$f":"'Рис. 4 и 5'!B492","v":0},{"$f":"'Рис. 4 и 5'!C492","v":0},{"$f":"'Рис. 4 и 5'!D492","v":0},{"$f":"'Рис. 4 и 5'!U492","v":1}]
[{"$f":"'Рис. 4 и 5'!A493","v":0},{"$f":"'Рис. 4 и 5'!B493","v":0},{"$f":"'Рис. 4 и 5'!C493","v":0},{"$f":"'Рис. 4 и 5'!D493","v":1},{"$f":"'Рис. 4 и 5'!U493","v":0}]
[{"$f":"'Рис. 4 и 5'!A494","v":0},{"$f":"'Рис. 4 и 5'!B494","v":0},{"$f":"'Рис. 4 и 5'!C494","v":0},{"$f":"'Рис. 4 и 5'!D494","v":1},{"$f":"'Рис. 4 и 5'!U494","v":1}]
[{"$f":"'Рис. 4 и 5'!A495","v":0},{"$f":"'Рис. 4 и 5'!B495","v":0},{"$f":"'Рис. 4 и 5'!C495","v":0},{"$f":"'Рис. 4 и 5'!D495","v":1},{"$f":"'Рис. 4 и 5'!U495","v":0}]
[{"$f":"'Рис. 4 и 5'!A496","v":0},{"$f":"'Рис. 4 и 5'!B496","v":0},{"$f":"'Рис. 4 и 5'!C496","v":0},{"$f":"'Рис. 4 и 5'!D496","v":0},{"$f":"'Рис. 4 и 5'!U496","v":0}]
[{"$f":"'Рис. 4 и 5'!A497","v":0},{"$f":"'Рис. 4 и 5'!B497","v":1},{"$f":"'Рис. 4 и 5'!C497","v":0},{"$f":"'Рис. 4 и 5'!D497","v":1},{"$f":"'Рис. 4 и 5'!U497","v":0}]
[{"$f":"'Рис. 4 и 5'!A498","v":0},{"$f":"'Рис. 4 и 5'!B498","v":0},{"$f":"'Рис. 4 и 5'!C498","v":0},{"$f":"'Рис. 4 и 5'!D498","v":0},{"$f":"'Рис. 4 и 5'!U498","v":1}]
[{"$f":"'Рис. 4 и 5'!A499","v":0},{"$f":"'Рис. 4 и 5'!B499","v":1},{"$f":"'Рис. 4 и 5'!C499","v":0},{"$f":"'Рис. 4 и 5'!D499","v":0},{"$f":"'Рис. 4 и 5'!U499","v":0}]
[{"$f":"'Рис. 4 и 5'!A500","v":1},{"$f":"'Рис. 4 и 5'!B500","v":0},{"$f":"'Рис. 4 и 5'!C500","v":0},{"$f":"'Рис. 4 и 5'!D500","v":0},{"$f":"'Рис. 4 и 5'!U500","v":1}]
[{"$f":"'Рис. 4 и 5'!A501","v":0},{"$f":"'Рис. 4 и 5'!B501","v":0},{"$f":"'Рис. 4 и 5'!C501","v":0},{"$f":"'Рис. 4 и 5'!D501","v":0},{"$f":"'Рис. 4 и 5'!U501","v":1}]
[{"$f":"'Рис. 4 и 5'!A502","v":0},{"$f":"'Рис. 4 и 5'!B502","v":0},{"$f":"'Рис. 4 и 5'!C502","v":0},{"$f":"'Рис. 4 и 5'!D502","v":1},{"$f":"'Рис. 4 и 5'!U502","v":1}]
[{"$f":"'Рис. 4 и 5'!A503","v":0},{"$f":"'Рис. 4 и 5'!B503","v":0},{"$f":"'Рис. 4 и 5'!C503","v":0},{"$f":"'Рис. 4 и 5'!D503","v":1},{"$f":"'Рис. 4 и 5'!U503","v":1}]
[{"$f":"'Рис. 4 и 5'!A504","v":0},{"$f":"'Рис. 4 и 5'!B504","v":0},{"$f":"'Рис. 4 и 5'!C504","v":0},{"$f":"'Рис. 4 и 5'!D504","v":1},{"$f":"'Рис. 4 и 5'!U504","v":0}]
[{"$f":"'Рис. 4 и 5'!A505","v":0},{"$f":"'Рис. 4 и 5'!B505","v":0},{"$f":"'Рис. 4 и 5'!C505","v":0},{"$f":"'Рис. 4 и 5'!D505","v":0},{"$f":"'Рис. 4 и 5'!U505","v":1}]
[{"$f":"'Рис. 4 и 5'!A506","v":0},{"$f":"'Рис. 4 и 5'!B506","v":0},{"$f":"'Рис. 4 и 5'!C506","v":0},{"$f":"'Рис. 4 и 5'!D506","v":1},{"$f":"'Рис. 4 и 5'!U506","v":1}]
[{"$f":"'Рис. 4 и 5'!A507","v":1},{"$f":"'Рис. 4 и 5'!B507","v":0},{"$f":"'Рис. 4 и 5'!C507","v":0},{"$f":"'Рис. 4 и 5'!D507","v":1},{"$f":"'Рис. 4 и 5'!U507","v":1}]
[{"$f":"'Рис. 4 и 5'!A508","v":0},{"$f":"'Рис. 4 и 5'!B508","v":0},{"$f":"'Рис. 4 и 5'!C508","v":0},{"$f":"'Рис. 4 и 5'!D508","v":0},{"$f":"'Рис. 4 и 5'!U508","v":1}]
[{"$f":"'Рис. 4 и 5'!A509","v":0},{"$f":"'Рис. 4 и 5'!B509","v":0},{"$f":"'Рис. 4 и 5'!C509","v":1},{"$f":"'Рис. 4 и 5'!D509","v":0},{"$f":"'Рис. 4 и 5'!U509","v":1}]
[{"$f":"'Рис. 4 и 5'!A510","v":0},{"$f":"'Рис. 4 и 5'!B510","v":0},{"$f":"'Рис. 4 и 5'!C510","v":0},{"$f":"'Рис. 4 и 5'!D510","v":1},{"$f":"'Рис. 4 и 5'!U510","v":0}]
[{"$f":"'Рис. 4 и 5'!A511","v":0},{"$f":"'Рис. 4 и 5'!B511","v":0},{"$f":"'Рис. 4 и 5'!C511","v":0},{"$f":"'Рис. 4 и 5'!D511","v":0},{"$f":"'Рис. 4 и 5'!U511","v":0}]
[{"$f":"'Рис. 4 и 5'!A512","v":0},{"$f":"'Рис. 4 и 5'!B512","v":0},{"$f":"'Рис. 4 и 5'!C512","v":0},{"$f":"'Рис. 4 и 5'!D512","v":0},{"$f":"'Рис. 4 и 5'!U512","v":1}]
[{"$f":"'Рис. 4 и 5'!A513","v":0},{"$f":"'Рис. 4 и 5'!B513","v":0},{"$f":"'Рис. 4 и 5'!C513","v":0},{"$f":"'Рис. 4 и 5'!D513","v":0},{"$f":"'Рис. 4 и 5'!U513","v":1}]
[{"$f":"'Рис. 4 и 5'!A514","v":0},{"$f":"'Рис. 4 и 5'!B514","v":0},{"$f":"'Рис. 4 и 5'!C514","v":0},{"$f":"'Рис. 4 и 5'!D514","v":0},{"$f":"'Рис. 4 и 5'!U514","v":0}]
[{"$f":"'Рис. 4 и 5'!A515","v":0},{"$f":"'Рис. 4 и 5'!B515","v":0},{"$f":"'Рис. 4 и 5'!C515","v":0},{"$f":"'Рис. 4 и 5'!D515","v":0},{"$f":"'Рис. 4 и 5'!U515","v":0}]
[{"$f":"'Рис. 4 и 5'!A516","v":0},{"$f":"'Рис. 4 и 5'!B516","v":0},{"$f":"'Рис. 4 и 5'!C516","v":0},{"$f":"'Рис. 4 и 5'!D516","v":1},{"$f":"'Рис. 4 и 5'!U516","v":0}]
[{"$f":"'Рис. 4 и 5'!A517","v":0},{"$f":"'Рис. 4 и 5'!B517","v":0},{"$f":"'Рис. 4 и 5'!C517","v":0},{"$f":"'Рис. 4 и 5'!D517","v":1},{"$f":"'Рис. 4 и 5'!U517","v":0}]
[{"$f":"'Рис. 4 и 5'!A518","v":0},{"$f":"'Рис. 4 и 5'!B518","v":0},{"$f":"'Рис. 4 и 5'!C518","v":0},{"$f":"'Рис. 4 и 5'!D518","v":1},{"$f":"'Рис. 4 и 5'!U518","v":1}]
[{"$f":"'Рис. 4 и 5'!A519","v":0},{"$f":"'Рис. 4 и 5'!B519","v":0},{"$f":"'Рис. 4 и 5'!C519","v":0},{"$f":"'Рис. 4 и 5'!D519","v":1},{"$f":"'Рис. 4 и 5'!U519","v":1}]
[{"$f":"'Рис. 4 и 5'!A520","v":0},{"$f":"'Рис. 4 и 5'!B520","v":0},{"$f":"'Рис. 4 и 5'!C520","v":0},{"$f":"'Рис. 4 и 5'!D520","v":0},{"$f":"'Рис. 4 и 5'!U520","v":1}]
[{"$f":"'Рис. 4 и 5'!A521","v":0},{"$f":"'Рис. 4 и 5'!B521","v":0},{"$f":"'Рис. 4 и 5'!C521","v":0},{"$f":"'Рис. 4 и 5'!D521","v":0},{"$f":"'Рис. 4 и 5'!U521","v":0}]
[{"$f":"'Рис. 4 и 5'!A522","v":0},{"$f":"'Рис. 4 и 5'!B522","v":0},{"$f":"'Рис. 4 и 5'!C522","v":0},{"$f":"'Рис. 4 и 5'!D522","v":0},{"$f":"'Рис. 4 и 5'!U522","v":1}]
[{"$f":"'Рис. 4 и 5'!A523","v":0},{"$f":"'Рис. 4 и 5'!B523","v":0},{"$f":"'Рис. 4 и 5'!C523","v":0},{"$f":"'Рис. 4 и 5'!D523","v":1},{"$f":"'Рис. 4 и 5'!U523","v":0}]
[{"$f":"'Рис. 4 и 5'!A524","v":0},{"$f":"'Рис. 4 и 5'!B524","v":0},{"$f":"'Рис. 4 и 5'!C524","v":0},{"$f":"'Рис. 4 и 5'!D524","v":1},{"$f":"'Рис. 4 и 5'!U524","v":0}]
[{"$f":"'Рис. 4 и 5'!A525","v":0},{"$f":"'Рис. 4 и 5'!B525","v":0},{"$f":"'Рис. 4 и 5'!C525","v":0},{"$f":"'Рис. 4 и 5'!D525","v":1},{"$f":"'Рис. 4 и 5'!U525","v":0}]
[{"$f":"'Рис. 4 и 5'!A526","v":0},{"$f":"'Рис. 4 и 5'!B526","v":0},{"$f":"'Рис. 4 и 5'!C526","v":0},{"$f":"'Рис. 4 и 5'!D526","v":0},{"$f":"'Рис. 4 и 5'!U526","v":1}]
[{"$f":"'Рис. 4 и 5'!A527","v":0},{"$f":"'Рис. 4 и 5'!B527","v":0},{"$f":"'Рис. 4 и 5'!C527","v":0},{"$f":"'Рис. 4 и 5'!D527","v":0},{"$f":"'Рис. 4 и 5'!U527","v":1}]
[{"$f":"'Рис. 4 и 5'!A528","v":0},{"$f":"'Рис. 4 и 5'!B528","v":0},{"$f":"'Рис. 4 и 5'!C528","v":0},{"$f":"'Рис. 4 и 5'!D528","v":0},{"$f":"'Рис. 4 и 5'!U528","v":0}]
[{"$f":"'Рис. 4 и 5'!A529","v":0},{"$f":"'Рис. 4 и 5'!B529","v":0},{"$f":"'Рис. 4 и 5'!C529","v":0},{"$f":"'Рис. 4 и 5'!D529","v":0},{"$f":"'Рис. 4 и 5'!U529","v":0}]
[{"$f":"'Рис. 4 и 5'!A530","v":0},{"$f":"'Рис. 4 и 5'!B530","v":1},{"$f":"'Рис. 4 и 5'!C530","v":0},{"$f":"'Рис. 4 и 5'!D530","v":0},{"$f":"'Рис. 4 и 5'!U530","v":0}]
[{"$f":"'Рис. 4 и 5'!A531","v":1},{"$f":"'Рис. 4 и 5'!B531","v":0},{"$f":"'Рис. 4 и 5'!C531","v":0},{"$f":"'Рис. 4 и 5'!D531","v":0},{"$f":"'Рис. 4 и 5'!U531","v":1}]
[{"$f":"'Рис. 4 и 5'!A532","v":0},{"$f":"'Рис. 4 и 5'!B532","v":0},{"$f":"'Рис. 4 и 5'!C532","v":0},{"$f":"'Рис. 4 и 5'!D532","v":1},{"$f":"'Рис. 4 и 5'!U532","v":0}]
[{"$f":"'Рис. 4 и 5'!A533","v":0},{"$f":"'Рис. 4 и 5'!B533","v":0},{"$f":"'Рис. 4 и 5'!C533","v":0},{"$f":"'Рис. 4 и 5'!D533","v":1},{"$f":"'Рис. 4 и 5'!U533","v":0}]
[{"$f":"'Рис. 4 и 5'!A534","v":1},{"$f":"'Рис. 4 и 5'!B534","v":0},{"$f":"'Рис. 4 и 5'!C534","v":0},{"$f":"'Рис. 4 и 5'!D534","v":0},{"$f":"'Рис. 4 и 5'!U534","v":1}]
[{"$f":"'Рис. 4 и 5'!A535","v":0},{"$f":"'Рис. 4 и 5'!B535","v":0},{"$f":"'Рис. 4 и 5'!C535","v":0},{"$f":"'Рис. 4 и 5'!D535","v":0},{"$f":"'Рис. 4 и 5'!U535","v":0}]
[{"$f":"'Рис. 4 и 5'!A536","v":0},{"$f":"'Рис. 4 и 5'!B536","v":0},{"$f":"'Рис. 4 и 5'!C536","v":0},{"$f":"'Рис. 4 и 5'!D536","v":1},{"$f":"'Рис. 4 и 5'!U536","v":0}]
[{"$f":"'Рис. 4 и 5'!A537","v":0},{"$f":"'Рис. 4 и 5'!B537","v":0},{"$f":"'Рис. 4 и 5'!C537","v":0},{"$f":"'Рис. 4 и 5'!D537","v":1},{"$f":"'Рис. 4 и 5'!U537","v":1}]
[{"$f":"'Рис. 4 и 5'!A538","v":0},{"$f":"'Рис. 4 и 5'!B538","v":0},{"$f":"'Рис. 4 и 5'!C538","v":0},{"$f":"'Рис. 4 и 5'!D538","v":0},{"$f":"'Рис. 4 и 5'!U538","v":1}]
[{"$f":"'Рис. 4 и 5'!A539","v":0},{"$f":"'Рис. 4 и 5'!B539","v":0},{"$f":"'Рис. 4 и 5'!C539","v":0},{"$f":"'Рис. 4 и 5'!D539","v":0},{"$f":"'Рис. 4 и 5'!U539","v":1}]
[{"$f":"'Рис. 4 и 5'!A540","v":0},{"$f":"'Рис. 4 и 5'!B540","v":0},{"$f":"'Рис. 4 и 5'!C540","v":1},{"$f":"'Рис. 4 и 5'!D540","v":1},{"$f":"'Рис. 4 и 5'!U540","v":1}]
[{"$f":"'Рис. 4 и 5'!A541","v":0},{"$f":"'Рис. 4 и 5'!B541","v":0},{"$f":"'Рис. 4 и 5'!C541","v":0},{"$f":"'Рис. 4 и 5'!D541","v":1},{"$f":"'Рис. 4 и 5'!U541","v":0}]
[{"$f":"'Рис. 4 и 5'!A542","v":0},{"$f":"'Рис. 4 и 5'!B542","v":0},{"$f":"'Рис. 4 и 5'!C542","v":0},{"$f":"'Рис. 4 и 5'!D542","v":0},{"$f":"'Рис. 4 и 5'!U542","v":1}]
[{"$f":"'Рис. 4 и 5'!A543","v":0},{"$f":"'Рис. 4 и 5'!B543","v":0},{"$f":"'Рис. 4 и 5'!C543","v":0},{"$f":"'Рис. 4 и 5'!D543","v":1},{"$f":"'Рис. 4 и 5'!U543","v":1}]
[{"$f":"'Рис. 4 и 5'!A544","v":0},{"$f":"'Рис. 4 и 5'!B544","v":0},{"$f":"'Рис. 4 и 5'!C544","v":0},{"$f":"'Рис. 4 и 5'!D544","v":1},{"$f":"'Рис. 4 и 5'!U544","v":1}]
[{"$f":"'Рис. 4 и 5'!A545","v":0},{"$f":"'Рис. 4 и 5'!B545","v":0},{"$f":"'Рис. 4 и 5'!C545","v":0},{"$f":"'Рис. 4 и 5'!D545","v":0},{"$f":"'Рис. 4 и 5'!U545","v":0}]
[{"$f":"'Рис. 4 и 5'!A546","v":0},{"$f":"'Рис. 4 и 5'!B546","v":0},{"$f":"'Рис. 4 и 5'!C546","v":0},{"$f":"'Рис. 4 и 5'!D546","v":0},{"$f":"'Рис. 4 и 5'!U546","v":0}]
[{"$f":"'Рис. 4 и 5'!A547","v":0},{"$f":"'Рис. 4 и 5'!B547","v":1},{"$f":"'Рис. 4 и 5'!C547","v":0},{"$f":"'Рис. 4 и 5'!D547","v":1},{"$f":"'Рис. 4 и 5'!U547","v":0}]
[{"$f":"'Рис. 4 и 5'!A548","v":0},{"$f":"'Рис. 4 и 5'!B548","v":0},{"$f":"'Рис. 4 и 5'!C548","v":0},{"$f":"'Рис. 4 и 5'!D548","v":0},{"$f":"'Рис. 4 и 5'!U548","v":0}]
[{"$f":"'Рис. 4 и 5'!A549","v":0},{"$f":"'Рис. 4 и 5'!B549","v":1},{"$f":"'Рис. 4 и 5'!C549","v":0},{"$f":"'Рис. 4 и 5'!D549","v":0},{"$f":"'Рис. 4 и 5'!U549","v":0}]
[{"$f":"'Рис. 4 и 5'!A550","v":0},{"$f":"'Рис. 4 и 5'!B550","v":0},{"$f":"'Рис. 4 и 5'!C550","v":0},{"$f":"'Рис. 4 и 5'!D550","v":1},{"$f":"'Рис. 4 и 5'!U550","v":0}]
[{"$f":"'Рис. 4 и 5'!A551","v":1},{"$f":"'Рис. 4 и 5'!B551","v":0},{"$f":"'Рис. 4 и 5'!C551","v":0},{"$f":"'Рис. 4 и 5'!D551","v":1},{"$f":"'Рис. 4 и 5'!U551","v":1}]
[{"$f":"'Рис. 4 и 5'!A552","v":0},{"$f":"'Рис. 4 и 5'!B552","v":1},{"$f":"'Рис. 4 и 5'!C552","v":0},{"$f":"'Рис. 4 и 5'!D552","v":0},{"$f":"'Рис. 4 и 5'!U552","v":1}]
[{"$f":"'Рис. 4 и 5'!A553","v":0},{"$f":"'Рис. 4 и 5'!B553","v":0},{"$f":"'Рис. 4 и 5'!C553","v":0},{"$f":"'Рис. 4 и 5'!D553","v":1},{"$f":"'Рис. 4 и 5'!U553","v":1}]
[{"$f":"'Рис. 4 и 5'!A554","v":0},{"$f":"'Рис. 4 и 5'!B554","v":0},{"$f":"'Рис. 4 и 5'!C554","v":0},{"$f":"'Рис. 4 и 5'!D554","v":0},{"$f":"'Рис. 4 и 5'!U554","v":1}]
[{"$f":"'Рис. 4 и 5'!A555","v":1},{"$f":"'Рис. 4 и 5'!B555","v":0},{"$f":"'Рис. 4 и 5'!C555","v":0},{"$f":"'Рис. 4 и 5'!D555","v":1},{"$f":"'Рис. 4 и 5'!U555","v":1}]
[{"$f":"'Рис. 4 и 5'!A556","v":0},{"$f":"'Рис. 4 и 5'!B556","v":0},{"$f":"'Рис. 4 и 5'!C556","v":0},{"$f":"'Рис. 4 и 5'!D556","v":0},{"$f":"'Рис. 4 и 5'!U556","v":1}]
[{"$f":"'Рис. 4 и 5'!A557","v":0},{"$f":"'Рис. 4 и 5'!B557","v":0},{"$f":"'Рис. 4 и 5'!C557","v":0},{"$f":"'Рис. 4 и 5'!D557","v":0},{"$f":"'Рис. 4 и 5'!U557","v":0}]
[{"$f":"'Рис. 4 и 5'!A558","v":0},{"$f":"'Рис. 4 и 5'!B558","v":1},{"$f":"'Рис. 4 и 5'!C558","v":0},{"$f":"'Рис. 4 и 5'!D558","v":1},{"$f":"'Рис. 4 и 5'!U558","v":0}]
[{"$f":"'Рис. 4 и 5'!A559","v":0},{"$f":"'Рис. 4 и 5'!B559","v":1},{"$f":"'Рис. 4 и 5'!C559","v":0},{"$f":"'Рис. 4 и 5'!D559","v":1},{"$f":"'Рис. 4 и 5'!U559","v":0}]
[{"$f":"'Рис. 4 и 5'!A560","v":0},{"$f":"'Рис. 4 и 5'!B560","v":0},{"$f":"'Рис. 4 и 5'!C560","v":0},{"$f":"'Рис. 4 и 5'!D560","v":0},{"$f":"'Рис. 4 и 5'!U560","v":0}]
[{"$f":"'Рис. 4 и 5'!A561","v":0},{"$f":"'Рис. 4 и 5'!B561","v":0},{"$f":"'Рис. 4 и 5'!C561","v":0},{"$f":"'Рис. 4 и 5'!D561","v":0},{"$f":"'Рис. 4 и 5'!U561","v":0}]
[{"$f":"'Рис. 4 и 5'!A562","v":0},{"$f":"'Рис. 4 и 5'!B562","v":0},{"$f":"'Рис. 4 и 5'!C562","v":0},{"$f":"'Рис. 4 и 5'!D562","v":1},{"$f":"'Рис. 4 и 5'!U562","v":1}]
[{"$f":"'Рис. 4 и 5'!A563","v":0},{"$f":"'Рис. 4 и 5'!B563","v":1},{"$f":"'Рис. 4 и 5'!C563","v":0},{"$f":"'Рис. 4 и 5'!D563","v":0},{"$f":"'Рис. 4 и 5'!U563","v":0}]
[{"$f":"'Рис. 4 и 5'!A564","v":0},{"$f":"'Рис. 4 и 5'!B564","v":0},{"$f":"'Рис. 4 и 5'!C564","v":0},{"$f":"'Рис. 4 и 5'!D564","v":1},{"$f":"'Рис. 4 и 5'!U564","v":0}]
[{"$f":"'Рис. 4 и 5'!A565","v":0},{"$f":"'Рис. 4 и 5'!B565","v":0},{"$f":"'Рис. 4 и 5'!C565","v":0},{"$f":"'Рис. 4 и 5'!D565","v":1},{"$f":"'Рис. 4 и 5'!U565","v":0}]
[{"$f":"'Рис. 4 и 5'!A566","v":0},{"$f":"'Рис. 4 и 5'!B566","v":0},{"$f":"'Рис. 4 и 5'!C566","v":0},{"$f":"'Рис. 4 и 5'!D566","v":0},{"$f":"'Рис. 4 и 5'!U566","v":1}]
[{"$f":"'Рис. 4 и 5'!A567","v":0},{"$f":"'Рис. 4 и 5'!B567","v":0},{"$f":"'Рис. 4 и 5'!C567","v":0},{"$f":"'Рис. 4 и 5'!D567","v":0},{"$f":"'Рис. 4 и 5'!U567","v":1}]
[{"$f":"'Рис. 4 и 5'!A568","v":0},{"$f":"'Рис. 4 и 5'!B568","v":0},{"$f":"'Рис. 4 и 5'!C568","v":0},{"$f":"'Рис. 4 и 5'!D568","v":0},{"$f":"'Рис. 4 и 5'!U568","v":0}]
[{"$f":"'Рис. 4 и 5'!A569","v":0},{"$f":"'Рис. 4 и 5'!B569","v":1},{"$f":"'Рис. 4 и 5'!C569","v":0},{"$f":"'Рис. 4 и 5'!D569","v":0},{"$f":"'Рис. 4 и 5'!U569","v":0}]
[{"$f":"'Рис. 4 и 5'!A570","v":0},{"$f":"'Рис. 4 и 5'!B570","v":0},{"$f":"'Рис. 4 и 5'!C570","v":0},{"$f":"'Рис. 4 и 5'!D570","v":1},{"$f":"'Рис. 4 и 5'!U570","v":1}]
[{"$f":"'Рис. 4 и 5'!A571","v":0},{"$f":"'Рис. 4 и 5'!B571","v":0},{"$f":"'Рис. 4 и 5'!C571","v":0},{"$f":"'Рис. 4 и 5'!D571","v":1},{"$f":"'Рис. 4 и 5'!U571","v":0}]
[{"$f":"'Рис. 4 и 5'!A572","v":0},{"$f":"'Рис. 4 и 5'!B572","v":0},{"$f":"'Рис. 4 и 5'!C572","v":0},{"$f":"'Рис. 4 и 5'!D572","v":1},{"$f":"'Рис. 4 и 5'!U572","v":0}]
[{"$f":"'Рис. 4 и 5'!A573","v":0},{"$f":"'Рис. 4 и 5'!B573","v":0},{"$f":"'Рис. 4 и 5'!C573","v":0},{"$f":"'Рис. 4 и 5'!D573","v":1},{"$f":"'Рис. 4 и 5'!U573","v":1}]
[{"$f":"'Рис. 4 и 5'!A574","v":0},{"$f":"'Рис. 4 и 5'!B574","v":0},{"$f":"'Рис. 4 и 5'!C574","v":0},{"$f":"'Рис. 4 и 5'!D574","v":1},{"$f":"'Рис. 4 и 5'!U574","v":1}]
[{"$f":"'Рис. 4 и 5'!A575","v":0},{"$f":"'Рис. 4 и 5'!B575","v":1},{"$f":"'Рис. 4 и 5'!C575","v":0},{"$f":"'Рис. 4 и 5'!D575","v":0},{"$f":"'Рис. 4 и 5'!U575","v":1}]
[{"$f":"'Рис. 4 и 5'!A576","v":0},{"$f":"'Рис. 4 и 5'!B576","v":0},{"$f":"'Рис. 4 и 5'!C576","v":0},{"$f":"'Рис. 4 и 5'!D576","v":0},{"$f":"'Рис. 4 и 5'!U576","v":1}]
[{"$f":"'Рис. 4 и 5'!A577","v":1},{"$f":"'Рис. 4 и 5'!B577","v":0},{"$f":"'Рис. 4 и 5'!C577","v":0},{"$f":"'Рис. 4 и 5'!D577","v":0},{"$f":"'Рис. 4 и 5'!U577","v":1}]
[{"$f":"'Рис. 4 и 5'!A578","v":0},{"$f":"'Рис. 4 и 5'!B578","v":0},{"$f":"'Рис. 4 и 5'!C578","v":0},{"$f":"'Рис. 4 и 5'!D578","v":1},{"$f":"'Рис. 4 и 5'!U578","v":1}]
[{"$f":"'Рис. 4 и 5'!A579","v":0},{"$f":"'Рис. 4 и 5'!B579","v":0},{"$f":"'Рис. 4 и 5'!C579","v":0},{"$f":"'Рис. 4 и 5'!D579","v":1},{"$f":"'Рис. 4 и 5'!U579","v":1}]
[{"$f":"'Рис. 4 и 5'!A580","v":0},{"$f":"'Рис. 4 и 5'!B580","v":0},{"$f":"'Рис. 4 и 5'!C580","v":0},{"$f":"'Рис. 4 и 5'!D580","v":0},{"$f":"'Рис. 4 и 5'!U580","v":0}]
[{"$f":"'Рис. 4 и 5'!A581","v":0},{"$f":"'Рис. 4 и 5'!B581","v":0},{"$f":"'Рис. 4 и 5'!C581","v":0},{"$f":"'Рис. 4 и 5'!D581","v":0},{"$f":"'Рис. 4 и 5'!U581","v":1}]
[{"$f":"'Рис. 4 и 5'!A582","v":1},{"$f":"'Рис. 4 и 5'!B582","v":0},{"$f":"'Рис. 4 и 5'!C582","v":1},{"$f":"'Рис. 4 и 5'!D582","v":1},{"$f":"'Рис. 4 и 5'!U582","v":1}]
[{"$f":"'Рис. 4 и 5'!A583","v":0},{"$f":"'Рис. 4 и 5'!B583","v":0},{"$f":"'Рис. 4 и 5'!C583","v":0},{"$f":"'Рис. 4 и 5'!D583","v":1},{"$f":"'Рис. 4 и 5'!U583","v":0}]
[{"$f":"'Рис. 4 и 5'!A584","v":0},{"$f":"'Рис. 4 и 5'!B584","v":0},{"$f":"'Рис. 4 и 5'!C584","v":0},{"$f":"'Рис. 4 и 5'!D584","v":0},{"$f":"'Рис. 4 и 5'!U584","v":1}]
[{"$f":"'Рис. 4 и 5'!A585","v":0},{"$f":"'Рис. 4 и 5'!B585","v":0},{"$f":"'Рис. 4 и 5'!C585","v":0},{"$f":"'Рис. 4 и 5'!D585","v":0},{"$f":"'Рис. 4 и 5'!U585","v":0}]
[{"$f":"'Рис. 4 и 5'!A586","v":1},{"$f":"'Рис. 4 и 5'!B586","v":0},{"$f":"'Рис. 4 и 5'!C586","v":0},{"$f":"'Рис. 4 и 5'!D586","v":1},{"$f":"'Рис. 4 и 5'!U586","v":1}]
[{"$f":"'Рис. 4 и 5'!A587","v":0},{"$f":"'Рис. 4 и 5'!B587","v":0},{"$f":"'Рис. 4 и 5'!C587","v":0},{"$f":"'Рис. 4 и 5'!D587","v":0},{"$f":"'Рис. 4 и 5'!U587","v":1}]
[{"$f":"'Рис. 4 и 5'!A588","v":0},{"$f":"'Рис. 4 и 5'!B588","v":0},{"$f":"'Рис. 4 и 5'!C588","v":0},{"$f":"'Рис. 4 и 5'!D588","v":0},{"$f":"'Рис. 4 и 5'!U588","v":1}]
[{"$f":"'Рис. 4 и 5'!A589","v":0},{"$f":"'Рис. 4 и 5'!B589","v":0},{"$f":"'Рис. 4 и 5'!C589","v":0},{"$f":"'Рис. 4 и 5'!D589","v":1},{"$f":"'Рис. 4 и 5'!U589","v":0}]
[{"$f":"'Рис. 4 и 5'!A590","v":1},{"$f":"'Рис. 4 и 5'!B590","v":0},{"$f":"'Рис. 4 и 5'!C590","v":0},{"$f":"'Рис. 4 и 5'!D590","v":0},{"$f":"'Рис. 4 и 5'!U590","v":1}]
[{"$f":"'Рис. 4 и 5'!A591","v":0},{"$f":"'Рис. 4 и 5'!B591","v":0},{"$f":"'Рис. 4 и 5'!C591","v":0},{"$f":"'Рис. 4 и 5'!D591","v":0},{"$f":"'Рис. 4 и 5'!U591","v":0}]
[{"$f":"'Рис. 4 и 5'!A592","v":0},{"$f":"'Рис. 4 и 5'!B592","v":0},{"$f":"'Рис. 4 и 5'!C592","v":0},{"$f":"'Рис. 4 и 5'!D592","v":1},{"$f":"'Рис. 4 и 5'!U592","v":0}]
[{"$f":"'Рис. 4 и 5'!A593","v":0},{"$f":"'Рис. 4 и 5'!B593","v":0},{"$f":"'Рис. 4 и 5'!C593","v":0},{"$f":"'Рис. 4 и 5'!D593","v":1},{"$f":"'Рис. 4 и 5'!U593","v":0}]
[{"$f":"'Рис. 4 и 5'!A594","v":0},{"$f":"'Рис. 4 и 5'!B594","v":0},{"$f":"'Рис. 4 и 5'!C594","v":0},{"$f":"'Рис. 4 и 5'!D594","v":0},{"$f":"'Рис. 4 и 5'!U594","v":1}]
[{"$f":"'Рис. 4 и 5'!A595","v":0},{"$f":"'Рис. 4 и 5'!B595","v":1},{"$f":"'Рис. 4 и 5'!C595","v":0},{"$f":"'Рис. 4 и 5'!D595","v":1},{"$f":"'Рис. 4 и 5'!U595","v":0}]
[{"$f":"'Рис. 4 и 5'!A596","v":0},{"$f":"'Рис. 4 и 5'!B596","v":0},{"$f":"'Рис. 4 и 5'!C596","v":1},{"$f":"'Рис. 4 и 5'!D596","v":1},{"$f":"'Рис. 4 и 5'!U596","v":0}]
[{"$f":"'Рис. 4 и 5'!A597","v":0},{"$f":"'Рис. 4 и 5'!B597","v":0},{"$f":"'Рис. 4 и 5'!C597","v":0},{"$f":"'Рис. 4 и 5'!D597","v":1},{"$f":"'Рис. 4 и 5'!U597","v":0}]
[{"$f":"'Рис. 4 и 5'!A598","v":1},{"$f":"'Рис. 4 и 5'!B598","v":0},{"$f":"'Рис. 4 и 5'!C598","v":1},{"$f":"'Рис. 4 и 5'!D598","v":1},{"$f":"'Рис. 4 и 5'!U598","v":1}]
[{"$f":"'Рис. 4 и 5'!A599","v":0},{"$f":"'Рис. 4 и 5'!B599","v":0},{"$f":"'Рис. 4 и 5'!C599","v":0},{"$f":"'Рис. 4 и 5'!D599","v":0},{"$f":"'Рис. 4 и 5'!U599","v":0}]
[{"$f":"'Рис. 4 и 5'!A600","v":0},{"$f":"'Рис. 4 и 5'!B600","v":0},{"$f":"'Рис. 4 и 5'!C600","v":0},{"$f":"'Рис. 4 и 5'!D600","v":1},{"$f":"'Рис. 4 и 5'!U600","v":0}]
[{"$f":"'Рис. 4 и 5'!A601","v":0},{"$f":"'Рис. 4 и 5'!B601","v":1},{"$f":"'Рис. 4 и 5'!C601","v":0},{"$f":"'Рис. 4 и 5'!D601","v":0},{"$f":"'Рис. 4 и 5'!U601","v":0}]
[{"$f":"'Рис. 4 и 5'!A602","v":0},{"$f":"'Рис. 4 и 5'!B602","v":1},{"$f":"'Рис. 4 и 5'!C602","v":0},{"$f":"'Рис. 4 и 5'!D602","v":1},{"$f":"'Рис. 4 и 5'!U602","v":1}]
[{"$f":"'Рис. 4 и 5'!A603","v":0},{"$f":"'Рис. 4 и 5'!B603","v":0},{"$f":"'Рис. 4 и 5'!C603","v":0},{"$f":"'Рис. 4 и 5'!D603","v":0},{"$f":"'Рис. 4 и 5'!U603","v":1}]
[{"$f":"'Рис. 4 и 5'!A604","v":0},{"$f":"'Рис. 4 и 5'!B604","v":1},{"$f":"'Рис. 4 и 5'!C604","v":0},{"$f":"'Рис. 4 и 5'!D604","v":1},{"$f":"'Рис. 4 и 5'!U604","v":0}]
[{"$f":"'Рис. 4 и 5'!A605","v":0},{"$f":"'Рис. 4 и 5'!B605","v":0},{"$f":"'Рис. 4 и 5'!C605","v":0},{"$f":"'Рис. 4 и 5'!D605","v":1},{"$f":"'Рис. 4 и 5'!U605","v":1}]
[{"$f":"'Рис. 4 и 5'!A606","v":0},{"$f":"'Рис. 4 и 5'!B606","v":0},{"$f":"'Рис. 4 и 5'!C606","v":0},{"$f":"'Рис. 4 и 5'!D606","v":1},{"$f":"'Рис. 4 и 5'!U606","v":1}]
[{"$f":"'Рис. 4 и 5'!A607","v":0},{"$f":"'Рис. 4 и 5'!B607","v":1},{"$f":"'Рис. 4 и 5'!C607","v":0},{"$f":"'Рис. 4 и 5'!D607","v":1},{"$f":"'Рис. 4 и 5'!U607","v":0}]
[{"$f":"'Рис. 4 и 5'!A608","v":0},{"$f":"'Рис. 4 и 5'!B608","v":0},{"$f":"'Рис. 4 и 5'!C608","v":1},{"$f":"'Рис. 4 и 5'!D608","v":1},{"$f":"'Рис. 4 и 5'!U608","v":0}]
[{"$f":"'Рис. 4 и 5'!A609","v":0},{"$f":"'Рис. 4 и 5'!B609","v":0},{"$f":"'Рис. 4 и 5'!C609","v":0},{"$f":"'Рис. 4 и 5'!D609","v":1},{"$f":"'Рис. 4 и 5'!U609","v":1}]
[{"$f":"'Рис. 4 и 5'!A610","v":0},{"$f":"'Рис. 4 и 5'!B610","v":0},{"$f":"'Рис. 4 и 5'!C610","v":0},{"$f":"'Рис. 4 и 5'!D610","v":1},{"$f":"'Рис. 4 и 5'!U610","v":0}]
[{"$f":"'Рис. 4 и 5'!A611","v":0},{"$f":"'Рис. 4 и 5'!B611","v":0},{"$f":"'Рис. 4 и 5'!C611","v":0},{"$f":"'Рис. 4 и 5'!D611","v":1},{"$f":"'Рис. 4 и 5'!U611","v":0}]
[{"$f":"'Рис. 4 и 5'!A612","v":0},{"$f":"'Рис. 4 и 5'!B612","v":0},{"$f":"'Рис. 4 и 5'!C612","v":0},{"$f":"'Рис. 4 и 5'!D612","v":0},{"$f":"'Рис. 4 и 5'!U612","v":1}]
[{"$f":"'Рис. 4 и 5'!A613","v":0},{"$f":"'Рис. 4 и 5'!B613","v":0},{"$f":"'Рис. 4 и 5'!C613","v":0},{"$f":"'Рис. 4 и 5'!D613","v":0},{"$f":"'Рис. 4 и 5'!U613","v":0}]
[{"$f":"'Рис. 4 и 5'!A614","v":0},{"$f":"'Рис. 4 и 5'!B614","v":0},{"$f":"'Рис. 4 и 5'!C614","v":0},{"$f":"'Рис. 4 и 5'!D614","v":0},{"$f":"'Рис. 4 и 5'!U614","v":1}]
[{"$f":"'Рис. 4 и 5'!A615","v":0},{"$f":"'Рис. 4 и 5'!B615","v":0},{"$f":"'Рис. 4 и 5'!C615","v":0},{"$f":"'Рис. 4 и 5'!D615","v":1},{"$f":"'Рис. 4 и 5'!U615","v":1}]
[{"$f":"'Рис. 4 и 5'!A616","v":0},{"$f":"'Рис. 4 и 5'!B616","v":0},{"$f":"'Рис. 4 и 5'!C616","v":0},{"$f":"'Рис. 4 и 5'!D616","v":0},{"$f":"'Рис. 4 и 5'!U616","v":1}]
[{"$f":"'Рис. 4 и 5'!A617","v":0},{"$f":"'Рис. 4 и 5'!B617","v":1},{"$f":"'Рис. 4 и 5'!C617","v":0},{"$f":"'Рис. 4 и 5'!D617","v":0},{"$f":"'Рис. 4 и 5'!U617","v":0}]
[{"$f":"'Рис. 4 и 5'!A618","v":0},{"$f":"'Рис. 4 и 5'!B618","v":0},{"$f":"'Рис. 4 и 5'!C618","v":1},{"$f":"'Рис. 4 и 5'!D618","v":0},{"$f":"'Рис. 4 и 5'!U618","v":1}]
[{"$f":"'Рис. 4 и 5'!A619","v":0},{"$f":"'Рис. 4 и 5'!B619","v":0},{"$f":"'Рис. 4 и 5'!C619","v":0},{"$f":"'Рис. 4 и 5'!D619","v":0},{"$f":"'Рис. 4 и 5'!U619","v":1}]
[{"$f":"'Рис. 4 и 5'!A620","v":0},{"$f":"'Рис. 4 и 5'!B620","v":1},{"$f":"'Рис. 4 и 5'!C620","v":0},{"$f":"'Рис. 4 и 5'!D620","v":0},{"$f":"'Рис. 4 и 5'!U620","v":0}]
[{"$f":"'Рис. 4 и 5'!A621","v":1},{"$f":"'Рис. 4 и 5'!B621","v":1},{"$f":"'Рис. 4 и 5'!C621","v":0},{"$f":"'Рис. 4 и 5'!D621","v":0},{"$f":"'Рис. 4 и 5'!U621","v":1}]
[{"$f":"'Рис. 4 и 5'!A622","v":0},{"$f":"'Рис. 4 и 5'!B622","v":0},{"$f":"'Рис. 4 и 5'!C622","v":0},{"$f":"'Рис. 4 и 5'!D622","v":1},{"$f":"'Рис. 4 и 5'!U622","v":1}]
[{"$f":"'Рис. 4 и 5'!A623","v":0},{"$f":"'Рис. 4 и 5'!B623","v":0},{"$f":"'Рис. 4 и 5'!C623","v":1},{"$f":"'Рис. 4 и 5'!D623","v":0},{"$f":"'Рис. 4 и 5'!U623","v":1}]
[{"$f":"'Рис. 4 и 5'!A624","v":0},{"$f":"'Рис. 4 и 5'!B624","v":0},{"$f":"'Рис. 4 и 5'!C624","v":0},{"$f":"'Рис. 4 и 5'!D624","v":0},{"$f":"'Рис. 4 и 5'!U624","v":1}]
[{"$f":"'Рис. 4 и 5'!A625","v":0},{"$f":"'Рис. 4 и 5'!B625","v":0},{"$f":"'Рис. 4 и 5'!C625","v":0},{"$f":"'Рис. 4 и 5'!D625","v":1},{"$f":"'Рис. 4 и 5'!U625","v":1}]
[{"$f":"'Рис. 4 и 5'!A626","v":0},{"$f":"'Рис. 4 и 5'!B626","v":0},{"$f":"'Рис. 4 и 5'!C626","v":0},{"$f":"'Рис. 4 и 5'!D626","v":0},{"$f":"'Рис. 4 и 5'!U626","v":1}]
[{"$f":"'Рис. 4 и 5'!A627","v":0},{"$f":"'Рис. 4 и 5'!B627","v":1},{"$f":"'Рис. 4 и 5'!C627","v":0},{"$f":"'Рис. 4 и 5'!D627","v":1},{"$f":"'Рис. 4 и 5'!U627","v":0}]
[{"$f":"'Рис. 4 и 5'!A628","v":0},{"$f":"'Рис. 4 и 5'!B628","v":0},{"$f":"'Рис. 4 и 5'!C628","v":0},{"$f":"'Рис. 4 и 5'!D628","v":0},{"$f":"'Рис. 4 и 5'!U628","v":0}]
[{"$f":"'Рис. 4 и 5'!A629","v":1},{"$f":"'Рис. 4 и 5'!B629","v":0},{"$f":"'Рис. 4 и 5'!C629","v":0},{"$f":"'Рис. 4 и 5'!D629","v":1},{"$f":"'Рис. 4 и 5'!U629","v":1}]
[{"$f":"'Рис. 4 и 5'!A630","v":0},{"$f":"'Рис. 4 и 5'!B630","v":0},{"$f":"'Рис. 4 и 5'!C630","v":0},{"$f":"'Рис. 4 и 5'!D630","v":1},{"$f":"'Рис. 4 и 5'!U630","v":1}]
[{"$f":"'Рис. 4 и 5'!A631","v":0},{"$f":"'Рис. 4 и 5'!B631","v":0},{"$f":"'Рис. 4 и 5'!C631","v":0},{"$f":"'Рис. 4 и 5'!D631","v":1},{"$f":"'Рис. 4 и 5'!U631","v":1}]
[{"$f":"'Рис. 4 и 5'!A632","v":0},{"$f":"'Рис. 4 и 5'!B632","v":0},{"$f":"'Рис. 4 и 5'!C632","v":1},{"$f":"'Рис. 4 и 5'!D632","v":0},{"$f":"'Рис. 4 и 5'!U632","v":1}]
[{"$f":"'Рис. 4 и 5'!A633","v":0},{"$f":"'Рис. 4 и 5'!B633","v":0},{"$f":"'Рис. 4 и 5'!C633","v":0},{"$f":"'Рис. 4 и 5'!D633","v":0},{"$f":"'Рис. 4 и 5'!U633","v":1}]
[{"$f":"'Рис. 4 и 5'!A634","v":0},{"$f":"'Рис. 4 и 5'!B634","v":0},{"$f":"'Рис. 4 и 5'!C634","v":0},{"$f":"'Рис. 4 и 5'!D634","v":0},{"$f":"'Рис. 4 и 5'!U634","v":0}]
[{"$f":"'Рис. 4 и 5'!A635","v":0},{"$f":"'Рис. 4 и 5'!B635","v":0},{"$f":"'Рис. 4 и 5'!C635","v":0},{"$f":"'Рис. 4 и 5'!D635","v":0},{"$f":"'Рис. 4 и 5'!U635","v":1}]
[{"$f":"'Рис. 4 и 5'!A636","v":0},{"$f":"'Рис. 4 и 5'!B636","v":0},{"$f":"'Рис. 4 и 5'!C636","v":0},{"$f":"'Рис. 4 и 5'!D636","v":1},{"$f":"'Рис. 4 и 5'!U636","v":0}]
[{"$f":"'Рис. 4 и 5'!A637","v":1},{"$f":"'Рис. 4 и 5'!B637","v":0},{"$f":"'Рис. 4 и 5'!C637","v":0},{"$f":"'Рис. 4 и 5'!D637","v":1},{"$f":"'Рис. 4 и 5'!U637","v":1}]
[{"$f":"'Рис. 4 и 5'!A638","v":0},{"$f":"'Рис. 4 и 5'!B638","v":0},{"$f":"'Рис. 4 и 5'!C638","v":0},{"$f":"'Рис. 4 и 5'!D638","v":0},{"$f":"'Рис. 4 и 5'!U638","v":0}]
[{"$f":"'Рис. 4 и 5'!A639","v":0},{"$f":"'Рис. 4 и 5'!B639","v":0},{"$f":"'Рис. 4 и 5'!C639","v":0},{"$f":"'Рис. 4 и 5'!D639","v":0},{"$f":"'Рис. 4 и 5'!U639","v":1}]
[{"$f":"'Рис. 4 и 5'!A640","v":0},{"$f":"'Рис. 4 и 5'!B640","v":0},{"$f":"'Рис. 4 и 5'!C640","v":0},{"$f":"'Рис. 4 и 5'!D640","v":1},{"$f":"'Рис. 4 и 5'!U640","v":0}]
[{"$f":"'Рис. 4 и 5'!A641","v":0},{"$f":"'Рис. 4 и 5'!B641","v":0},{"$f":"'Рис. 4 и 5'!C641","v":0},{"$f":"'Рис. 4 и 5'!D641","v":1},{"$f":"'Рис. 4 и 5'!U641","v":1}]
[{"$f":"'Рис. 4 и 5'!A642","v":0},{"$f":"'Рис. 4 и 5'!B642","v":0},{"$f":"'Рис. 4 и 5'!C642","v":0},{"$f":"'Рис. 4 и 5'!D642","v":0},{"$f":"'Рис. 4 и 5'!U642","v":0}]
[{"$f":"'Рис. 4 и 5'!A643","v":0},{"$f":"'Рис. 4 и 5'!B643","v":0},{"$f":"'Рис. 4 и 5'!C643","v":0},{"$f":"'Рис. 4 и 5'!D643","v":0},{"$f":"'Рис. 4 и 5'!U643","v":1}]
[{"$f":"'Рис. 4 и 5'!A644","v":0},{"$f":"'Рис. 4 и 5'!B644","v":0},{"$f":"'Рис. 4 и 5'!C644","v":0},{"$f":"'Рис. 4 и 5'!D644","v":0},{"$f":"'Рис. 4 и 5'!U644","v":1}]
[{"$f":"'Рис. 4 и 5'!A645","v":0},{"$f":"'Рис. 4 и 5'!B645","v":0},{"$f":"'Рис. 4 и 5'!C645","v":1},{"$f":"'Рис. 4 и 5'!D645","v":0},{"$f":"'Рис. 4 и 5'!U645","v":1}]
[{"$f":"'Рис. 4 и 5'!A646","v":0},{"$f":"'Рис. 4 и 5'!B646","v":0},{"$f":"'Рис. 4 и 5'!C646","v":0},{"$f":"'Рис. 4 и 5'!D646","v":1},{"$f":"'Рис. 4 и 5'!U646","v":0}]
[{"$f":"'Рис. 4 и 5'!A647","v":1},{"$f":"'Рис. 4 и 5'!B647","v":0},{"$f":"'Рис. 4 и 5'!C647","v":0},{"$f":"'Рис. 4 и 5'!D647","v":0},{"$f":"'Рис. 4 и 5'!U647","v":1}]
[{"$f":"'Рис. 4 и 5'!A648","v":0},{"$f":"'Рис. 4 и 5'!B648","v":0},{"$f":"'Рис. 4 и 5'!C648","v":0},{"$f":"'Рис. 4 и 5'!D648","v":1},{"$f":"'Рис. 4 и 5'!U648","v":0}]
[{"$f":"'Рис. 4 и 5'!A649","v":0},{"$f":"'Рис. 4 и 5'!B649","v":1},{"$f":"'Рис. 4 и 5'!C649","v":0},{"$f":"'Рис. 4 и 5'!D649","v":0},{"$f":"'Рис. 4 и 5'!U649","v":1}]
[{"$f":"'Рис. 4 и 5'!A650","v":0},{"$f":"'Рис. 4 и 5'!B650","v":0},{"$f":"'Рис. 4 и 5'!C650","v":0},{"$f":"'Рис. 4 и 5'!D650","v":0},{"$f":"'Рис. 4 и 5'!U650","v":0}]
[{"$f":"'Рис. 4 и 5'!A651","v":0},{"$f":"'Рис. 4 и 5'!B651","v":0},{"$f":"'Рис. 4 и 5'!C651","v":0},{"$f":"'Рис. 4 и 5'!D651","v":0},{"$f":"'Рис. 4 и 5'!U651","v":1}]
[{"$f":"'Рис. 4 и 5'!A652","v":0},{"$f":"'Рис. 4 и 5'!B652","v":0},{"$f":"'Рис. 4 и 5'!C652","v":0},{"$f":"'Рис. 4 и 5'!D652","v":0},{"$f":"'Рис. 4 и 5'!U652","v":0}]
[{"$f":"'Рис. 4 и 5'!A653","v":0},{"$f":"'Рис. 4 и 5'!B653","v":0},{"$f":"'Рис. 4 и 5'!C653","v":0},{"$f":"'Рис. 4 и 5'!D653","v":0},{"$f":"'Рис. 4 и 5'!U653","v":0}]
[{"$f":"'Рис. 4 и 5'!A654","v":0},{"$f":"'Рис. 4 и 5'!B654","v":1},{"$f":"'Рис. 4 и 5'!C654","v":0},{"$f":"'Рис. 4 и 5'!D654","v":0},{"$f":"'Рис. 4 и 5'!U654","v":0}]
[{"$f":"'Рис. 4 и 5'!A655","v":0},{"$f":"'Рис. 4 и 5'!B655","v":0},{"$f":"'Рис. 4 и 5'!C655","v":0},{"$f":"'Рис. 4 и 5'!D655","v":1},{"$f":"'Рис. 4 и 5'!U655","v":1}]
[{"$f":"'Рис. 4 и 5'!A656","v":0},{"$f":"'Рис. 4 и 5'!B656","v":0},{"$f":"'Рис. 4 и 5'!C656","v":0},{"$f":"'Рис. 4 и 5'!D656","v":1},{"$f":"'Рис. 4 и 5'!U656","v":0}]
[{"$f":"'Рис. 4 и 5'!A657","v":0},{"$f":"'Рис. 4 и 5'!B657","v":0},{"$f":"'Рис. 4 и 5'!C657","v":0},{"$f":"'Рис. 4 и 5'!D657","v":0},{"$f":"'Рис. 4 и 5'!U657","v":0}]
[{"$f":"'Рис. 4 и 5'!A658","v":0},{"$f":"'Рис. 4 и 5'!B658","v":0},{"$f":"'Рис. 4 и 5'!C658","v":0},{"$f":"'Рис. 4 и 5'!D658","v":1},{"$f":"'Рис. 4 и 5'!U658","v":1}]
[{"$f":"'Рис. 4 и 5'!A659","v":0},{"$f":"'Рис. 4 и 5'!B659","v":0},{"$f":"'Рис. 4 и 5'!C659","v":0},{"$f":"'Рис. 4 и 5'!D659","v":0},{"$f":"'Рис. 4 и 5'!U659","v":0}]
[{"$f":"'Рис. 4 и 5'!A660","v":0},{"$f":"'Рис. 4 и 5'!B660","v":0},{"$f":"'Рис. 4 и 5'!C660","v":0},{"$f":"'Рис. 4 и 5'!D660","v":0},{"$f":"'Рис. 4 и 5'!U660","v":0}]
[{"$f":"'Рис. 4 и 5'!A661","v":0},{"$f":"'Рис. 4 и 5'!B661","v":1},{"$f":"'Рис. 4 и 5'!C661","v":0},{"$f":"'Рис. 4 и 5'!D661","v":1},{"$f":"'Рис. 4 и 5'!U661","v":0}]
[{"$f":"'Рис. 4 и 5'!A662","v":0},{"$f":"'Рис. 4 и 5'!B662","v":0},{"$f":"'Рис. 4 и 5'!C662","v":1},{"$f":"'Рис. 4 и 5'!D662","v":0},{"$f":"'Рис. 4 и 5'!U662","v":1}]
[{"$f":"'Рис. 4 и 5'!A663","v":0},{"$f":"'Рис. 4 и 5'!B663","v":0},{"$f":"'Рис. 4 и 5'!C663","v":0},{"$f":"'Рис. 4 и 5'!D663","v":0},{"$f":"'Рис. 4 и 5'!U663","v":1}]
[{"$f":"'Рис. 4 и 5'!A664","v":0},{"$f":"'Рис. 4 и 5'!B664","v":0},{"$f":"'Рис. 4 и 5'!C664","v":0},{"$f":"'Рис. 4 и 5'!D664","v":0},{"$f":"'Рис. 4 и 5'!U664","v":1}]
[{"$f":"'Рис. 4 и 5'!A665","v":0},{"$f":"'Рис. 4 и 5'!B665","v":0},{"$f":"'Рис. 4 и 5'!C665","v":0},{"$f":"'Рис. 4 и 5'!D665","v":1},{"$f":"'Рис. 4 и 5'!U665","v":0}]
[{"$f":"'Рис. 4 и 5'!A666","v":0},{"$f":"'Рис. 4 и 5'!B666","v":0},{"$f":"'Рис. 4 и 5'!C666","v":0},{"$f":"'Рис. 4 и 5'!D666","v":0},{"$f":"'Рис. 4 и 5'!U666","v":0}]
[{"$f":"'Рис. 4 и 5'!A667","v":0},{"$f":"'Рис. 4 и 5'!B667","v":0},{"$f":"'Рис. 4 и 5'!C667","v":0},{"$f":"'Рис. 4 и 5'!D667","v":0},{"$f":"'Рис. 4 и 5'!U667","v":0}]
[{"$f":"'Рис. 4 и 5'!A668","v":0},{"$f":"'Рис. 4 и 5'!B668","v":0},{"$f":"'Рис. 4 и 5'!C668","v":0},{"$f":"'Рис. 4 и 5'!D668","v":0},{"$f":"'Рис. 4 и 5'!U668","v":1}]

{"sheet":"Рис. 13 и 14","index":3,"n_rows":1003,"n_cols":222,"rows_kept":281,"cut":true,"hidden":false,"merged":[],"bounds":{"rows_first":125,"rows_last":31,"rows_between":125,"halvings":4}}
[null,null,null,null,null,null,null,null,null,null,null,null,null,null,null,null,null,null,null,null,null,"Winner:",6,8,7,16,8,8,6,5,5,5,5,5,16,7,18,7,7,18,15,7,5,7,5,18,8,7,4,18,17,7,18,7,5,6,18,7,6,8,18,8,7,5,17,7,8,18,7,17,8,7,7,18,8,13,7,7,16,18,0,7,13,5,5,18,18,13,18,16,18,7,14,17,7,7,15,18,7,7,5,8,16,7,17,8,7,15,7,8,5,14,16,16,12,4,7,17,7,16,5,7,18,18,6,17,5,5,18,7,5,7,4,8,15,17,4,8,5,5,18,18,5,18,8,16,6,6,7,7,7,6,8,7,6,7,5,17,18,7,5,5,6,16,18,16,18,7,18,17,5,16,8,4,7,8,18,18,5,7,4,5,5,5,11,8,5,7,8,7,7,8,6,5,4,8,5,5,8,4,4,16,8,8,13,8,18,6,7,13,8,7,14,17,7,17,5,16,8,8,6,7]
[null,null,null,null,null,null,null,null,null,null,null,null,null,null,null,null,null,null,null,null,null,"Pregnant is:",0,1,1,1,1,1,0,0,0,0,0,0,1,1,1,1,1,1,1,1,0,1,0,1,1,1,1,1,0,1,1,1,0,0,1,1,0,1,1,1,1,0,0,1,1,1,1,0,1,1,1,1,1,1,1,1,1,1,0,1,1,0,0,1,1,1,1,1,1,1,0,0,1,1,1,1,1,1,0,1,1,1,0,1,1,1,1,1,0,0,1,1,1,1,1,0,1,1,0,1,1,1,0,0,0,0,1,1,0,1,1,1,1,0,1,1,0,0,1,1,0,1,1,1,0,0,1,1,1,0,1,1,0,1,0,0,1,1,0,0,0,1,1,1,1,1,1,0,0,1,1,1,1,1,1,1,0,1,1,0,0,0,1,1,0,1,1,1,1,1,0,0,1,1,0,0,1,1,1,1,1,1,1,1,1,0,1,1,1,1,0,0,1,0,0,1,1,1,0,1]
["Male","Female","Home","Apt","Pregnancy Test","Birth Control","Feminine Hygiene","Folic Acid","Prenatal Vitamins","Prenatal Yoga","Body Pillow","Ginger Ale","Sea Bands","Stopped buying ciggies","Cigarettes","Smoking Cessation","Stopped buying wine","Wine","Maternity Clothes",null,"PREGNANT","Probability"]
[0,0,0,1,0,0,0,0,0,0,0,0,1,0,0,0,1,1,0,null,1,{"$f":"AVERAGE(W4:HN4)","v":0.32500000000000001},{"$f":"IF(OFFSET($A4,0,W$1)=W$2,1,0)","v":1},{"$f":"IF(OFFSET($A4,0,X$1)=X$2,1,0)","v":0},0,1,0,0,1,1,1,1,1,1,1,0,0,0,0,0,0,0,1,0,1,0,0,0,0,0,0,0,0,0,1,1,0,0,1,0,0,0,0,1,0,0,0,0,0,0,0,0,0,0,0,0,0,0,1,0,1,0,0,1,1,0,0,{"$f":"IF(OFFSET($A4,0,CJ$1)=CJ$2,1,0)","v":0},0,1,0,0,1,0,0,0,0,0,0,0,1,0,1,0,0,0,0,0,0,0,1,1,1,1,1,0,0,0,0,1,1,0,0,0,1,0,1,1,0,0,1,0,0,0,0,0,0,0,1,1,0,0,1,0,0,1,1,1,0,0,0,{"$f":"IF(OFFSET($A4,0,EV$1)=EV$2,1,0)","v":1},0,0,1,0,1,0,0,0,1,1,1,1,0,1,0,0,0,0,1,1,0,0,0,0,0,0,1,0,0,1,1,1,0,0,1,0,0,0,0,0,1,1,0,0,1,1,0,0,0,1,0,0,0,0,0,1,0,0,0,0,1,0,0,{"$f":"IF(OFFSET($A4,0,HH$1)=HH$2,1,0)","v":0},1,1,0,0,1,0]
[0,0,1,0,0,0,0,0,0,0,0,0,0,0,0,0,0,0,0,null,1,{"$f":"AVERAGE(W5:HN5)","v":0.31},{"$f":"IF(OFFSET($A5,0,W$1)=W$2,1,0)","v":1},0,0,0,0,0,1,1,1,1,1,1,0,0,0,0,0,0,0,0,1,0,1,0,0,0,0,0,1,0,0,0,1,1,0,0,1,0,0,0,0,1,1,0,0,0,0,1,0,0,0,0,0,0,0,0,0,0,1,0,0,1,1,0,0,0,0,0,0,0,1,1,0,0,0,0,0,0,1,0,0,0,1,0,0,0,0,0,1,1,0,0,0,0,0,1,0,0,1,0,0,0,1,1,1,1,0,0,1,0,0,0,0,1,0,0,1,1,0,0,1,0,0,0,1,1,0,0,0,1,0,0,1,0,1,1,0,0,1,1,1,0,0,0,0,0,0,1,1,0,0,0,0,0,0,0,1,0,0,1,1,1,0,0,1,0,0,0,0,0,1,1,0,0,1,1,0,0,0,0,0,0,0,0,0,1,0,0,0,0,1,1,0,1,1,0,0,0,1,0]
[1,0,1,0,0,0,0,0,0,0,0,0,0,1,0,0,0,0,0,null,1,0.33,1,0,0,0,0,0,1,1,1,1,1,1,0,0,0,0,0,0,0,0,1,0,1,0,0,0,0,0,1,0,0,0,1,1,0,0,1,0,0,0,0,1,1,0,0,0,0,1,0,0,0,0,0,1,0,0,0,0,0,0,1,1,1,0,0,1,0,0,0,0,1,1,0,0,0,0,0,0,1,0,0,0,1,0,0,0,0,0,1,1,0,0,0,0,0,1,0,0,1,0,0,0,1,1,1,1,0,0,1,0,0,0,0,1,0,0,1,1,0,0,1,0,0,0,1,1,0,0,0,1,0,0,1,0,1,1,0,0,1,1,1,0,0,0,0,0,0,1,1,0,0,0,0,0,0,0,1,0,0,1,1,1,0,0,1,0,0,0,0,0,1,1,0,0,1,1,0,0,0,0,0,0,1,0,0,1,0,1,0,0,1,1,0,1,1,0,0,0,1,0]
[1,0,1,0,0,0,0,0,0,0,0,0,0,0,0,0,1,0,0,null,1,0.375,1,0,0,1,0,0,1,1,1,1,1,1,1,0,0,0,0,0,0,0,1,0,1,0,0,0,0,0,1,0,0,0,1,1,0,0,1,0,0,0,0,1,1,0,0,0,0,1,0,0,0,0,0,0,0,0,1,0,0,0,0,1,1,0,{"$f":"IF(OFFSET($A7,0,CI$1)=CI$2,1,0)","v":0},0,0,1,0,0,1,1,0,0,0,0,0,0,1,0,1,0,1,0,0,0,0,0,1,1,1,1,0,0,0,1,0,1,1,0,0,0,1,1,1,1,0,0,1,0,0,0,0,1,0,0,1,1,0,0,1,0,0,1,1,1,0,0,{"$f":"IF(OFFSET($A7,0,EU$1)=EU$2,1,0)","v":0},1,0,0,1,0,1,1,0,0,1,1,1,1,0,1,0,0,0,1,1,1,0,0,0,0,0,0,1,0,0,1,1,1,0,0,1,0,0,0,0,0,1,1,0,0,1,1,0,0,0,1,0,0,0,0,0,1,0,0,0,0,1,1,{"$f":"IF(OFFSET($A7,0,HG$1)=HG$2,1,0)","v":0},1,1,1,0,0,1,0]
[1,0,0,1,0,0,0,0,0,0,0,0,0,0,0,0,0,0,0,null,1,0.30499999999999999,1,0,0,0,0,0,1,1,1,1,1,1,0,0,0,0,0,0,0,0,1,0,1,0,0,0,0,0,1,0,0,0,1,1,0,0,1,0,0,0,0,1,1,0,0,0,0,1,0,0,0,0,0,0,0,0,0,0,0,0,0,1,1,0,0,0,0,0,0,0,1,1,0,0,0,0,0,0,1,0,0,0,1,0,0,0,0,0,1,1,0,0,0,0,0,1,0,0,1,0,0,0,1,1,1,1,0,0,1,0,0,0,0,1,0,0,1,1,0,0,1,0,0,0,1,1,0,0,0,1,0,0,1,0,1,1,0,0,1,1,1,0,0,0,0,0,0,1,1,0,0,0,0,0,0,0,1,0,0,1,1,1,0,0,1,0,0,0,0,0,1,1,0,0,1,1,0,0,0,0,0,0,0,0,0,1,0,0,0,0,1,1,0,1,1,0,0,0,1,0]
[1,0,1,0,0,0,0,1,0,0,0,1,0,0,0,0,1,0,0,null,1,0.61499999999999999,1,0,1,1,0,0,1,1,1,1,1,1,1,1,0,1,1,0,0,1,1,1,1,0,0,1,0,0,1,1,0,1,1,1,0,1,1,0,0,0,1,1,1,1,0,0,1,1,0,1,1,0,0,0,1,1,1,0,0,1,0,1,1,0,0,0,0,1,0,1,1,1,1,1,0,0,1,1,1,0,1,1,1,0,1,0,1,0,1,1,1,1,0,0,1,1,1,1,1,1,0,0,1,1,1,1,0,1,1,1,0,0,0,1,0,0,1,1,0,0,1,0,0,1,1,1,1,1,1,1,0,1,1,1,1,1,0,1,1,1,1,1,0,1,0,1,0,1,1,1,0,0,1,0,0,0,1,1,0,1,1,1,1,0,1,1,0,1,1,0,1,1,0,0,1,1,0,0,0,1,0,0,0,0,0,1,1,0,0,1,1,1,1,1,1,1,0,0,1,1]
[0,1,1,0,0,0,0,0,0,0,0,0,0,0,0,0,1,0,1,null,1,0.52,1,0,0,1,0,0,1,1,1,1,1,1,1,0,1,0,0,1,0,0,1,0,1,1,0,0,0,1,1,0,1,0,1,1,1,0,1,0,1,0,0,1,1,0,0,1,0,1,0,0,0,1,0,0,0,0,1,1,1,0,0,1,1,1,1,0,1,1,1,0,1,1,0,0,0,1,0,0,1,0,1,0,1,0,0,0,0,0,1,1,1,1,0,0,0,1,0,1,1,0,1,1,1,1,1,1,1,0,1,0,0,0,0,1,0,0,1,1,1,1,1,1,0,1,1,1,0,0,0,1,0,0,1,0,1,1,1,0,1,1,1,1,1,1,1,0,1,1,1,1,0,0,0,0,1,1,1,0,0,1,1,1,0,0,1,0,0,0,0,0,1,1,0,0,1,1,0,0,0,1,0,0,0,0,1,1,0,0,0,0,1,1,0,1,1,1,0,0,1,0]
[0,1,0,0,0,0,0,0,0,0,0,0,0,0,0,0,0,0,0,null,1,0.31,1,0,0,0,0,0,1,1,1,1,1,1,0,0,0,0,0,0,0,0,1,0,1,0,0,0,0,0,1,0,0,0,1,1,0,0,1,0,0,0,0,1,1,0,0,0,0,1,0,0,0,0,0,0,0,0,0,0,1,0,0,1,1,{"$f":"IF(OFFSET($A11,0,CH$1)=CH$2,1,0)","v":0},0,0,0,0,0,0,1,1,0,0,0,0,0,0,1,0,0,0,1,0,0,0,0,0,1,1,0,0,0,0,0,1,0,0,1,0,0,0,1,1,1,1,0,0,1,0,0,0,0,1,0,0,1,1,0,0,1,0,0,0,1,1,0,{"$f":"IF(OFFSET($A11,0,ET$1)=ET$2,1,0)","v":0},0,1,0,0,1,0,1,1,0,0,1,1,1,0,0,0,0,0,0,1,1,0,0,0,0,0,0,0,1,0,0,1,1,1,0,0,1,0,0,0,0,0,1,1,0,0,1,1,0,0,0,0,0,0,0,0,0,1,0,0,0,0,1,{"$f":"IF(OFFSET($A11,0,HF$1)=HF$2,1,0)","v":1},0,1,1,0,0,0,1,0]
[0,1,0,0,0,0,0,0,0,0,0,0,0,0,0,0,0,0,0,null,1,0.31,1,0,0,0,0,0,1,1,1,1,1,1,0,0,0,0,{"$f":"IF(OFFSET($A12,0,AM$1)=AM$2,1,0)","v":0},0,0,0,1,0,1,0,0,0,0,0,1,0,0,0,{"$f":"IF(OFFSET($A12,0,BC$1)=BC$2,1,0)","v":1},1,0,0,1,0,0,0,0,1,1,0,0,0,0,1,{"$f":"IF(OFFSET($A12,0,BS$1)=BS$2,1,0)","v":0},0,0,0,0,0,0,0,0,0,1,0,0,1,1,0,0,0,0,0,0,0,1,1,0,0,0,0,0,0,1,{"$f":"IF(OFFSET($A12,0,CX$1)=CX$2,1,0)","v":0},0,0,1,0,0,0,0,0,1,1,0,0,0,0,0,{"$f":"IF(OFFSET($A12,0,DN$1)=DN$2,1,0)","v":1},0,0,1,0,0,0,1,1,1,1,0,0,1,0,0,{"$f":"IF(OFFSET($A12,0,ED$1)=ED$2,1,0)","v":0},0,1,0,0,1,1,0,0,1,0,0,0,1,1,0,0,0,1,0,0,1,0,1,1,0,0,1,1,1,0,0,{"$f":"IF(OFFSET($A12,0,FJ$1)=FJ$2,1,0)","v":0},0,0,0,1,1,0,0,0,0,0,0,0,1,0,0,{"$f":"IF(OFFSET($A12,0,FZ$1)=FZ$2,1,0)","v":1},1,1,0,0,1,0,0,0,0,0,1,1,0,0,1,{"$f":"IF(OFFSET($A12,0,GP$1)=GP$2,1,0)","v":1},0,0,0,0,0,0,0,0,0,1,0,0,0,0,1,1,0,1,1,0,0,0,1,0]
[0,1,1,0,0,0,0,0,0,0,0,0,0,1,1,0,0,0,1,null,1,0.46,1,0,0,0,0,0,1,1,1,1,1,1,0,0,1,0,0,1,0,0,1,0,1,1,0,0,0,1,1,0,1,0,1,1,1,0,1,0,1,0,0,1,1,0,0,1,0,1,0,0,0,1,0,1,0,0,0,1,1,0,1,1,1,1,1,1,1,0,1,0,0,1,0,0,0,1,0,0,1,0,0,0,1,0,0,0,0,0,1,0,0,0,0,0,0,1,0,0,1,0,1,1,1,1,1,1,1,0,1,0,0,0,0,1,0,0,1,1,1,1,1,1,0,0,1,1,0,0,0,1,0,0,1,0,1,1,1,0,1,1,1,0,1,0,1,0,1,1,1,0,0,0,0,0,1,1,1,0,0,1,1,1,0,0,1,0,0,0,0,0,1,1,0,0,1,1,0,0,0,0,0,0,1,0,1,1,0,1,0,0,0,1,0,1,1,0,0,0,1,0]
[0,0,0,1,0,0,0,0,0,0,0,1,0,0,0,0,0,0,0,null,1,0.315,1,0,0,0,0,0,1,1,1,1,1,1,0,0,0,0,0,0,0,0,1,0,1,0,0,0,0,0,1,0,0,0,1,1,0,0,1,0,0,0,0,1,1,0,0,0,0,1,0,0,0,0,0,0,0,0,0,0,1,0,0,1,1,0,0,0,0,0,0,0,1,1,0,0,0,0,0,0,1,0,0,0,1,0,0,0,0,0,1,1,0,0,0,0,0,1,0,0,1,0,0,0,1,1,1,1,0,0,1,0,0,0,0,1,0,0,1,1,0,0,1,0,0,0,1,1,0,0,0,1,0,0,1,0,1,1,0,0,1,1,1,0,0,0,0,0,0,1,1,0,0,0,0,0,0,0,1,0,0,1,1,1,1,0,1,0,0,0,0,0,1,1,0,0,1,1,0,0,0,0,0,0,0,0,0,1,0,0,0,0,1,1,0,1,1,0,0,0,1,0]
[0,1,1,0,0,0,0,0,0,0,0,0,0,1,0,0,0,0,0,null,1,0.33500000000000002,1,0,0,0,0,0,1,1,1,1,1,1,0,0,0,0,0,0,0,0,1,0,1,0,0,0,0,0,1,0,0,0,1,1,0,0,1,0,0,0,0,1,1,0,0,0,0,1,0,0,0,0,0,1,0,0,0,0,1,0,1,1,1,0,0,1,0,0,0,0,1,1,0,0,0,0,0,0,1,0,0,0,1,0,0,0,0,0,1,1,0,0,0,0,0,1,0,0,1,0,0,0,1,1,1,1,0,0,1,0,0,0,0,1,0,0,1,1,0,0,1,0,0,0,1,1,0,0,0,1,0,0,1,0,1,1,0,0,1,1,1,0,0,0,0,0,0,1,1,0,0,0,0,0,0,0,1,0,0,1,1,1,0,0,1,0,0,0,0,0,1,1,0,0,1,1,0,0,0,0,0,0,1,0,0,1,0,1,0,0,1,1,0,1,1,0,0,0,1,0]
[0,0,1,0,0,0,0,0,0,0,0,0,0,0,0,0,0,0,0,null,1,0.31,1,0,0,0,0,0,1,1,1,1,1,1,0,0,0,0,0,0,0,0,1,0,1,0,0,0,0,0,1,0,0,0,1,1,0,0,1,0,0,0,0,1,1,0,0,0,0,1,0,0,0,0,0,0,0,0,0,0,1,0,0,1,1,0,0,0,0,0,0,0,1,1,0,0,0,0,0,0,1,0,0,0,1,0,0,0,0,0,1,1,0,0,0,0,0,1,0,0,1,0,0,0,1,1,1,1,0,0,1,0,0,0,0,1,0,0,1,1,0,0,1,0,0,0,1,1,0,0,0,1,0,0,1,0,1,1,0,0,1,1,1,0,0,0,0,0,0,1,1,0,0,0,0,0,0,0,1,0,0,1,1,1,0,0,1,0,0,0,0,0,1,1,0,0,1,1,0,0,0,0,0,0,0,0,0,1,0,0,0,0,1,1,0,1,1,0,0,0,1,0]
[0,0,1,0,1,0,0,0,0,0,0,0,0,0,0,0,0,0,0,null,1,0.35499999999999998,1,0,0,0,0,0,1,1,1,1,1,1,0,0,0,0,0,0,0,0,1,0,1,0,0,0,1,0,1,0,0,0,1,1,0,0,1,0,0,0,0,1,1,0,0,0,0,1,0,0,0,0,0,0,0,0,0,0,1,0,0,1,1,0,0,0,0,0,0,0,1,1,0,0,0,0,0,0,1,0,0,0,1,0,0,0,0,0,1,1,0,0,0,1,0,1,0,0,1,0,0,0,1,1,1,1,0,0,1,0,1,0,0,1,1,0,1,1,0,0,1,0,0,0,1,1,0,0,0,1,0,0,1,0,1,1,0,0,1,1,1,0,0,0,0,0,0,1,1,0,0,1,0,0,0,0,1,0,1,1,1,1,0,0,1,0,0,0,0,0,1,1,1,0,1,1,0,1,1,0,0,0,0,0,0,1,0,0,0,0,1,1,0,1,1,0,0,0,1,0]
[0,1,0,1,1,0,0,0,0,0,0,0,0,0,0,0,0,0,0,null,1,0.35499999999999998,1,0,0,0,0,0,1,1,1,1,1,1,0,0,0,0,0,0,0,0,1,0,1,0,0,0,1,0,1,0,0,0,1,1,0,0,1,0,0,0,0,1,1,0,0,0,0,1,0,0,0,0,0,0,0,0,0,0,1,0,0,1,1,0,0,0,0,0,0,0,1,1,0,0,0,0,0,0,1,0,0,0,1,0,0,0,0,0,1,1,0,0,0,1,0,1,0,0,1,0,0,0,1,1,1,1,0,0,1,0,1,0,0,1,1,0,1,1,0,0,1,0,0,0,1,1,0,0,0,1,0,0,1,0,1,1,0,0,1,1,1,0,0,0,0,0,0,1,1,0,0,1,0,0,0,0,1,0,1,1,1,1,0,0,1,0,0,0,0,0,1,1,1,0,1,1,0,1,1,0,0,0,0,0,0,1,0,0,0,0,1,1,0,1,1,0,0,0,1,0]
[0,0,0,0,0,0,0,1,1,0,0,0,0,0,0,0,0,0,0,null,1,0.69,1,1,1,0,1,1,1,1,1,1,1,1,0,1,0,1,1,0,0,1,1,1,1,0,1,1,0,0,1,1,0,1,1,1,0,1,1,1,0,1,1,1,1,1,1,0,1,1,1,1,1,0,1,0,1,1,0,0,1,1,0,1,1,0,0,0,0,0,0,1,1,1,1,1,0,0,1,1,1,1,0,1,1,1,1,0,1,1,1,1,0,0,0,0,1,1,1,0,1,1,0,0,1,1,1,1,0,1,1,1,0,1,0,1,0,1,1,1,0,0,1,0,1,0,1,1,1,1,1,1,1,1,1,1,1,1,0,1,1,1,1,0,0,0,0,1,0,1,1,0,1,0,1,1,0,0,1,1,0,1,1,1,0,1,1,1,1,1,1,1,1,1,0,1,1,1,1,0,0,0,1,1,0,1,0,1,1,0,1,1,1,1,1,1,1,0,1,1,1,1]
[0,0,1,0,0,0,0,1,0,0,0,0,0,0,0,0,0,0,1,null,1,0.68500000000000005,1,0,1,0,0,0,1,1,1,1,1,1,0,1,1,1,1,1,0,1,1,1,1,1,0,1,0,1,1,1,1,1,1,1,1,1,1,0,1,0,1,1,1,1,0,1,1,1,0,1,1,1,0,0,1,1,0,1,1,1,0,1,1,1,1,0,1,0,1,1,1,1,1,1,0,1,1,1,1,0,0,1,1,0,1,0,1,0,1,1,0,0,0,0,1,1,1,0,1,1,1,1,1,1,1,1,1,1,1,1,0,0,0,1,0,0,1,1,1,1,1,1,0,0,1,1,1,1,1,1,0,1,1,1,1,1,1,1,1,1,1,0,1,0,1,1,1,1,1,0,0,0,1,0,1,1,1,1,0,1,1,1,0,0,1,1,0,1,1,0,1,1,0,0,1,1,0,0,0,0,0,0,0,0,1,1,1,0,0,1,1,1,1,1,1,0,0,0,1,1]
[0,1,1,0,0,0,0,1,0,0,0,0,0,0,0,0,1,0,0,null,1,0.61499999999999999,1,0,1,1,0,0,1,1,1,1,1,1,1,1,0,1,1,0,0,1,1,1,1,0,0,1,0,0,1,1,0,1,1,1,0,1,1,0,0,0,1,1,1,1,0,0,1,1,0,1,1,0,0,0,1,1,1,0,1,1,0,1,1,0,0,0,0,1,0,1,1,1,1,1,0,0,1,1,1,0,1,1,1,0,1,0,1,0,1,1,1,1,0,0,1,1,1,1,1,1,0,0,1,1,1,1,0,1,1,1,0,0,0,1,0,0,1,1,0,0,1,0,0,1,1,1,1,1,1,1,0,1,1,1,1,1,0,1,1,1,1,1,0,1,0,1,0,1,1,1,0,0,1,0,0,0,1,1,0,1,1,1,0,0,1,1,0,1,1,0,1,1,0,0,1,1,0,0,0,1,0,0,0,0,0,1,1,0,0,1,1,1,1,1,1,1,0,0,1,1]
[0,0,1,0,0,1,0,0,0,0,0,0,0,0,0,0,0,0,0,null,1,0.14499999999999999,1,0,0,0,0,0,1,0,0,0,0,0,0,0,0,0,0,0,0,0,0,0,0,0,0,0,0,0,1,0,0,0,0,1,0,0,1,0,0,0,0,0,1,0,0,0,0,1,0,0,0,0,0,0,0,0,0,0,1,0,0,0,0,0,0,0,0,0,0,0,1,1,0,0,0,0,0,0,0,0,0,0,1,0,0,0,0,0,0,1,0,0,0,0,0,1,0,0,0,0,0,0,1,1,0,0,0,0,0,0,0,0,0,1,0,0,0,0,0,0,0,0,0,0,1,1,0,0,0,1,0,0,1,0,0,1,0,0,0,0,1,0,0,0,0,0,0,1,0,0,0,0,0,0,0,0,0,0,0,0,0,0,0,0,0,0,0,0,0,0,1,0,0,0,0,0,0,0,0,0,0,0,0,0,0,1,0,0,0,0,1,1,0,1,0,0,0,0,1,0]
[0,1,0,0,0,0,0,0,0,0,0,0,0,1,0,0,0,0,1,null,1,0.47499999999999998,1,0,0,0,0,0,1,1,1,1,1,1,0,0,1,0,0,1,0,0,1,0,1,1,0,0,0,1,1,0,1,0,1,1,1,0,1,0,1,0,0,1,1,0,0,1,0,1,0,0,0,1,0,1,0,0,0,1,1,0,1,1,1,1,1,1,1,0,1,0,1,1,0,0,0,1,0,0,1,0,0,0,1,0,0,0,0,0,1,1,0,0,0,0,0,1,0,0,1,0,1,1,1,1,1,1,1,0,1,0,0,0,0,1,0,0,1,1,1,1,1,1,0,0,1,1,0,0,0,1,0,0,1,0,1,1,1,0,1,1,1,0,1,0,1,0,1,1,1,0,0,0,0,0,1,1,1,0,0,1,1,1,0,0,1,0,0,0,0,0,1,1,0,0,1,1,0,0,0,0,0,0,1,0,1,1,0,1,0,0,1,1,0,1,1,0,0,0,1,0]
[0,1,0,0,0,0,0,1,0,0,0,1,0,0,0,0,0,1,0,null,1,0.49,1,0,1,0,0,0,1,1,1,1,1,1,0,1,0,1,1,0,0,1,1,1,1,0,0,1,0,0,0,1,0,1,1,1,0,1,1,0,0,0,1,1,0,1,0,0,1,0,0,1,1,0,0,0,1,1,0,0,1,1,0,1,1,0,0,0,0,0,0,1,1,0,1,1,0,0,1,1,1,0,0,1,0,0,1,0,1,0,1,1,0,0,0,0,1,0,1,0,1,1,0,0,1,0,1,1,0,1,1,1,0,0,0,0,0,0,1,1,0,0,1,0,0,0,1,1,1,1,1,1,0,1,1,1,1,0,0,1,1,1,1,0,0,0,0,1,0,0,1,0,0,0,1,0,0,0,1,1,0,1,1,1,1,0,1,1,0,1,1,0,1,1,0,0,1,1,0,0,0,0,0,0,0,0,0,1,1,0,0,1,1,0,1,0,1,0,0,0,1,1]
[0,1,0,1,1,0,0,0,1,0,0,0,0,0,0,0,1,0,0,null,1,0.56999999999999995,1,1,0,1,1,1,1,1,1,1,1,1,1,0,0,0,0,0,0,0,1,0,1,0,1,0,1,0,1,0,0,0,1,1,0,0,1,1,0,1,0,1,1,0,1,0,0,1,1,0,0,0,1,0,0,0,1,0,1,0,0,1,1,0,0,0,0,1,0,0,1,1,0,0,0,0,0,0,1,1,1,0,1,1,0,0,0,1,1,1,1,1,0,1,0,1,0,1,1,0,0,0,1,1,1,1,0,0,1,0,1,1,0,1,1,1,1,1,0,0,1,0,1,1,1,1,0,0,0,1,1,0,1,0,1,1,0,0,1,1,1,1,0,1,0,0,0,1,1,1,1,1,0,1,0,0,1,0,1,1,1,1,0,1,1,0,1,0,0,1,1,1,1,1,1,1,1,1,1,1,1,1,0,1,0,1,0,0,1,0,1,1,0,1,1,1,1,1,1,0]
[0,1,1,0,0,0,0,0,1,0,0,0,0,0,0,0,0,1,1,null,1,0.53500000000000003,1,1,0,0,1,1,1,1,1,1,1,1,0,0,1,0,0,1,0,0,1,0,1,1,1,0,0,1,0,0,1,0,1,1,1,0,1,1,1,1,0,1,0,0,1,1,0,0,1,0,0,1,1,0,0,0,0,1,1,0,0,1,1,1,1,0,1,0,1,0,1,0,0,0,0,1,0,0,1,1,0,0,0,1,0,0,0,1,1,1,0,0,0,0,0,0,0,0,1,0,1,1,1,0,1,1,1,0,1,0,0,1,0,0,0,1,1,1,1,1,1,1,1,0,1,1,0,0,0,1,1,0,1,0,1,0,1,0,1,1,1,0,1,0,1,0,1,0,1,0,1,0,0,1,1,1,1,0,0,1,1,1,0,1,1,0,1,0,0,1,1,1,0,1,1,1,1,0,0,0,1,1,0,1,1,1,0,0,1,0,1,0,0,0,1,0,1,1,1,0]
[0,0,0,0,0,1,0,0,0,0,0,0,0,0,0,0,1,0,0,null,1,0.215,1,0,0,1,0,0,1,0,{"$f":"IF(OFFSET($A27,0,AE$1)=AE$2,1,0)","v":0},0,0,0,1,0,0,0,0,0,0,0,0,0,0,0,0,0,0,0,1,0,0,0,0,1,0,0,1,0,0,0,0,0,1,0,0,0,0,{"$f":"IF(OFFSET($A27,0,BR$1)=BR$2,1,0)","v":1},0,0,0,0,0,0,0,0,1,0,1,0,0,0,0,0,0,0,0,1,0,0,1,1,0,0,0,0,0,0,0,0,1,0,1,0,0,0,0,0,0,1,1,1,0,0,{"$f":"IF(OFFSET($A27,0,DM$1)=DM$2,1,0)","v":0},1,0,1,0,0,0,0,1,1,0,0,0,0,0,0,0,0,0,1,0,0,0,0,0,0,0,0,0,1,1,1,{"$f":"IF(OFFSET($A27,0,ES$1)=ES$2,1,0)","v":0},0,0,1,0,0,1,0,0,1,0,0,0,0,1,1,{"$f":"IF(OFFSET($A27,0,FI$1)=FI$2,1,0)","v":0},1,0,0,0,1,0,1,0,0,0,0,0,0,0,0,0,0,0,0,0,0,0,0,0,0,0,0,1,0,0,0,{"$f":"IF(OFFSET($A27,0,GO$1)=GO$2,1,0)","v":0},0,0,0,0,1,0,0,0,0,0,1,0,0,0,0,1,1,0,1,0,1,0,0,1,0]
[0,1,0,1,0,0,0,0,0,1,0,0,0,1,0,0,0,0,0,null,1,0.33500000000000002,{"$f":"IF(OFFSET($A28,0,W$1)=W$2,1,0)","v":1},0,0,0,0,0,1,1,1,1,1,1,0,0,0,0,0,0,0,0,1,0,1,0,0,0,0,0,1,0,0,{"$f":"IF(OFFSET($A28,0,BB$1)=BB$2,1,0)","v":0},1,1,0,0,1,0,0,0,0,1,1,0,0,0,0,1,0,0,0,0,0,1,0,0,0,0,1,0,1,1,1,0,0,1,0,0,0,0,1,1,0,0,0,0,0,{"$f":"IF(OFFSET($A28,0,CV$1)=CV$2,1,0)","v":0},1,0,0,0,1,0,0,0,0,0,1,1,0,0,0,{"$f":"IF(OFFSET($A28,0,DL$1)=DL$2,1,0)","v":0},0,1,0,0,1,0,0,0,1,1,1,1,0,0,1,0,0,{"$f":"IF(OFFSET($A28,0,ED$1)=ED$2,1,0)","v":0},0,1,0,0,1,1,0,0,1,0,0,0,1,1,0,0,0,1,0,0,1,0,1,1,0,0,1,1,1,0,0,0,0,0,0,1,1,0,0,0,0,0,0,0,1,0,0,{"$f":"IF(OFFSET($A28,0,FZ$1)=FZ$2,1,0)","v":1},1,1,0,0,1,0,0,0,0,0,1,1,0,0,1,1,0,0,0,0,0,0,1,0,0,1,0,1,0,0,1,1,0,1,1,0,0,0,1,0]
[0,1,1,0,0,0,0,0,0,0,0,0,0,0,0,0,0,0,1,null,1,0.45,1,0,0,0,0,0,1,1,1,1,1,1,0,0,1,0,0,1,0,0,1,0,1,1,{"$f":"IF(OFFSET($A29,0,AU$1)=AU$2,1,0)","v":0},0,0,1,1,0,1,0,1,1,1,0,1,0,1,0,0,1,1,0,0,1,0,1,0,0,0,1,0,0,0,0,0,1,1,0,0,1,1,1,{"$f":"IF(OFFSET($A29,0,CI$1)=CI$2,1,0)","v":1},0,1,0,1,0,1,1,0,0,0,1,0,0,1,0,0,0,1,0,0,0,0,0,1,1,0,0,0,0,0,1,0,0,1,0,1,1,1,1,1,1,1,0,1,0,0,0,0,1,0,0,1,1,1,1,1,1,0,0,1,1,0,0,0,1,0,0,1,0,1,1,1,0,1,1,1,0,1,0,1,0,1,1,1,0,0,0,0,0,1,1,1,0,0,1,1,1,0,0,1,0,0,0,0,0,1,1,0,0,1,1,0,0,0,0,0,0,0,0,1,1,0,0,0,0,1,1,0,1,1,0,0,0,1,0]
[1,0,1,0,0,0,0,0,1,0,0,1,0,0,0,0,0,0,0,null,1,0.45500000000000002,1,1,0,0,1,1,1,1,1,1,1,1,0,0,0,0,0,0,0,0,1,0,1,0,1,0,0,0,1,0,0,0,1,1,0,0,1,1,0,1,0,1,1,0,1,0,0,1,1,0,0,0,1,0,0,0,0,0,0,0,0,1,1,0,0,0,0,0,0,0,1,1,0,0,0,0,0,0,1,1,0,0,1,1,0,0,0,1,1,1,0,0,0,0,0,1,0,0,1,0,0,0,1,1,1,1,0,0,1,0,0,1,0,1,0,1,1,1,0,0,1,0,1,0,1,1,0,0,0,1,1,0,1,0,1,1,0,0,1,1,1,0,0,0,0,0,0,1,1,0,1,0,0,1,0,0,1,0,0,1,1,1,1,1,1,0,1,0,0,1,1,1,0,1,1,1,1,0,0,0,1,1,0,1,0,1,0,0,1,0,1,1,0,1,1,0,1,1,1,0]
[0,0,0,0,0,0,0,0,0,0,0,0,0,1,0,0,1,1,0,null,1,0.34499999999999997,1,0,0,1,0,0,1,1,1,1,1,1,1,0,0,0,0,0,0,0,1,0,1,0,0,0,0,0,0,0,0,0,1,1,0,0,1,0,0,0,0,1,0,0,0,0,0,0,0,0,0,0,0,1,0,0,1,0,1,0,1,1,1,0,0,1,0,1,0,0,1,0,0,0,0,0,0,0,1,0,1,0,0,0,0,0,0,0,1,1,1,1,0,0,0,0,0,1,1,0,0,0,1,0,1,1,0,0,1,0,0,0,0,0,0,0,1,1,0,0,1,0,0,1,1,1,0,0,0,1,0,0,1,0,1,0,0,0,1,1,1,1,0,1,0,0,0,0,1,1,0,0,0,0,0,0,1,0,0,1,1,1,0,0,1,0,0,0,0,0,1,1,0,0,1,1,0,0,0,1,0,0,1,0,0,1,0,1,0,0,1,0,0,0,1,1,0,0,1,0]
[0,1,1,0,0,0,1,0,1,0,0,0,0,1,0,0,1,0,0,null,1,0.48499999999999999,0,1,0,1,1,1,0,1,1,1,1,1,1,0,0,0,0,0,0,0,1,0,1,0,1,0,0,0,1,0,0,0,1,0,0,0,0,1,0,1,0,1,1,0,1,0,0,1,1,0,0,0,1,1,0,0,1,0,1,0,1,1,1,0,0,1,0,1,0,0,1,1,0,0,0,0,0,0,1,1,1,0,1,1,0,0,0,1,1,1,1,1,0,0,0,1,0,1,1,0,0,0,0,1,1,1,0,0,1,0,0,1,0,1,0,1,1,1,0,0,1,0,1,1,0,0,0,0,0,0,1,0,0,0,1,1,0,0,1,1,0,1,0,1,0,0,0,1,1,1,1,0,0,1,0,0,1,0,0,1,1,1,0,1,1,0,1,0,0,1,0,1,0,1,1,1,1,0,0,1,1,1,1,1,0,0,0,1,1,0,1,1,0,1,1,1,1,1,0,0]
[0,0,0,0,0,0,0,1,0,0,0,0,0,0,0,0,1,0,0,null,1,0.61499999999999999,1,0,1,1,0,0,1,1,1,1,1,1,1,1,0,1,1,0,0,1,1,1,1,0,0,1,0,0,1,1,0,1,1,1,0,1,1,0,0,0,1,1,1,1,0,0,1,1,0,1,1,0,0,0,1,1,1,0,1,1,0,1,1,0,0,0,0,1,0,1,1,1,1,1,0,0,1,1,1,0,1,1,1,0,1,0,1,0,1,1,1,1,0,0,1,1,1,1,1,1,0,0,1,1,1,1,0,1,1,1,0,0,0,1,0,0,1,1,0,0,1,0,0,1,1,1,1,1,1,1,0,1,1,1,1,1,0,1,1,1,1,1,0,1,0,1,0,1,1,1,0,0,1,0,0,0,1,1,0,1,1,1,0,0,1,1,0,1,1,0,1,1,0,0,1,1,0,0,0,1,0,0,0,0,0,1,1,0,0,1,1,1,1,1,1,1,0,0,1,1]
[0,1,0,1,0,0,0,0,1,0,0,0,0,1,0,0,0,0,0,null,1,0.48,1,1,0,0,1,1,1,1,1,1,1,1,0,0,0,0,0,0,0,0,1,0,1,0,1,0,0,0,1,0,0,0,1,1,0,0,1,1,0,1,0,1,1,0,1,0,0,1,1,0,0,0,1,1,0,0,0,0,1,0,1,1,1,0,0,1,0,0,0,0,1,1,0,0,0,0,0,0,1,1,0,0,1,1,0,0,0,1,1,1,0,0,0,0,0,1,0,0,1,0,0,0,1,1,1,1,0,0,1,0,0,1,0,1,0,1,1,1,0,0,1,0,1,0,1,1,0,0,0,1,1,0,1,0,1,1,0,0,1,1,1,0,0,0,0,0,0,1,1,0,1,0,0,1,0,0,1,0,0,1,1,1,0,1,1,0,1,0,0,1,1,1,0,1,1,1,1,0,0,0,1,1,1,1,0,1,0,1,1,0,1,1,0,1,1,0,1,1,1,0]
[0,1,0,1,0,0,0,0,1,1,0,0,0,0,0,0,1,0,0,null,1,0.52500000000000002,1,1,0,1,1,1,1,1,1,1,1,1,1,0,0,0,0,0,0,0,1,0,1,0,1,0,0,0,1,0,0,0,1,1,0,0,1,1,0,1,0,1,1,0,1,0,0,1,1,0,0,0,1,0,0,0,1,0,1,0,0,1,1,0,0,0,0,1,0,0,1,1,0,0,0,0,0,0,1,1,1,0,1,1,0,0,0,1,1,1,1,1,0,0,0,1,0,1,1,0,0,0,1,1,1,1,0,0,1,0,0,1,0,1,0,1,1,1,0,0,1,0,1,1,1,1,0,0,0,1,1,0,1,0,1,1,0,0,1,1,1,1,0,1,0,0,0,1,1,1,1,0,0,1,0,0,1,0,0,1,1,1,0,1,1,0,1,0,0,1,1,1,0,1,1,1,1,0,0,1,1,1,0,1,0,1,0,0,1,0,1,1,0,1,1,1,1,1,1,0]
[0,0,0,1,0,0,0,0,1,0,0,0,0,0,0,0,0,0,0,null,1,0.45500000000000002,1,1,0,0,1,1,1,1,1,1,1,1,0,0,0,0,0,0,0,0,1,0,1,0,1,0,0,0,1,0,0,0,1,1,0,0,1,1,0,1,0,1,1,0,1,0,0,1,1,0,0,0,1,0,0,0,0,0,1,0,0,1,1,0,0,0,0,0,0,0,1,1,0,0,0,0,0,0,1,1,0,0,1,1,0,0,0,1,1,1,0,0,0,0,0,1,0,0,1,0,0,0,1,1,1,1,0,0,1,0,0,1,0,1,0,1,1,1,0,0,1,0,1,0,1,1,0,0,0,1,1,0,1,0,1,1,0,0,1,1,1,0,0,0,0,0,0,1,1,0,1,0,0,1,0,0,1,0,0,1,1,1,0,1,1,0,1,0,0,1,1,1,0,1,1,1,1,0,0,0,1,1,0,1,0,1,0,0,1,0,1,1,0,1,1,0,1,1,1,0]
[0,0,1,0,0,0,1,0,0,0,0,0,0,0,0,0,0,1,0,null,1,0.185,0,0,0,0,0,0,0,1,1,1,1,1,0,0,0,0,0,0,0,0,1,0,1,0,0,0,0,0,0,0,0,0,1,0,0,0,0,0,0,0,0,1,0,0,0,0,0,0,0,0,0,0,0,0,0,0,0,0,1,0,0,1,1,0,0,0,0,0,0,0,1,0,0,0,0,0,0,0,1,0,0,0,0,0,0,0,0,0,1,1,0,0,0,0,0,0,0,0,1,0,0,0,0,0,1,1,0,0,1,0,0,0,0,0,0,0,1,1,0,0,1,0,0,0,0,0,0,0,0,0,0,0,0,0,1,0,0,0,1,1,0,0,0,0,0,0,0,0,1,0,0,0,0,0,0,0,1,0,0,1,1,1,0,0,1,0,0,0,0,0,0,1,0,0,1,1,0,0,0,0,0,0,0,0,0,0,0,0,0,0,1,0,0,0,1,0,0,0,0,0]
[1,0,0,1,0,0,0,0,1,0,0,1,0,0,0,0,1,1,1,null,1,0.60499999999999998,1,1,0,1,1,1,1,1,1,1,1,1,1,0,1,0,0,1,0,0,1,0,1,1,1,0,0,1,0,0,1,0,1,1,1,0,1,1,1,1,0,1,0,0,1,1,0,0,1,0,0,1,1,0,0,0,1,1,0,0,0,1,1,1,1,0,1,1,1,0,1,0,0,0,0,1,0,0,1,1,1,0,0,1,0,0,0,1,1,1,1,1,0,0,0,0,0,1,1,0,1,1,1,0,1,1,1,0,1,0,0,1,0,0,0,1,1,1,1,1,1,1,1,1,1,1,0,0,0,1,1,0,1,0,1,0,1,0,1,1,1,1,1,1,1,0,1,0,1,1,1,0,0,1,1,1,1,0,0,1,1,1,1,1,1,0,1,0,0,1,1,1,0,1,1,1,1,0,0,1,1,1,0,1,1,1,0,0,1,0,1,0,0,0,1,1,1,1,1,0]
[1,0,1,0,0,0,0,1,0,0,0,1,0,0,0,0,1,0,0,null,1,0.61499999999999999,1,0,1,1,0,0,1,1,1,1,1,1,1,1,0,1,1,0,0,1,1,1,1,0,0,1,0,0,1,1,0,1,1,1,0,1,1,0,0,0,1,1,1,1,0,0,1,1,0,1,1,0,0,0,1,1,1,0,0,1,0,1,1,0,0,0,0,1,0,1,1,1,1,1,0,0,1,1,1,0,1,1,1,0,1,0,1,0,1,1,1,1,0,0,1,1,1,1,1,1,0,0,1,1,1,1,0,1,1,1,0,0,0,1,0,0,1,1,0,0,1,0,0,1,1,1,1,1,1,1,0,1,1,1,1,1,0,1,1,1,1,1,0,1,0,1,0,1,1,1,0,0,1,0,0,0,1,1,0,1,1,1,1,0,1,1,0,1,1,0,1,1,0,0,1,1,0,0,0,1,0,0,0,0,0,1,1,0,0,1,1,1,1,1,1,1,0,0,1,1]
[0,1,1,0,0,0,0,0,0,0,0,0,0,0,0,0,0,0,0,null,1,0.31,1,0,0,0,0,0,1,1,1,1,1,1,0,0,0,0,0,0,0,0,1,0,1,0,0,0,0,0,1,0,0,0,1,1,0,0,1,0,0,0,0,1,1,0,0,0,0,1,0,0,0,0,0,0,0,0,0,0,1,0,0,1,1,0,0,0,0,0,0,0,1,1,0,0,0,0,0,0,1,0,0,0,1,0,0,0,0,0,1,1,0,0,0,0,0,1,0,0,1,0,0,0,1,1,1,1,0,0,1,0,0,0,0,1,0,0,1,1,0,0,1,0,0,0,1,1,0,0,0,1,0,0,1,0,1,1,0,0,1,1,1,0,0,0,0,0,0,1,1,0,0,0,0,0,0,0,1,0,0,1,1,1,0,0,1,0,0,0,0,0,1,1,0,0,1,1,0,0,0,0,0,0,0,0,0,1,0,0,0,0,1,1,0,1,1,0,0,0,1,0]
[0,1,1,0,0,0,0,0,1,0,0,0,0,0,0,0,0,0,0,null,1,0.45500000000000002,1,1,0,0,1,1,1,1,1,1,1,1,0,0,0,0,0,0,0,0,1,0,1,0,1,0,0,0,1,0,0,0,1,1,0,0,1,1,0,1,0,1,1,0,1,0,0,1,1,0,0,0,1,0,0,0,0,0,1,0,0,1,1,0,0,0,0,0,0,0,1,1,0,0,0,0,0,0,1,1,0,0,1,1,0,0,0,1,1,1,0,0,0,0,0,1,0,0,1,0,0,0,1,1,1,1,0,0,1,0,0,1,0,1,0,1,1,1,0,0,1,0,1,0,1,1,0,0,0,1,1,0,1,0,1,1,0,0,1,1,1,0,0,0,0,0,0,1,1,0,1,0,0,1,0,0,1,0,0,1,1,1,0,1,1,0,1,0,0,1,1,1,0,1,1,1,1,0,0,0,1,1,0,1,0,1,0,0,1,0,1,1,0,1,1,0,1,1,1,0]
[1,0,1,0,0,0,0,0,1,0,0,0,0,0,0,0,1,0,1,null,1,0.66,1,1,0,1,1,1,1,1,1,1,1,1,1,0,1,0,0,1,0,0,1,0,1,1,1,0,0,1,1,0,1,0,1,1,1,0,1,1,1,1,0,1,1,0,1,1,0,1,1,0,0,1,1,0,0,0,1,1,0,0,0,1,{"$f":"IF(OFFSET($A42,0,CG$1)=CG$2,1,0)","v":1},1,1,0,1,1,1,0,1,1,0,0,0,1,0,0,1,1,1,0,1,1,0,0,0,1,1,1,1,1,0,0,0,1,0,1,1,0,1,1,1,1,1,1,1,0,1,0,{"$f":"IF(OFFSET($A42,0,EC$1)=EC$2,1,0)","v":0},1,0,1,0,1,1,1,1,1,1,1,1,1,1,1,0,0,0,1,1,0,1,0,1,1,1,0,1,1,1,1,1,1,1,0,1,1,1,1,1,0,0,1,1,1,1,{"$f":"IF(OFFSET($A42,0,FX$1)=FX$2,1,0)","v":0},0,1,1,1,0,1,1,0,1,0,0,1,1,1,0,1,1,1,1,0,0,1,1,1,0,1,1,1,0,0,1,0,{"$f":"IF(OFFSET($A42,0,HE$1)=HE$2,1,0)","v":1},1,0,1,1,1,1,1,1,0]
[0,1,0,0,0,0,0,0,0,0,0,0,0,0,0,0,0,0,0,null,1,0.31,1,0,0,0,0,0,1,1,1,1,1,1,0,0,0,{"$f":"IF(OFFSET($A43,0,AL$1)=AL$2,1,0)","v":0},0,0,0,0,1,0,1,0,0,0,0,0,1,0,0,0,1,1,0,0,1,0,0,0,0,1,1,0,0,0,0,{"$f":"IF(OFFSET($A43,0,BR$1)=BR$2,1,0)","v":1},0,0,0,0,0,0,0,0,0,0,1,0,0,1,1,0,0,0,0,0,0,0,1,1,0,0,0,0,0,0,1,0,0,0,1,0,0,0,0,0,1,1,0,0,0,0,0,1,0,0,1,0,0,0,1,1,1,1,0,0,{"$f":"IF(OFFSET($A43,0,EA$1)=EA$2,1,0)","v":1},0,0,0,0,1,0,0,1,1,0,0,1,0,0,0,1,1,0,0,0,1,0,0,1,0,1,1,0,0,1,1,1,0,{"$f":"IF(OFFSET($A43,0,FI$1)=FI$2,1,0)","v":0},0,0,0,0,1,1,0,0,0,0,0,0,0,1,0,0,1,1,1,0,0,1,0,0,0,0,0,1,1,0,0,1,1,0,0,0,0,0,0,0,0,0,1,0,0,0,{"$f":"IF(OFFSET($A43,0,HD$1)=HD$2,1,0)","v":0},1,1,0,1,1,0,0,0,1,0]
[0,0,0,0,1,0,0,1,0,0,0,0,0,0,0,0,0,0,0,null,1,0.59,{"$f":"IF(OFFSET($A44,0,W$1)=W$2,1,0)","v":1},0,1,0,0,0,1,1,1,1,1,1,0,1,0,1,1,0,0,1,1,1,1,0,0,1,1,0,1,1,0,1,1,1,0,1,1,0,0,0,1,1,1,1,0,0,1,1,0,1,1,0,0,0,1,1,0,0,1,1,0,1,1,0,0,0,0,0,0,1,1,1,1,1,0,0,1,1,1,0,0,1,1,0,1,0,1,0,1,1,0,0,0,{"$f":"IF(OFFSET($A44,0,DL$1)=DL$2,1,0)","v":1},1,1,1,0,1,1,0,0,1,1,1,1,0,1,1,1,1,0,0,1,1,0,1,1,0,0,1,0,0,0,1,1,1,1,1,1,0,1,1,1,1,1,0,1,1,{"$f":"IF(OFFSET($A44,0,FF$1)=FF$2,1,0)","v":1},1,0,0,0,0,1,0,1,1,0,0,1,1,0,0,0,1,1,1,1,1,1,0,0,1,1,0,1,1,0,1,1,1,0,1,{"$f":"IF(OFFSET($A44,0,GP$1)=GP$2,1,0)","v":1},0,1,1,0,0,0,0,0,0,1,1,0,0,1,1,1,1,1,1,0,0,0,1,1]
[0,0,0,0,0,0,0,0,0,0,0,0,1,0,0,0,0,0,0,null,1,0.315,1,0,0,0,0,0,1,1,1,1,1,1,0,0,0,0,0,0,0,0,1,0,1,0,0,0,0,0,1,0,0,0,1,1,0,0,1,0,0,0,0,1,1,0,0,0,0,1,0,0,0,0,0,0,0,0,0,0,1,0,0,1,1,0,0,0,0,{"$f":"IF(OFFSET($A45,0,CL$1)=CL$2,1,0)","v":0},0,0,1,1,0,0,0,0,0,0,1,0,0,0,1,0,0,0,0,0,1,1,0,0,1,0,0,1,0,0,1,0,0,0,1,1,1,1,0,0,1,0,0,0,0,1,0,0,1,1,0,0,1,0,0,0,1,1,0,{"$f":"IF(OFFSET($A45,0,ET$1)=ET$2,1,0)","v":0},0,1,0,0,1,0,1,1,0,0,1,1,1,0,0,0,0,0,0,1,1,0,0,0,0,0,0,0,1,0,0,1,1,1,0,0,1,0,0,0,0,0,1,1,0,0,1,1,0,0,0,0,0,0,0,0,0,1,0,0,0,0,1,1,0,1,1,0,0,0,1,0]
[0,1,0,0,0,0,0,1,0,0,0,0,0,0,0,0,1,0,0,null,1,0.61499999999999999,1,0,1,1,0,0,1,1,1,1,1,1,1,1,0,1,1,0,0,1,1,1,1,0,0,1,0,0,1,1,0,1,1,1,0,{"$f":"IF(OFFSET($A46,0,BF$1)=BF$2,1,0)","v":1},1,0,0,0,1,1,1,1,0,0,1,1,0,1,1,0,0,0,1,1,1,0,1,1,0,1,1,0,0,0,0,1,0,1,1,1,1,1,0,0,1,1,1,0,1,1,1,0,1,0,1,0,1,1,1,1,0,0,1,1,1,1,1,1,0,0,1,1,1,1,0,1,1,1,0,0,0,1,0,0,1,1,0,0,1,0,0,1,1,1,1,1,1,1,0,1,1,1,1,1,0,1,1,1,1,1,0,1,0,1,0,1,1,1,0,0,1,0,0,0,1,1,0,1,1,1,0,0,1,1,0,1,1,0,1,1,0,0,1,1,0,0,0,1,0,0,0,0,0,1,1,0,0,1,1,1,1,1,1,1,0,0,1,1]
[1,0,1,0,0,0,0,0,0,0,0,0,0,1,0,0,0,0,1,null,1,0.47,1,0,0,0,0,0,1,1,1,1,1,1,0,0,1,0,0,1,0,0,1,0,1,1,0,0,0,1,1,0,1,{"$f":"IF(OFFSET($A47,0,BB$1)=BB$2,1,0)","v":0},1,1,1,0,1,0,1,0,0,1,1,0,0,1,0,1,0,0,0,1,0,1,0,0,0,1,0,0,1,1,1,1,1,1,1,0,1,0,1,1,0,0,0,1,0,0,1,0,0,0,1,0,0,0,0,0,1,1,0,0,0,0,0,1,0,0,1,0,1,1,1,1,1,1,1,0,1,0,0,0,0,1,0,0,1,1,1,1,1,1,0,0,1,1,0,0,0,1,0,0,1,0,1,1,1,0,1,1,1,0,1,0,1,0,1,1,1,0,0,0,0,0,1,1,1,0,0,1,1,1,0,0,1,0,0,0,0,0,1,1,0,0,1,1,0,0,0,0,0,0,1,0,1,1,0,1,0,0,1,1,0,1,1,0,0,{"$f":"IF(OFFSET($A47,0,HL$1)=HL$2,1,0)","v":0},1,0]
[1,0,0,0,0,0,0,0,0,0,0,0,0,0,0,0,0,0,0,null,1,0.30499999999999999,1,0,0,0,0,0,1,1,1,1,1,1,0,0,0,0,0,0,0,0,1,0,1,0,0,0,0,0,1,0,0,0,1,1,0,0,1,0,0,0,0,1,1,0,0,0,0,1,0,0,0,0,0,0,0,0,0,0,0,0,0,1,1,0,0,0,0,0,0,0,1,1,0,0,0,0,0,0,1,0,0,0,1,0,{"$f":"IF(OFFSET($A48,0,DC$1)=DC$2,1,0)","v":0},0,0,0,1,1,0,0,0,0,0,1,0,0,1,0,0,0,1,1,1,1,0,0,1,0,0,0,0,1,0,0,1,1,0,0,1,0,0,0,1,1,0,0,0,1,0,0,1,0,1,1,0,0,1,1,1,0,0,0,0,0,0,1,1,0,0,0,0,0,0,0,1,0,0,1,1,1,0,0,1,0,0,0,0,0,1,1,0,0,1,1,0,0,0,0,0,0,0,0,0,1,0,0,0,0,1,1,0,1,1,0,0,0,1,0]
[0,0,1,0,0,0,0,0,0,0,0,0,0,0,0,0,0,1,0,null,1,0.25,1,0,0,0,0,0,1,1,1,1,1,1,0,0,0,0,0,0,0,0,1,0,1,0,0,0,0,0,0,0,0,0,1,1,0,0,1,0,0,0,0,1,0,0,0,0,0,0,0,0,0,0,0,0,0,0,0,0,1,0,0,1,1,0,0,0,0,0,0,0,1,0,0,0,0,0,0,0,1,0,0,0,0,{"$f":"IF(OFFSET($A49,0,DB$1)=DB$2,1,0)","v":0},0,0,0,0,1,1,0,0,0,0,0,0,0,0,1,0,0,0,1,0,1,1,0,0,1,0,0,0,0,0,0,0,1,1,0,0,1,0,0,0,1,1,0,0,0,1,0,0,1,0,1,0,0,0,1,1,1,0,0,0,0,0,0,0,1,0,0,0,0,0,0,0,1,0,0,1,1,1,0,0,1,0,0,0,0,0,1,1,0,0,1,1,0,0,0,0,0,0,0,0,0,1,0,0,0,0,1,0,0,0,1,0,0,0,1,0]
[0,1,0,0,0,0,0,0,0,0,0,0,0,0,0,1,1,0,0,null,1,0.4,1,0,0,1,0,0,1,1,1,1,1,1,1,0,0,0,0,0,1,0,1,0,1,0,0,0,0,0,1,0,0,0,1,1,0,0,1,0,0,0,0,1,1,0,0,0,0,1,0,0,0,0,0,0,0,0,1,0,1,0,0,1,1,0,0,0,0,1,0,0,1,1,0,0,1,0,0,0,1,0,1,0,1,0,0,1,0,0,1,1,1,1,0,0,0,1,0,1,1,0,0,0,1,1,1,1,0,0,1,0,0,0,1,1,0,0,1,1,0,0,1,0,0,1,1,1,0,0,0,1,0,0,1,0,1,1,0,0,1,1,1,1,0,1,0,0,0,1,1,1,0,0,0,0,0,0,1,0,0,1,1,1,0,0,1,0,0,0,0,0,1,1,0,0,1,1,0,0,0,1,0,0,0,0,0,1,0,0,0,0,1,1,0,1,1,1,0,0,1,0]
[0,0,1,0,0,0,0,0,0,0,0,0,0,0,0,1,0,1,0,null,1,0.27,1,0,0,0,0,0,1,1,1,1,1,1,0,0,0,0,0,0,1,0,1,0,1,0,0,0,0,0,0,0,0,0,1,1,0,0,1,0,0,0,0,1,0,0,0,0,0,0,0,0,0,0,0,0,0,0,0,0,1,0,0,1,1,0,0,0,0,0,0,0,1,0,0,0,1,0,0,0,1,0,0,0,0,0,0,1,0,0,1,1,0,0,0,0,0,0,0,0,1,0,0,0,1,0,1,1,0,0,1,0,0,0,1,0,0,0,1,1,0,0,1,0,0,0,1,1,0,0,0,1,0,0,1,0,1,0,0,0,1,1,1,0,0,0,0,0,0,0,1,0,0,0,0,0,0,0,1,0,0,1,1,1,0,0,1,0,0,0,0,0,1,1,0,0,1,1,0,0,0,0,0,0,0,0,0,1,0,0,0,0,1,0,0,0,1,0,0,0,1,0]
[1,0,0,0,0,0,0,1,0,0,0,0,0,1,0,0,0,0,1,null,1,0.70499999999999996,1,0,1,0,0,0,1,1,1,1,1,1,0,1,1,1,1,1,0,1,1,1,1,1,0,1,0,1,1,1,1,1,1,1,1,1,1,0,1,0,1,1,1,1,0,1,1,1,0,1,1,1,0,1,1,1,0,1,0,1,1,1,1,1,1,1,1,0,1,1,1,1,1,1,0,1,1,1,1,0,0,1,1,0,1,0,1,0,1,1,0,0,0,0,1,1,1,0,1,1,1,1,1,1,1,1,1,1,1,1,0,0,0,1,0,0,1,1,1,1,1,1,0,0,1,1,1,1,1,1,0,1,1,1,1,1,1,1,1,1,1,0,1,0,1,1,1,1,1,0,0,0,1,0,1,1,1,1,0,1,1,1,0,0,1,1,0,1,1,0,1,1,0,0,1,1,0,0,0,0,0,0,1,0,1,1,1,1,0,1,1,1,1,1,1,0,0,0,1,1]
[1,0,1,0,0,0,0,0,0,0,0,0,0,1,0,0,1,0,0,null,1,0.4,1,0,0,1,0,0,1,1,1,1,1,1,1,0,0,0,0,0,0,0,1,0,1,0,0,0,0,0,1,0,0,0,1,1,0,0,1,0,0,0,0,1,1,0,0,0,0,1,0,0,0,0,0,1,0,0,1,0,0,0,1,1,1,0,0,1,0,1,0,0,1,1,0,0,0,0,0,0,1,0,1,0,1,0,0,0,0,0,1,1,1,1,0,0,0,1,0,1,1,0,0,0,1,1,1,1,0,0,1,0,0,0,0,1,0,0,1,1,0,0,1,0,0,1,1,1,0,0,0,1,0,0,1,0,1,1,0,0,1,1,1,1,0,1,0,0,0,1,1,1,0,0,0,0,0,0,1,0,0,1,1,1,0,0,1,0,0,0,0,0,1,1,0,0,1,1,0,0,0,1,0,0,1,0,0,1,0,1,0,0,1,1,0,1,1,1,0,0,1,0]
[0,0,1,0,0,0,0,0,0,0,0,0,1,0,0,0,0,0,1,null,1,0.45500000000000002,1,0,0,0,0,0,1,1,1,1,1,1,0,0,1,0,0,1,0,0,1,0,1,1,0,0,0,1,1,0,1,0,1,1,1,0,1,0,1,0,0,1,1,0,0,1,0,1,0,0,0,1,0,0,0,0,0,1,1,0,0,1,1,1,1,0,1,0,1,0,1,1,0,0,0,1,0,0,1,0,0,0,1,0,0,0,0,0,1,1,0,0,1,0,0,1,0,0,1,0,1,1,1,1,1,1,1,0,1,0,0,0,0,1,0,0,1,1,1,1,1,1,0,0,1,1,0,0,0,1,0,0,1,0,1,1,1,0,1,1,1,0,1,0,1,0,1,1,1,0,0,0,0,0,1,1,1,0,0,1,1,1,0,0,1,0,0,0,0,0,1,1,0,0,1,1,0,0,0,0,0,0,0,0,1,1,0,0,0,0,1,1,0,1,1,0,0,0,1,0]
[0,1,0,1,0,0,0,1,0,0,0,0,0,0,1,0,0,0,0,null,1,0.53,1,0,1,0,0,0,1,1,1,1,1,1,0,1,0,1,1,0,0,1,1,1,1,0,0,1,0,0,1,1,0,1,1,1,0,1,1,0,0,0,1,1,1,1,0,0,1,1,0,1,1,0,0,0,1,1,0,0,1,1,0,1,1,0,0,0,0,0,0,1,0,1,1,1,0,0,1,1,1,0,0,1,1,0,1,0,1,0,1,0,0,0,0,0,1,1,1,0,1,1,0,0,1,1,1,1,0,1,1,1,0,0,0,1,0,0,1,1,0,0,1,0,0,0,1,1,1,1,1,1,0,1,1,1,1,1,0,1,1,1,1,0,0,0,0,1,0,1,1,0,0,0,1,0,0,0,1,1,0,1,1,1,0,0,1,1,0,1,1,0,1,1,0,0,1,1,0,0,0,0,0,0,0,0,0,1,1,0,0,1,0,1,1,1,1,0,0,0,1,1]
[1,0,1,0,0,0,0,1,0,0,0,0,0,0,0,0,1,0,1,null,1,0.75,1,0,1,1,0,0,1,1,1,1,1,1,1,1,1,1,1,1,0,1,1,1,1,1,0,1,0,1,1,1,1,1,1,1,1,1,1,0,1,0,1,1,1,1,0,1,1,1,0,1,1,1,0,0,1,1,1,1,0,1,0,1,1,1,1,0,1,1,1,1,1,1,1,1,0,1,1,1,1,0,1,1,1,0,1,0,1,0,1,1,1,1,0,0,1,1,1,1,1,1,1,1,1,1,1,1,1,1,1,1,0,0,0,1,0,0,1,1,1,1,1,1,0,1,1,1,1,1,1,1,0,1,1,1,1,1,1,1,1,1,1,1,1,1,1,1,1,1,1,1,0,0,1,0,1,1,1,1,0,1,1,1,0,0,1,1,0,1,1,0,1,1,0,0,1,1,0,0,0,1,0,0,0,0,1,1,1,0,0,1,1,1,1,1,1,1,0,0,1,1]
[0,0,1,0,0,0,0,0,0,0,0,0,0,0,0,0,1,0,0,null,1,0.38,1,0,0,1,0,0,1,1,1,1,1,1,1,0,0,0,0,0,0,0,1,0,1,0,0,0,0,0,1,0,0,0,1,1,0,0,1,0,0,0,0,1,1,0,0,0,0,1,0,0,0,0,0,0,0,0,1,0,1,0,0,1,1,0,0,0,0,1,0,0,1,1,0,0,0,0,0,0,1,0,1,0,1,0,0,0,0,0,1,1,1,1,0,0,0,1,0,1,1,0,0,0,1,1,1,1,0,0,1,0,0,0,0,1,0,0,1,1,0,0,1,0,0,1,1,1,0,0,0,1,0,0,1,0,1,1,0,0,1,1,1,1,0,1,0,0,0,1,1,1,0,0,0,0,0,0,1,0,0,1,1,1,0,0,1,0,0,0,0,0,1,1,0,0,{"$f":"IF(OFFSET($A57,0,GO$1)=GO$2,1,0)","v":1},1,0,0,0,1,0,0,0,0,0,1,0,0,0,0,1,1,0,1,1,1,0,0,1,0]
[0,1,1,0,0,0,0,1,0,0,0,0,1,0,0,0,0,0,0,null,1,0.55000000000000004,1,0,1,0,0,0,1,1,1,1,1,1,0,1,0,1,1,0,0,1,1,1,1,0,0,1,0,0,1,1,0,1,1,1,0,1,1,0,0,0,1,1,1,1,0,0,1,1,0,1,1,0,0,0,1,1,0,0,1,1,0,1,1,0,0,0,0,0,0,1,1,1,1,1,0,0,1,1,1,0,0,1,1,0,1,0,1,0,1,1,0,0,1,0,1,1,1,0,1,1,0,0,1,1,1,1,0,1,1,1,0,0,0,1,0,0,1,1,0,0,1,0,0,0,1,1,1,1,1,1,0,1,1,1,1,1,0,1,1,1,1,0,0,0,0,1,0,1,1,0,0,0,1,0,0,0,1,1,0,1,1,1,0,0,1,1,0,1,1,0,1,1,{"$f":"IF(OFFSET($A58,0,GM$1)=GM$2,1,0)","v":0},0,1,1,0,0,0,0,0,0,0,0,0,1,1,0,0,1,1,1,1,1,1,0,0,0,1,1]
[1,0,0,0,0,0,0,1,0,0,0,0,0,0,0,0,0,0,1,null,1,0.68,1,0,1,0,0,0,1,1,1,1,1,1,0,1,1,{"$f":"IF(OFFSET($A59,0,AL$1)=AL$2,1,0)","v":1},1,1,0,1,1,1,1,1,0,1,0,1,1,1,1,1,1,1,1,1,1,0,1,0,1,1,1,1,0,1,1,1,0,1,1,1,0,0,1,1,0,1,0,1,0,1,1,1,1,0,1,0,1,1,1,1,1,1,0,1,1,1,1,0,0,1,1,0,1,0,1,0,1,1,0,0,0,0,1,1,1,0,1,1,1,1,1,1,1,1,1,1,1,1,0,0,0,1,0,0,1,1,1,1,1,1,0,{"$f":"IF(OFFSET($A59,0,EP$1)=EP$2,1,0)","v":0},1,1,1,1,1,1,0,1,1,1,1,1,1,1,1,1,1,0,1,0,1,1,1,1,1,0,0,0,1,0,1,1,1,1,{"$f":"IF(OFFSET($A59,0,FY$1)=FY$2,1,0)","v":0},1,1,1,0,0,1,1,0,1,1,0,1,1,0,0,1,1,0,0,0,0,0,0,0,0,1,1,1,0,0,1,1,1,1,1,1,0,0,0,1,1]
[1,0,0,1,0,0,0,1,1,0,0,0,0,0,0,0,1,0,0,null,1,0.755,{"$f":"IF(OFFSET($A60,0,W$1)=W$2,1,0)","v":1},1,1,1,1,1,1,1,1,1,1,1,1,1,0,1,1,0,0,1,1,1,1,0,1,1,0,0,1,1,0,1,1,1,0,1,1,1,0,1,1,1,1,1,1,0,1,1,1,1,1,0,1,0,1,1,1,0,0,1,0,1,1,0,0,0,0,1,0,1,1,1,1,1,0,0,1,1,1,1,1,1,1,1,1,0,1,1,1,1,1,1,0,0,1,1,1,1,1,1,0,0,1,1,1,1,0,1,1,{"$f":"IF(OFFSET($A60,0,EB$1)=EB$2,1,0)","v":1},0,1,0,1,0,1,1,1,0,0,1,0,1,1,1,1,1,1,1,1,1,1,1,1,1,1,0,1,1,1,1,1,0,1,0,1,0,1,1,1,1,0,1,1,0,0,1,1,0,1,1,1,0,1,1,1,1,1,1,1,1,1,0,1,1,1,1,0,0,1,1,1,0,1,0,1,1,0,1,1,1,1,1,1,1,1,1,1,1,1]
[1,0,0,0,0,0,0,0,1,0,0,1,0,0,0,0,0,0,0,null,1,0.45500000000000002,1,1,0,0,1,1,1,1,1,1,1,1,0,0,0,0,0,0,0,0,1,0,1,0,1,0,0,0,1,0,0,0,1,1,0,0,1,1,0,1,0,1,1,0,1,0,0,1,1,0,0,0,1,0,0,0,0,0,0,0,0,1,1,0,0,0,0,0,0,0,1,1,0,0,0,0,0,0,1,1,0,0,1,1,0,0,0,1,1,1,0,0,0,0,0,1,0,0,1,0,0,0,1,1,1,1,0,0,1,0,0,1,0,1,0,1,1,1,0,0,1,0,1,0,1,1,0,0,0,1,1,0,{"$f":"IF(OFFSET($A61,0,EY$1)=EY$2,1,0)","v":1},0,1,1,0,0,1,1,1,0,0,0,0,0,0,1,1,0,1,0,0,1,0,0,1,0,0,1,1,1,1,1,1,0,1,0,0,1,1,1,0,1,1,1,1,0,0,0,1,1,0,1,0,1,0,0,1,0,1,1,0,1,1,0,1,1,1,0]
[0,1,0,0,0,0,0,0,1,0,0,0,0,0,0,0,0,0,0,null,1,0.45500000000000002,1,1,0,0,1,1,1,1,1,1,1,1,0,0,0,0,0,0,0,0,1,0,1,0,1,0,0,0,1,0,0,0,1,1,0,0,1,1,0,1,0,1,1,0,1,0,{"$f":"IF(OFFSET($A62,0,BQ$1)=BQ$2,1,0)","v":0},1,1,0,0,0,1,0,0,0,0,0,1,0,0,1,1,0,0,0,0,0,0,{"$f":"IF(OFFSET($A62,0,CN$1)=CN$2,1,0)","v":0},1,1,0,0,0,0,0,0,1,1,0,0,1,1,0,0,0,1,1,1,0,0,0,0,0,1,0,0,1,0,0,0,1,1,1,1,0,0,1,0,0,1,0,1,0,1,1,1,0,0,1,0,1,0,1,1,0,0,0,1,1,0,1,0,1,1,0,0,1,1,1,0,0,0,0,0,0,1,1,0,1,0,0,1,0,0,1,0,0,1,1,1,0,1,1,0,1,0,0,1,1,1,0,1,1,1,1,0,0,0,1,1,0,1,0,1,0,0,1,0,1,1,0,1,1,0,1,1,1,0]
[0,1,0,0,0,0,0,1,1,0,0,0,0,0,0,0,0,0,0,null,1,0.69,1,1,1,0,1,1,1,1,1,1,1,1,0,1,0,1,1,0,0,1,1,1,1,0,1,1,0,0,1,1,0,{"$f":"IF(OFFSET($A63,0,BB$1)=BB$2,1,0)","v":1},1,1,0,1,1,1,0,1,1,1,1,1,1,0,1,1,1,1,1,0,1,0,1,1,0,0,1,1,0,1,1,{"$f":"IF(OFFSET($A63,0,CH$1)=CH$2,1,0)","v":0},0,0,0,0,0,1,1,1,1,1,0,0,1,1,1,1,0,1,1,1,1,0,1,1,1,1,0,0,0,0,1,1,1,0,1,1,0,0,1,1,1,1,0,1,1,1,0,1,0,1,0,1,1,1,0,0,1,0,1,0,1,1,1,1,1,1,1,1,1,1,1,1,0,1,1,1,1,0,0,0,0,1,0,1,1,0,1,0,1,1,0,0,1,1,0,1,1,1,0,1,1,1,1,1,1,1,1,1,0,1,1,1,1,0,0,0,1,1,0,1,0,1,1,0,1,1,1,1,1,1,1,0,1,1,1,1]
[1,0,0,1,0,1,0,0,0,0,0,0,0,0,1,0,0,0,0,null,0,0.125,1,0,0,0,0,0,1,0,0,0,0,0,0,0,0,0,0,0,0,0,0,0,0,0,0,0,0,0,1,0,0,0,0,1,0,0,1,0,0,0,0,0,1,0,0,0,0,1,0,0,0,0,0,0,0,0,0,0,0,0,0,0,0,0,0,0,0,0,0,0,0,1,0,0,0,0,0,0,0,0,0,0,1,0,0,0,0,0,0,0,0,0,0,0,0,1,0,0,0,0,0,0,1,1,0,0,0,0,0,0,0,0,0,1,0,0,0,0,0,0,0,0,0,0,1,1,0,0,0,1,0,0,1,0,0,1,0,0,0,0,1,0,0,0,0,0,0,1,0,0,0,0,0,0,0,0,0,0,0,0,0,0,0,0,0,0,0,0,0,0,1,0,0,0,0,0,0,0,0,0,0,0,0,0,0,1,0,0,0,0,0,1,0,1,0,0,0,0,1,0]
[1,0,1,0,0,0,0,0,0,0,0,0,0,0,1,0,0,1,1,null,0,0.37,1,0,0,0,0,0,1,1,1,1,1,1,0,0,1,0,0,1,0,0,1,0,1,1,0,0,0,1,0,0,1,0,1,1,1,0,1,0,1,0,0,1,0,0,0,1,0,0,0,0,0,1,0,0,0,0,0,1,0,0,0,1,1,1,1,0,1,0,1,0,0,0,0,0,0,1,0,0,1,0,0,0,0,0,0,0,0,0,1,0,{"$f":"IF(OFFSET($A65,0,DI$1)=DI$2,1,0)","v":0},0,0,0,0,0,0,0,1,0,1,1,1,0,1,1,1,0,1,0,0,0,0,0,0,0,1,1,1,1,1,1,0,0,1,1,0,0,0,1,0,0,1,0,1,0,1,0,1,1,1,0,1,0,1,0,1,0,1,0,0,0,0,0,1,1,1,0,0,1,1,1,0,0,1,0,0,0,0,0,1,1,0,0,1,1,0,0,0,0,0,0,0,0,1,1,0,0,0,0,0,0,0,0,1,0,0,0,1,0]
[0,0,0,0,0,0,0,0,0,0,0,0,0,0,0,0,0,1,0,null,0,0.25,1,0,0,0,0,0,1,1,1,1,1,1,0,0,0,0,0,0,0,0,1,0,1,0,0,0,0,0,0,0,0,0,1,1,0,0,1,0,0,0,0,1,0,0,0,0,0,0,0,0,0,0,0,0,0,0,0,0,1,0,0,1,1,0,0,0,0,0,0,0,1,0,0,0,0,0,0,0,1,0,0,0,0,0,0,{"$f":"IF(OFFSET($A66,0,DD$1)=DD$2,1,0)","v":0},0,0,1,1,0,0,0,0,0,0,0,0,1,0,0,0,1,0,1,1,0,0,1,0,0,0,0,0,0,0,1,1,0,0,1,0,0,0,1,1,0,0,0,1,0,0,1,0,1,0,0,0,1,1,1,0,0,0,0,0,0,0,1,0,0,0,0,0,0,0,1,0,0,1,1,1,0,0,1,0,0,0,0,0,1,1,0,0,1,1,0,0,0,0,0,0,0,0,0,1,0,0,0,0,1,0,0,0,1,0,0,0,1,0]
[0,0,1,0,0,0,0,0,0,0,0,0,0,0,1,0,0,0,0,null,0,0.29499999999999998,1,0,0,0,0,0,1,1,1,1,1,1,0,0,0,0,0,0,0,0,1,0,1,0,0,0,0,0,1,0,0,0,1,1,0,0,1,0,0,0,0,1,1,0,0,0,0,1,0,0,0,0,0,0,0,0,0,0,1,0,0,1,1,0,0,0,0,0,0,0,0,1,0,0,0,0,0,0,1,0,0,0,1,0,0,0,0,0,1,0,0,0,0,0,0,1,0,0,1,0,0,0,1,1,1,1,0,0,1,0,0,0,0,1,0,0,1,1,0,0,1,0,0,0,1,1,0,0,0,1,0,0,1,0,1,1,0,0,1,1,1,0,0,0,0,0,0,1,1,0,0,0,0,{"$f":"IF(OFFSET($A67,0,FT$1)=FT$2,1,0)","v":0},0,0,1,0,0,1,1,1,0,0,1,0,0,0,0,0,1,1,0,0,1,1,0,0,0,0,0,0,0,0,0,1,0,0,0,0,0,1,0,1,1,0,0,0,1,0]
[1,0,1,0,0,0,0,0,0,0,0,0,0,0,0,0,0,0,0,null,0,0.30499999999999999,1,0,0,0,0,0,1,1,1,1,1,1,0,0,0,0,0,0,0,0,1,0,1,0,0,0,0,0,1,0,0,0,1,1,0,0,1,0,0,0,0,1,1,0,0,0,0,1,0,0,0,0,0,0,0,0,0,0,0,0,0,1,1,0,0,0,0,0,0,0,1,1,0,0,0,0,0,0,1,0,0,0,1,0,0,0,0,0,1,1,0,0,0,0,0,1,0,0,1,0,0,0,1,1,1,1,0,0,1,0,0,0,0,1,0,0,1,1,0,0,1,0,0,0,1,1,0,0,0,1,0,0,1,0,1,1,0,0,1,1,1,0,0,0,0,0,0,1,{"$f":"IF(OFFSET($A68,0,FO$1)=FO$2,1,0)","v":1},0,0,0,0,0,0,0,1,0,0,1,1,1,0,0,1,0,0,0,0,0,1,1,0,0,1,1,0,0,0,0,0,0,0,0,0,1,0,0,0,0,1,1,0,1,1,0,0,0,1,0]
[0,1,0,0,0,0,0,0,0,0,0,0,0,0,1,0,0,1,0,null,0,{"$f":"AVERAGE(W69:HN69)","v":0.23499999999999999},1,0,0,0,0,0,1,1,1,1,1,1,0,0,0,0,0,0,0,0,1,0,1,0,0,0,0,0,0,0,0,0,1,1,0,0,1,0,0,0,0,1,0,0,0,0,0,0,0,0,0,0,0,0,0,0,0,0,1,0,0,1,1,0,0,0,0,0,0,0,0,0,0,0,0,0,0,0,1,0,0,0,0,0,0,0,0,0,1,0,0,0,0,0,0,0,0,0,1,0,0,0,1,0,1,1,0,0,1,0,0,0,0,0,0,0,1,1,0,0,1,0,0,0,1,1,0,0,0,1,0,0,1,0,1,0,0,0,1,1,1,0,0,0,0,0,0,0,1,0,0,0,0,0,0,0,1,0,0,1,1,1,0,0,1,0,0,0,0,0,1,1,0,0,1,1,0,0,0,0,0,0,0,0,0,1,0,0,0,0,0,0,0,0,1,0,0,0,1,0]
[0,0,0,0,0,0,0,0,0,0,0,0,0,0,1,0,0,1,0,null,0,0.23499999999999999,1,0,0,0,0,0,1,1,1,1,1,1,0,0,0,0,0,0,0,0,1,0,1,0,0,0,0,0,0,0,0,0,1,1,0,0,1,0,0,0,0,1,0,0,0,0,0,0,0,0,0,0,0,0,0,0,0,0,1,0,0,1,1,0,0,0,0,0,0,0,0,0,0,0,0,0,0,0,1,0,0,0,0,0,0,0,0,0,1,0,0,0,0,0,0,0,0,0,1,0,0,0,1,0,1,1,0,0,1,0,0,0,0,0,0,0,1,1,0,0,1,0,0,0,1,1,0,0,0,1,0,0,1,0,1,0,0,0,1,1,1,0,0,0,0,0,0,0,1,0,0,0,0,0,0,0,1,0,0,1,1,1,0,0,1,0,0,0,0,0,1,1,0,0,1,1,0,0,0,0,0,0,0,0,0,1,0,0,0,0,0,0,0,0,1,0,0,0,1,0]
[0,1,1,0,0,1,0,0,0,0,0,0,0,0,0,0,0,0,0,null,0,0.14499999999999999,1,0,0,0,0,0,1,0,0,0,0,0,0,0,0,0,0,0,0,0,0,0,0,0,0,0,0,0,1,0,0,0,0,1,0,0,1,0,0,0,0,0,1,0,0,0,0,1,0,0,0,0,0,0,0,0,0,0,1,0,0,0,0,0,0,0,0,0,0,0,1,1,0,0,0,0,0,0,0,0,0,0,1,0,0,0,0,0,0,1,0,0,0,0,0,1,0,0,0,0,0,0,1,1,0,0,0,0,0,0,0,0,0,1,0,0,0,0,0,0,0,0,0,0,1,1,0,0,0,1,0,0,1,0,0,1,0,0,0,0,1,0,0,0,0,0,0,1,0,0,0,0,0,0,0,0,0,0,0,0,0,0,0,0,0,0,0,0,0,0,1,0,0,0,0,0,0,0,0,0,0,0,0,0,0,1,0,0,0,0,1,1,0,1,0,0,0,0,1,0]
[0,0,0,1,0,0,0,0,0,0,0,0,0,0,0,0,0,1,0,null,0,0.25,1,0,0,0,0,0,1,1,1,1,1,1,0,0,0,0,0,0,0,0,1,0,1,0,0,0,0,0,0,0,0,0,1,1,0,0,1,0,0,0,0,1,0,0,0,0,0,0,0,0,0,0,0,0,0,0,0,0,1,0,0,1,1,0,0,0,0,0,0,0,1,0,0,0,0,0,0,0,1,0,0,0,0,0,0,0,0,0,1,1,0,0,0,0,0,0,0,0,1,0,0,0,1,0,1,1,0,0,1,0,0,0,0,0,0,0,1,1,0,0,1,0,0,0,1,1,0,0,0,1,0,0,1,0,1,0,0,0,1,1,1,0,0,0,0,0,0,0,1,0,0,0,0,0,0,0,1,0,0,1,1,1,0,0,1,0,0,0,0,0,1,1,0,0,1,1,0,0,0,0,0,0,0,0,0,1,0,0,0,0,1,0,0,0,1,0,0,0,1,0]
[1,0,1,0,0,0,0,0,0,0,0,0,0,0,0,0,0,0,0,null,0,0.30499999999999999,1,0,0,0,0,0,1,1,1,1,1,1,0,0,0,0,0,0,0,0,1,0,1,0,0,0,0,0,1,0,0,0,1,1,0,0,1,0,0,0,0,1,1,0,0,0,0,1,0,0,0,0,0,0,0,0,0,0,0,0,0,1,1,0,0,0,0,0,0,0,1,1,0,0,0,0,0,0,1,0,0,0,1,0,0,0,0,0,1,1,0,0,0,0,0,1,0,0,1,0,0,0,1,1,1,1,0,0,1,0,0,0,0,1,0,0,1,1,0,0,1,0,0,0,1,1,0,0,0,1,0,0,1,0,1,1,0,0,1,1,1,0,0,0,0,0,0,1,1,0,0,0,0,0,0,0,1,0,0,1,1,1,0,0,1,0,0,0,0,0,1,1,0,0,1,1,0,0,0,0,0,0,0,0,0,1,0,0,0,0,1,1,0,1,1,0,0,0,1,0]
[0,0,0,1,0,0,0,0,0,0,0,0,0,0,0,0,0,0,0,null,0,0.31,1,0,0,0,0,0,1,1,1,1,1,1,0,0,0,0,0,0,0,0,1,0,1,0,0,0,0,0,1,0,0,0,1,1,0,0,1,0,0,0,0,1,1,0,0,0,0,1,0,0,0,0,0,0,0,0,0,0,1,0,0,1,1,0,0,0,0,0,0,0,1,1,0,0,0,0,0,0,1,0,0,0,1,0,0,0,0,0,1,1,0,0,0,0,0,1,0,0,1,0,0,0,1,1,1,1,0,0,1,0,0,0,0,1,0,0,1,1,0,0,1,0,0,0,1,1,0,0,0,1,0,0,1,0,1,1,0,0,1,1,1,0,0,0,0,0,0,1,1,0,0,0,0,0,0,0,1,0,0,1,1,1,0,0,1,0,0,0,0,0,1,1,0,0,1,1,0,0,0,0,0,0,0,0,0,1,0,0,0,0,1,1,0,1,1,0,0,0,1,0]
[0,1,1,0,0,1,0,0,0,0,0,0,0,0,0,0,0,0,0,null,0,0.14499999999999999,1,0,0,0,0,0,1,0,0,0,0,0,0,0,0,{"$f":"IF(OFFSET($A75,0,AL$1)=AL$2,1,0)","v":0},0,0,0,0,0,0,0,0,0,0,0,0,1,0,0,0,0,1,0,0,1,0,0,0,0,0,1,0,0,0,0,1,0,0,0,0,0,0,0,0,0,0,1,0,0,0,0,0,0,0,0,0,0,0,1,1,0,0,0,0,0,0,0,0,0,0,1,0,0,0,0,0,0,1,0,0,0,0,0,1,0,0,0,0,0,0,1,1,0,0,0,0,0,0,0,0,0,1,0,0,0,0,0,0,0,0,0,0,{"$f":"IF(OFFSET($A75,0,EQ$1)=EQ$2,1,0)","v":1},1,0,0,0,1,0,0,1,0,0,1,0,0,0,0,1,0,0,0,0,0,0,1,0,0,0,0,0,0,0,0,0,0,0,0,0,0,0,0,0,0,0,0,0,0,1,0,0,0,0,0,0,0,0,0,0,0,0,0,0,1,0,0,0,0,1,1,0,1,0,0,0,0,1,0]
[0,1,0,1,0,0,0,0,0,0,0,0,0,0,0,0,0,0,0,null,0,0.31,{"$f":"IF(OFFSET($A76,0,W$1)=W$2,1,0)","v":1},0,0,0,0,0,1,1,1,1,1,1,0,0,0,0,0,0,0,0,1,0,1,0,0,0,0,0,1,0,0,0,1,1,0,0,1,0,0,0,0,1,1,0,0,0,0,1,0,0,0,0,0,0,0,0,0,0,1,0,0,1,1,0,0,0,0,0,0,0,1,1,0,0,0,0,0,0,1,0,0,0,1,0,0,0,0,0,1,1,0,0,0,0,0,1,0,0,1,0,0,0,1,1,1,1,0,0,1,{"$f":"IF(OFFSET($A76,0,EB$1)=EB$2,1,0)","v":0},0,0,0,1,0,0,1,1,0,0,1,0,0,0,1,1,0,0,0,1,0,0,1,0,1,1,0,0,1,1,1,0,0,0,0,0,0,1,1,0,0,0,0,0,0,0,1,0,0,1,1,1,0,0,1,0,0,0,0,0,1,1,0,0,1,{"$f":"IF(OFFSET($A76,0,GP$1)=GP$2,1,0)","v":1},0,0,0,0,0,0,0,0,0,1,0,0,0,0,1,1,0,1,1,0,0,0,1,0]
[1,0,1,0,0,0,0,0,0,0,0,0,0,0,0,0,1,0,0,null,0,0.375,1,0,0,1,0,0,1,1,1,1,1,1,1,0,0,0,0,0,0,0,1,0,1,0,0,0,0,0,1,0,0,0,1,1,0,0,1,0,0,0,0,1,1,0,0,0,0,1,0,0,0,0,0,0,0,0,1,0,0,0,0,1,{"$f":"IF(OFFSET($A77,0,CG$1)=CG$2,1,0)","v":1},0,0,0,0,1,0,0,1,1,0,0,0,0,0,0,1,0,1,0,1,0,0,0,0,0,1,1,1,1,0,0,0,1,0,1,1,0,0,0,1,1,1,1,0,0,{"$f":"IF(OFFSET($A77,0,EA$1)=EA$2,1,0)","v":1},0,0,0,0,1,0,0,1,1,0,0,1,0,0,1,1,1,0,0,0,1,0,0,1,0,1,1,0,0,1,1,1,1,0,1,0,0,0,1,1,1,0,0,0,0,0,0,1,0,0,1,1,1,0,0,1,0,0,0,0,0,1,1,0,0,{"$f":"IF(OFFSET($A77,0,GO$1)=GO$2,1,0)","v":1},1,0,0,0,1,0,0,0,0,0,1,0,0,0,0,1,1,0,1,1,1,0,0,1,0]
[0,0,0,0,0,0,0,0,0,0,0,0,0,0,0,0,0,1,0,null,0,0.25,1,0,0,0,0,0,1,1,1,1,1,1,0,0,0,0,0,0,0,0,1,0,1,0,0,0,0,0,0,0,0,0,1,1,0,0,1,0,0,0,0,1,0,0,0,0,{"$f":"IF(OFFSET($A78,0,BQ$1)=BQ$2,1,0)","v":0},0,0,0,0,0,0,0,0,0,0,0,1,0,0,1,1,0,0,0,0,0,0,0,1,0,0,0,0,0,0,0,1,0,0,0,0,0,0,0,0,0,1,1,0,0,0,0,0,0,0,0,1,0,0,0,1,0,1,1,{"$f":"IF(OFFSET($A78,0,DY$1)=DY$2,1,0)","v":0},0,1,0,0,0,0,0,0,0,1,1,0,0,1,0,0,0,1,1,0,0,0,1,0,0,1,0,1,0,0,0,1,1,1,0,0,0,0,0,0,0,1,0,0,0,0,0,0,0,1,0,0,1,1,1,0,0,1,0,0,0,0,0,1,1,0,0,1,1,0,0,0,0,0,0,0,0,0,1,0,0,0,0,1,0,0,0,1,0,0,0,1,0]
[0,0,1,0,0,1,1,0,0,0,0,0,0,0,0,0,0,1,0,null,0,0.02,0,0,0,0,0,0,0,0,0,0,0,0,0,0,0,0,0,0,0,0,0,0,0,0,0,0,0,0,0,0,0,{"$f":"IF(OFFSET($A79,0,BB$1)=BB$2,1,0)","v":0},0,0,0,0,0,0,0,0,0,0,0,0,0,0,0,0,0,0,0,0,0,0,0,0,0,0,1,0,0,0,0,0,0,0,0,0,{"$f":"IF(OFFSET($A79,0,CM$1)=CM$2,1,0)","v":0},0,1,0,0,0,0,0,0,0,0,0,0,0,0,0,0,0,0,0,0,1,0,0,0,0,0,0,0,0,0,0,0,0,0,0,0,0,0,0,0,0,0,0,0,0,0,0,0,0,0,0,0,0,0,0,0,0,0,0,0,0,0,0,0,0,0,0,0,0,0,0,0,0,0,0,0,0,0,0,0,0,0,0,0,0,0,0,0,0,0,0,0,0,0,0,0,0,0,0,0,0,0,0,0,0,0,0,0,0,0,0,0,0,0,0,0,0,0,0,0,0,1,0,0,0,0,0,0,0,0,0]
[1,0,0,0,0,1,0,0,0,0,0,0,0,0,0,0,0,0,0,null,0,0.14000000000000001,1,0,0,0,0,0,1,0,0,0,0,0,0,0,0,0,0,0,0,0,0,0,0,0,0,0,0,0,1,0,0,0,0,1,0,0,1,0,0,0,0,0,1,0,0,0,0,1,0,0,0,0,0,0,0,0,0,0,0,0,0,0,0,0,0,0,0,0,0,0,1,1,0,0,0,0,0,0,0,0,0,0,1,0,0,0,0,0,0,1,0,0,0,0,0,1,0,0,0,0,0,0,1,1,0,0,0,0,0,0,0,0,0,1,0,0,0,0,0,0,0,0,0,0,1,1,0,0,0,1,0,0,1,0,0,1,0,0,{"$f":"IF(OFFSET($A80,0,FE$1)=FE$2,1,0)","v":0},0,1,0,0,0,0,0,0,1,0,0,0,0,0,0,0,0,0,0,0,0,0,0,0,0,0,0,0,0,0,0,1,0,0,0,0,0,0,0,0,0,0,0,0,0,0,1,0,0,0,0,1,1,0,1,0,0,0,0,1,0]
[0,0,1,0,0,0,0,0,0,0,0,0,0,0,1,0,0,1,1,null,0,0.375,1,0,0,0,0,0,1,1,1,1,1,1,0,0,1,0,0,1,0,0,1,0,1,1,0,0,0,1,0,0,1,0,1,1,1,0,1,0,1,0,0,1,0,0,0,1,0,0,0,0,0,1,0,0,0,0,0,1,1,0,0,1,1,1,1,0,1,0,1,0,0,0,0,0,0,1,0,0,1,0,0,0,0,0,0,0,0,0,1,0,0,0,0,0,0,0,0,0,1,0,{"$f":"IF(OFFSET($A81,0,DS$1)=DS$2,1,0)","v":1},1,1,0,1,1,1,0,1,0,0,0,0,0,0,0,1,1,1,1,1,1,0,0,1,1,0,0,0,1,0,0,1,0,1,0,1,0,1,1,1,0,1,0,1,0,1,0,1,0,0,0,0,0,1,1,1,0,0,1,1,1,0,0,1,0,0,0,0,0,1,1,0,0,1,1,0,0,0,0,0,0,0,0,1,1,0,0,0,0,0,0,0,0,1,0,0,0,1,0]
[0,0,1,0,0,0,0,0,0,0,0,0,0,0,0,0,0,1,0,null,0,0.25,1,0,0,0,0,0,1,1,1,1,1,1,0,0,0,0,0,0,0,0,1,0,1,0,0,0,0,0,0,0,0,0,1,1,0,0,1,0,0,0,0,1,0,0,0,0,0,0,0,0,0,0,0,0,0,0,0,0,1,0,0,1,1,0,0,0,0,0,0,0,1,0,0,0,0,0,0,0,1,0,0,0,0,0,0,{"$f":"IF(OFFSET($A82,0,DD$1)=DD$2,1,0)","v":0},0,0,1,1,0,0,0,0,0,0,0,0,1,0,0,0,1,0,1,1,0,0,1,0,0,0,0,0,0,0,1,1,0,0,1,0,0,0,1,1,0,0,0,1,0,0,1,0,1,0,0,0,1,1,1,0,0,0,0,0,0,0,1,0,0,0,0,0,0,0,1,0,0,1,1,1,0,0,1,0,0,0,0,0,1,1,0,0,1,1,0,0,0,0,0,0,0,0,0,1,0,0,0,0,1,0,0,0,1,0,0,0,1,0]
[0,1,0,0,0,1,0,0,0,0,0,0,0,0,0,0,0,0,0,null,0,0.14499999999999999,1,0,0,0,0,0,1,0,0,0,0,0,0,0,0,0,0,0,0,0,0,0,0,0,0,0,0,0,1,0,0,0,0,1,0,0,1,0,0,0,0,0,1,0,0,0,0,1,0,0,0,0,0,0,0,0,0,0,1,0,0,0,0,0,0,0,0,0,0,0,1,1,0,0,0,0,0,0,0,0,0,0,1,0,0,0,0,0,0,1,0,0,0,0,0,1,0,0,0,0,0,0,1,1,0,0,0,0,0,0,0,0,0,1,0,0,0,0,0,0,0,0,0,0,1,1,0,0,0,1,0,0,1,0,0,1,0,0,0,0,1,0,0,0,0,0,0,1,0,0,0,0,0,0,0,0,0,0,0,0,0,0,0,0,0,0,0,0,0,0,1,0,0,0,0,0,0,0,0,0,0,0,0,0,0,1,0,0,0,0,1,1,0,1,0,0,0,0,1,0]
[1,0,1,0,0,0,0,0,0,0,0,0,0,0,1,0,0,0,0,null,0,0.28999999999999998,1,0,0,0,0,0,1,1,1,1,1,1,0,0,0,0,0,0,0,0,1,0,1,0,0,0,0,0,1,0,0,0,1,1,0,0,1,0,0,0,0,1,1,0,0,0,0,1,0,0,0,0,0,0,0,0,0,0,0,0,0,1,1,0,0,0,0,0,0,0,0,1,0,0,0,0,0,0,1,0,0,0,1,0,0,0,0,0,1,0,0,0,0,0,0,1,0,0,1,0,0,0,1,1,1,1,0,0,1,0,0,0,0,1,0,0,1,1,0,0,1,0,0,0,1,1,0,0,0,1,0,0,1,0,1,1,0,0,1,1,1,0,0,0,0,0,0,1,1,0,0,0,0,0,0,0,1,0,0,1,1,1,0,0,1,0,0,0,0,0,1,1,0,0,1,1,0,0,0,0,0,0,0,0,0,1,0,0,0,0,0,1,0,1,1,0,0,0,1,0]
[1,0,1,0,0,0,0,0,0,0,0,0,0,0,0,0,0,1,0,null,0,0.245,1,0,0,0,0,0,1,1,1,1,1,1,0,0,0,0,0,0,0,0,1,0,1,0,0,0,0,0,0,0,0,0,1,1,0,0,1,0,0,0,0,1,0,0,0,0,0,0,0,0,0,0,0,0,0,0,0,0,0,0,0,1,1,0,0,0,0,0,0,0,1,0,0,0,0,0,0,0,1,0,0,0,0,0,0,0,0,0,1,1,0,0,0,0,0,0,0,0,1,0,0,0,1,0,1,1,0,0,1,0,0,0,0,0,0,0,1,1,0,0,1,0,0,0,1,1,0,0,0,1,0,0,1,0,1,0,0,0,1,1,1,0,0,0,0,0,0,0,1,0,0,0,0,0,0,0,1,0,0,1,1,1,0,0,1,0,0,0,0,0,1,1,0,0,1,1,0,0,0,0,0,0,0,0,0,1,0,0,0,0,1,0,0,0,1,0,0,0,1,0]
[1,0,0,1,0,0,0,0,0,0,0,0,0,0,0,0,0,1,0,null,0,0.245,1,0,0,0,0,0,1,1,1,1,1,1,0,0,0,0,0,0,0,0,1,0,1,0,0,0,0,0,0,0,0,0,1,1,0,0,1,0,0,0,0,1,0,0,0,0,0,0,0,0,0,0,0,0,0,0,0,0,0,0,0,1,1,0,0,0,0,0,0,0,1,0,0,0,0,0,0,0,1,0,0,0,0,0,0,0,0,0,1,1,0,0,0,0,0,0,0,0,1,0,0,0,1,0,1,1,0,0,1,0,0,0,0,0,0,0,1,1,0,0,1,0,0,0,1,1,0,0,0,1,0,0,1,0,1,0,0,0,1,1,1,0,0,0,0,0,0,0,1,0,0,0,0,0,0,0,1,{"$f":"IF(OFFSET($A86,0,FX$1)=FX$2,1,0)","v":0},0,1,1,1,0,0,1,0,0,0,0,0,1,1,0,0,1,1,0,0,0,0,0,0,0,0,0,1,0,0,0,0,1,0,0,0,1,0,0,0,1,0]
[1,0,1,0,0,0,0,0,0,0,0,0,0,0,0,0,0,0,0,null,0,0.30499999999999999,1,0,0,0,0,0,1,1,1,1,1,1,0,0,0,0,0,0,0,0,1,0,1,0,0,0,0,0,1,0,0,0,1,1,0,0,1,0,0,0,0,1,1,0,0,0,0,1,0,0,0,0,0,0,0,0,0,0,0,0,0,1,1,0,0,0,0,0,0,0,1,1,0,0,0,0,0,0,1,0,0,0,1,0,0,0,0,0,1,1,0,0,0,0,0,1,0,0,1,0,0,0,1,1,1,1,0,0,1,0,0,0,0,1,0,0,1,1,0,0,1,0,0,0,1,1,0,0,0,1,0,0,1,0,1,1,0,0,1,1,1,0,0,0,0,0,0,1,1,0,0,0,0,0,{"$f":"IF(OFFSET($A87,0,FU$1)=FU$2,1,0)","v":0},0,1,0,0,1,1,1,0,0,1,0,0,0,0,0,1,1,0,0,1,1,0,0,0,0,0,0,0,0,0,1,0,0,0,0,1,1,0,1,1,0,0,0,1,0]
[0,1,0,0,0,0,0,0,0,0,0,0,0,0,0,0,0,0,0,null,0,0.31,1,0,0,0,0,0,1,1,1,1,1,1,0,0,0,0,0,0,0,0,1,0,1,0,0,0,0,0,1,0,0,0,1,1,0,0,1,0,0,0,0,1,1,0,0,0,0,1,0,0,0,0,0,0,0,0,0,0,1,0,0,1,1,0,0,0,0,0,0,0,1,1,0,0,0,0,0,0,1,0,0,0,1,0,0,0,0,0,1,1,0,0,0,0,0,1,0,0,1,0,0,0,1,1,1,1,0,0,1,0,0,0,0,1,0,0,1,1,0,0,1,0,0,0,1,1,0,0,0,1,0,0,1,0,1,1,0,0,1,1,1,0,0,0,0,0,0,1,1,0,0,0,0,0,0,0,1,0,0,1,1,1,0,0,1,0,0,0,0,0,1,1,0,0,1,1,0,0,0,0,0,0,0,0,0,1,0,0,0,0,1,1,0,1,1,0,0,0,1,0]
[1,0,1,0,0,0,0,0,0,0,0,0,0,0,0,0,0,0,0,null,0,0.30499999999999999,1,0,0,0,0,0,1,1,1,1,1,1,0,0,0,0,0,0,0,0,1,0,1,0,0,0,0,0,1,0,0,0,1,1,0,0,1,0,0,0,0,1,1,0,0,0,0,1,0,0,0,0,0,0,0,0,0,0,0,0,0,1,1,0,0,0,0,0,0,0,1,1,0,0,0,0,0,0,1,0,0,0,1,0,0,0,0,0,1,1,0,0,0,0,0,1,0,0,1,0,0,0,1,1,1,1,0,0,1,0,0,0,0,1,0,0,1,1,0,0,1,0,0,0,1,1,0,0,0,1,0,0,1,0,1,1,0,0,1,1,1,0,0,0,0,0,0,1,1,0,0,0,0,0,0,0,1,0,0,1,1,1,0,0,1,0,0,0,0,0,1,1,0,0,1,1,0,0,0,0,0,0,0,0,0,1,0,0,0,0,1,1,0,1,1,0,0,0,1,0]
[0,0,1,0,0,0,0,0,0,0,0,0,0,0,0,0,1,0,0,null,0,0.38,1,0,0,1,0,0,1,1,1,1,1,1,1,0,0,0,0,0,0,0,1,0,1,0,0,0,0,0,1,0,0,0,1,1,0,0,1,0,0,0,0,1,1,0,0,0,0,1,0,0,0,0,0,0,0,0,1,0,1,0,0,1,1,0,0,0,0,1,0,0,1,1,0,0,0,0,0,0,1,0,1,0,1,0,0,0,0,0,1,1,1,1,0,0,0,1,0,1,1,0,0,0,1,1,1,1,0,0,1,0,0,0,0,1,0,0,1,1,0,0,1,0,0,1,1,1,0,0,0,1,0,0,1,0,1,1,0,0,1,1,1,1,0,1,0,0,0,1,1,1,0,0,0,0,0,0,1,0,0,1,1,1,0,0,1,0,0,0,0,0,1,1,0,0,1,1,0,0,0,1,0,0,0,0,0,1,0,0,0,0,1,1,0,1,1,1,0,0,1,0]
[0,0,0,0,0,0,0,0,0,0,0,0,0,0,0,0,0,0,0,null,0,0.31,1,0,0,0,0,0,1,1,1,1,1,1,0,0,0,{"$f":"IF(OFFSET($A91,0,AL$1)=AL$2,1,0)","v":0},0,0,0,0,1,0,1,0,0,0,0,0,1,0,0,0,1,1,0,0,1,0,0,0,0,1,1,0,0,0,0,1,0,0,0,0,0,0,0,0,0,0,1,0,0,1,1,0,0,0,0,0,0,0,1,1,0,0,0,0,0,0,1,0,0,0,1,0,0,0,0,0,1,1,0,0,0,0,0,1,0,0,1,0,0,0,1,1,1,1,0,0,1,0,0,0,0,1,0,0,1,1,0,0,1,0,0,0,1,1,0,0,0,1,0,0,1,0,1,1,0,0,1,1,1,0,0,0,0,0,0,1,1,0,0,0,0,0,0,0,1,0,0,1,1,1,0,0,1,0,0,0,0,0,1,1,0,0,1,1,0,0,0,0,0,0,0,0,0,1,0,0,0,0,1,1,0,1,1,0,0,0,1,0]
[1,0,0,1,0,0,0,0,0,0,0,0,0,0,0,0,0,0,1,null,0,0.44500000000000001,{"$f":"IF(OFFSET($A92,0,W$1)=W$2,1,0)","v":1},0,0,0,0,0,1,1,1,1,1,1,0,0,1,0,0,1,0,0,1,0,1,1,0,0,0,1,1,0,1,0,1,1,1,0,1,0,1,0,0,1,1,0,0,1,0,1,0,0,0,1,0,0,0,0,0,1,0,0,0,1,1,1,1,0,1,0,1,0,1,1,0,0,0,1,0,0,1,0,0,0,1,0,0,0,0,0,1,1,0,0,0,0,0,1,0,0,1,0,1,1,1,1,1,1,1,0,1,0,0,0,0,1,0,0,1,1,1,1,1,1,0,0,1,1,0,0,0,1,0,0,1,0,1,1,1,0,1,1,1,0,1,0,1,0,1,1,1,0,0,0,0,0,1,1,1,0,0,1,1,1,0,0,1,0,0,0,0,0,1,1,0,0,1,1,0,0,0,0,0,0,0,0,1,1,0,0,0,{"$f":"IF(OFFSET($A92,0,HD$1)=HD$2,1,0)","v":0},1,1,0,1,1,0,0,0,1,0]
[1,0,0,0,0,0,0,0,0,0,0,0,0,0,1,0,0,0,0,null,0,0.28999999999999998,1,0,0,0,0,0,1,1,1,1,1,1,0,0,0,0,0,0,0,0,1,0,1,0,0,0,0,0,1,0,0,0,1,1,0,0,1,0,0,0,0,1,1,0,0,0,0,1,0,0,0,0,0,0,0,0,0,0,0,0,0,1,1,0,0,0,0,0,0,0,0,1,0,0,0,0,0,0,1,0,0,0,1,0,0,0,0,0,1,0,0,0,0,0,0,1,0,0,1,0,0,0,1,1,1,1,0,0,1,0,0,0,0,1,0,0,1,1,0,0,1,0,0,0,1,1,0,0,0,1,0,0,1,0,1,1,0,0,1,1,1,0,0,0,0,0,0,1,1,0,0,0,0,0,0,0,1,0,0,1,1,1,0,0,1,0,0,0,0,0,1,1,0,0,{"$f":"IF(OFFSET($A93,0,GO$1)=GO$2,1,0)","v":1},1,0,0,0,0,0,0,0,0,0,1,0,0,0,0,0,1,0,1,1,0,0,0,1,0]
[0,1,0,1,0,0,0,0,0,0,0,0,0,0,0,0,0,0,0,null,0,0.31,1,0,0,0,0,0,1,1,1,1,1,1,0,0,0,0,0,0,0,0,1,0,1,0,0,0,0,0,1,0,0,0,1,1,0,0,1,0,0,0,0,1,1,0,0,0,{"$f":"IF(OFFSET($A94,0,BQ$1)=BQ$2,1,0)","v":0},1,0,0,0,0,0,0,0,0,0,0,1,0,0,1,1,0,0,0,0,0,0,0,1,1,0,0,0,0,0,0,1,0,0,0,1,0,0,0,0,0,1,1,0,0,0,0,0,1,0,0,1,0,0,0,1,1,1,1,0,0,1,0,0,0,0,1,0,0,1,1,0,0,1,0,0,0,1,1,0,0,0,1,0,0,1,0,1,1,0,0,1,1,1,0,0,0,0,0,0,1,1,0,0,0,0,0,0,0,1,0,0,1,1,1,0,0,1,0,0,0,0,0,1,1,0,0,1,1,0,0,0,0,0,0,0,0,0,1,0,0,0,0,1,1,0,1,1,0,0,0,1,0]
[0,0,1,0,0,1,0,0,0,0,0,0,0,0,0,0,0,0,0,null,0,0.14499999999999999,1,0,0,0,0,0,1,0,0,0,0,0,0,0,0,0,0,0,0,0,0,0,0,0,0,0,0,0,1,0,0,{"$f":"IF(OFFSET($A95,0,BB$1)=BB$2,1,0)","v":0},0,1,0,0,1,0,0,0,0,0,1,0,0,0,0,1,0,0,0,0,0,0,0,0,0,0,1,0,0,0,0,0,0,0,0,0,{"$f":"IF(OFFSET($A95,0,CM$1)=CM$2,1,0)","v":0},0,1,1,0,0,0,0,0,0,0,0,0,0,1,0,0,0,0,0,0,1,0,0,0,0,0,1,0,0,0,0,0,0,1,1,0,0,0,0,0,0,0,0,0,1,0,0,0,0,0,0,0,0,0,0,1,1,0,0,0,1,0,0,1,0,0,1,0,0,0,0,1,0,0,0,0,0,0,1,0,0,0,0,0,0,0,0,0,0,0,0,0,0,0,0,0,0,0,0,0,0,1,0,0,0,0,0,0,0,0,0,0,0,0,0,0,1,0,0,0,0,1,1,0,1,0,0,0,0,1,0]
[0,0,1,0,0,0,0,0,0,0,0,0,0,0,0,0,0,0,0,null,0,0.31,1,0,0,0,0,0,1,1,1,1,1,1,0,0,0,0,0,0,0,0,1,0,1,0,0,0,0,0,1,0,0,0,1,1,0,0,1,0,0,0,0,1,1,0,0,0,0,1,0,0,0,0,0,0,0,0,0,0,1,0,0,1,{"$f":"IF(OFFSET($A96,0,CG$1)=CG$2,1,0)","v":1},0,0,0,0,0,0,0,1,1,0,0,0,0,0,0,1,0,0,0,1,0,0,0,0,0,1,1,0,0,0,0,0,1,0,0,1,0,0,0,1,1,1,1,0,0,1,0,0,0,0,1,0,0,1,1,0,0,1,0,0,0,1,1,0,0,0,1,{"$f":"IF(OFFSET($A96,0,EW$1)=EW$2,1,0)","v":0},0,1,0,1,1,0,0,1,1,1,0,0,0,0,0,0,1,1,0,0,0,0,0,0,0,1,0,0,1,1,1,0,0,1,0,0,0,0,0,1,1,0,0,1,1,0,0,0,0,0,0,0,0,0,1,0,0,0,0,1,1,0,1,1,0,0,0,1,0]
[1,0,0,1,0,0,0,0,0,0,0,0,0,0,0,0,0,0,0,null,0,0.30499999999999999,1,0,0,0,0,0,1,1,1,1,1,1,0,0,0,0,0,0,0,0,1,0,1,0,0,0,0,0,1,0,0,0,1,1,0,0,1,0,0,0,0,1,1,0,0,0,0,1,0,0,0,0,0,0,0,0,0,0,0,0,0,1,1,0,0,0,0,0,0,0,1,1,0,0,0,0,0,0,1,0,0,0,1,0,0,0,0,0,1,1,0,0,0,0,0,1,0,0,1,0,{"$f":"IF(OFFSET($A97,0,DS$1)=DS$2,1,0)","v":0},0,1,1,1,1,0,0,1,0,0,0,0,1,0,0,1,1,0,0,1,0,0,0,1,{"$f":"IF(OFFSET($A97,0,ER$1)=ER$2,1,0)","v":1},0,0,0,1,0,0,1,0,1,1,0,0,1,1,1,0,0,0,0,0,0,1,1,0,0,0,0,0,0,0,1,0,0,1,1,1,0,0,1,0,0,0,0,0,1,1,0,0,1,1,0,0,0,0,0,0,0,0,0,1,0,0,0,0,1,1,0,1,1,0,0,0,1,0]
[0,1,0,0,0,1,0,0,0,0,0,0,0,0,0,0,0,0,0,null,0,0.14499999999999999,1,0,0,0,0,0,1,0,0,0,0,0,0,0,0,0,0,0,0,0,0,0,0,0,0,0,0,0,1,0,0,0,0,1,0,0,1,0,0,0,0,0,1,0,0,0,0,1,0,0,0,0,0,0,0,0,0,0,1,0,0,0,0,0,0,0,0,0,0,0,1,1,0,0,0,0,0,0,0,0,0,0,1,0,0,{"$f":"IF(OFFSET($A98,0,DD$1)=DD$2,1,0)","v":0},0,0,0,1,0,0,0,0,0,1,0,0,0,0,0,0,1,1,0,0,0,0,0,0,0,0,0,1,0,0,0,0,0,0,0,0,0,0,1,1,0,0,0,1,0,0,1,0,0,1,0,0,0,0,1,0,0,0,0,0,0,1,0,0,0,0,0,0,0,0,0,0,0,0,0,0,0,0,0,0,0,0,0,0,1,0,0,0,0,0,0,0,0,0,0,0,0,0,0,1,0,0,0,0,1,1,0,1,0,0,0,0,1,0]
[1,0,1,0,0,0,1,0,0,0,0,0,0,0,0,0,1,1,0,null,0,0.25,0,0,0,1,0,0,0,1,1,1,1,1,1,0,0,0,0,0,0,0,1,0,1,0,0,0,0,0,0,0,0,0,1,0,0,0,0,0,0,0,0,1,0,0,0,0,0,0,0,0,0,0,0,0,0,0,1,0,0,0,0,1,1,0,0,0,0,1,0,0,1,0,0,0,0,0,0,0,1,0,1,0,0,0,0,0,0,0,1,1,1,1,0,0,0,0,0,1,1,0,0,0,0,0,1,1,0,0,1,0,0,0,0,0,0,0,1,1,0,0,1,0,0,1,0,0,0,0,0,0,0,0,0,0,1,0,0,0,1,1,0,1,0,1,0,0,0,0,1,1,0,{"$f":"IF(OFFSET($A99,0,FR$1)=FR$2,1,0)","v":0},0,0,0,0,1,0,0,1,1,1,0,0,1,0,0,0,0,0,0,1,0,0,1,1,0,0,0,1,0,0,0,0,0,0,0,0,0,0,1,0,0,0,1,1,0,0,0,0]
[1,0,1,0,0,1,1,0,0,0,0,1,0,0,0,0,0,0,0,null,0,0.08,0,0,0,0,0,0,0,0,0,0,0,0,0,0,0,0,0,0,0,0,0,0,0,0,0,0,0,0,1,0,0,0,0,0,0,0,0,0,0,0,0,0,1,0,0,0,0,1,0,0,0,0,0,0,0,0,0,0,0,0,0,0,0,0,0,0,0,0,0,0,1,1,0,0,0,0,0,0,0,0,0,0,1,0,0,0,0,0,0,1,0,0,0,0,0,1,0,0,0,0,0,0,0,1,0,0,0,0,0,0,0,0,0,1,0,0,0,0,0,0,0,0,0,0,0,0,0,0,0,0,0,0,0,0,0,1,0,0,0,0,0,0,0,0,0,0,{"$f":"IF(OFFSET($A100,0,FM$1)=FM$2,1,0)","v":0},1,0,0,0,0,0,0,0,0,0,0,0,0,0,0,1,0,0,0,0,0,0,0,0,0,0,0,0,0,0,0,0,0,0,0,0,0,0,0,0,0,0,0,1,1,0,1,0,0,0,0,0,0]
[1,0,1,0,0,0,0,0,0,0,0,0,0,0,1,0,0,0,0,null,0,0.28999999999999998,1,0,0,0,0,0,1,1,1,1,1,1,0,0,0,0,0,0,0,0,1,0,1,0,0,0,0,0,1,0,0,0,1,1,0,0,1,0,0,0,0,1,1,0,0,0,0,1,0,0,0,0,0,0,0,0,0,0,0,0,0,1,1,0,0,0,0,0,0,0,0,1,0,0,0,0,0,0,1,0,0,0,1,0,0,0,0,0,1,0,0,0,0,0,0,1,0,0,1,0,0,0,1,1,1,1,0,0,1,0,0,0,0,1,0,0,1,1,0,0,1,0,0,0,1,1,0,0,0,1,0,0,1,0,1,1,0,0,1,1,1,0,0,0,0,0,0,1,1,0,0,0,0,0,0,0,1,0,0,1,1,1,0,0,1,0,0,0,0,0,1,1,0,0,1,1,0,0,0,0,0,0,0,0,0,1,0,0,0,0,0,1,0,1,1,0,0,0,1,0]
[0,0,0,1,0,0,1,0,0,0,0,0,0,0,0,0,0,0,0,null,0,0.245,0,0,0,0,0,0,0,1,1,1,1,1,0,0,0,0,0,0,0,0,1,0,1,0,0,0,0,0,1,0,0,0,1,0,0,0,0,0,0,0,0,1,1,0,0,0,0,1,0,0,0,0,0,0,0,0,0,0,1,0,0,1,1,0,0,0,0,0,0,0,1,1,0,0,0,0,0,0,1,0,0,0,1,0,0,0,0,0,1,1,0,0,0,0,0,1,0,0,1,0,0,0,0,1,1,1,0,0,1,0,0,0,0,1,0,0,1,1,0,0,1,0,0,0,0,0,0,0,0,0,0,0,0,0,1,1,0,0,1,1,0,0,0,0,0,0,0,1,1,0,0,0,0,0,0,0,1,0,0,1,1,1,0,0,1,0,0,0,0,0,0,1,0,0,1,1,0,0,0,0,0,0,0,0,0,0,0,0,0,0,1,1,0,1,1,0,0,0,0,0]
[1,0,0,0,0,1,1,0,0,0,0,0,0,0,1,0,0,0,0,null,0,0.06,0,0,0,0,0,0,0,0,0,0,0,0,0,0,0,0,0,0,0,0,0,0,0,0,0,0,0,0,1,0,0,0,0,0,0,0,0,0,0,0,0,0,1,0,0,0,0,1,0,0,0,0,0,0,0,0,0,0,0,0,0,0,0,0,0,0,0,0,0,0,0,1,0,0,0,0,0,0,0,0,0,0,1,0,0,0,0,0,0,0,0,0,0,0,0,1,0,0,0,0,0,0,0,1,0,0,0,0,0,0,0,0,0,1,0,0,0,0,0,0,0,0,0,0,0,0,0,0,0,0,0,0,0,0,0,1,0,0,0,0,0,0,0,0,0,0,0,1,0,0,0,0,0,0,0,0,0,0,0,0,0,0,0,0,0,0,0,0,0,0,0,0,0,0,0,0,0,0,0,0,0,0,0,0,0,0,0,0,0,0,0,1,0,1,0,0,0,0,0,0]
[0,1,1,0,0,0,0,0,0,0,0,0,0,0,0,0,0,1,0,null,0,0.25,1,0,0,0,0,0,1,1,1,1,1,1,0,0,0,0,0,0,0,0,1,0,1,0,0,0,0,0,0,0,0,0,1,1,0,0,1,0,0,0,0,1,0,0,0,0,0,0,0,0,0,0,0,0,0,0,0,0,1,0,0,1,1,0,0,0,0,0,0,0,1,0,0,0,0,0,0,0,1,0,0,0,0,0,0,0,0,0,1,1,0,0,0,0,0,0,0,0,1,0,0,0,1,0,1,1,0,0,1,0,0,0,0,0,0,0,1,1,0,0,1,0,0,0,1,1,0,0,0,1,0,0,1,0,1,0,0,0,1,1,1,0,0,0,0,0,0,0,1,0,0,0,0,0,0,0,1,0,0,1,1,1,0,0,1,0,0,0,0,0,1,1,0,0,1,1,0,0,0,0,0,0,0,0,0,1,0,0,0,0,1,0,0,0,1,0,0,0,1,0]
[1,0,0,1,0,1,0,0,0,0,0,0,0,0,0,0,0,0,0,null,0,0.14000000000000001,1,0,0,0,0,0,1,0,0,0,0,0,0,0,0,0,0,0,0,0,0,0,0,0,0,0,0,0,1,0,0,0,0,1,0,0,1,0,0,0,0,0,1,0,0,0,0,1,0,0,0,0,0,0,0,0,0,0,0,0,0,0,0,0,0,0,0,0,0,0,1,1,0,0,0,0,0,0,0,0,0,0,1,0,0,0,0,0,0,1,0,0,0,0,0,1,0,0,0,0,0,0,1,1,0,0,0,0,0,0,0,0,0,1,0,0,0,0,0,0,0,0,0,0,1,1,0,0,0,1,0,0,1,0,0,1,0,0,0,0,1,0,0,0,0,0,0,1,0,0,0,0,0,0,0,0,0,0,0,0,0,0,0,0,0,0,0,0,0,0,1,0,0,0,0,0,0,0,0,0,0,0,0,0,0,1,0,0,0,0,1,1,0,1,0,0,0,0,1,0]
[0,1,1,0,0,0,0,0,0,0,0,0,0,0,0,0,0,0,0,null,0,0.31,1,0,0,0,0,0,1,1,1,1,1,1,0,0,0,0,0,0,0,0,1,0,1,0,0,0,0,0,1,0,0,0,1,1,0,0,1,0,0,0,0,1,1,0,0,0,0,1,0,0,0,0,0,0,0,0,0,0,1,0,0,1,1,0,0,0,0,0,0,0,1,1,0,0,0,0,0,0,1,0,0,0,1,0,0,0,0,0,1,1,0,0,0,0,0,1,0,0,1,0,0,0,1,1,1,1,0,0,1,0,0,0,0,1,0,0,1,1,0,0,1,0,0,0,1,1,0,0,0,1,0,0,1,0,1,1,0,0,1,1,1,0,0,0,0,0,0,1,1,0,0,0,0,0,0,0,1,0,0,1,1,1,0,0,1,0,0,0,0,0,1,1,0,0,1,1,0,0,0,0,0,0,0,0,0,1,0,0,0,0,1,1,0,1,{"$f":"IF(OFFSET($A106,0,HI$1)=HI$2,1,0)","v":1},0,0,0,1,0]
[0,0,1,0,0,0,0,0,0,0,0,0,0,0,0,0,0,0,0,null,0,0.31,1,0,0,0,0,0,1,1,1,1,1,1,0,0,0,{"$f":"IF(OFFSET($A107,0,AL$1)=AL$2,1,0)","v":0},0,0,0,0,1,0,1,0,0,0,0,0,1,0,0,0,1,1,0,0,1,0,0,0,0,1,1,0,0,0,0,1,0,0,0,0,0,0,0,0,0,0,1,0,0,1,1,0,0,0,0,0,0,0,1,1,0,0,0,0,0,0,1,0,0,0,1,0,0,0,0,0,1,1,0,0,0,0,0,1,0,0,1,0,0,0,1,1,1,1,0,0,1,0,0,0,0,1,0,0,1,1,0,0,1,0,0,0,1,1,0,0,0,1,0,0,1,0,1,1,0,0,1,1,1,0,0,0,0,0,0,1,1,0,0,0,0,0,0,0,1,0,0,1,1,1,0,0,1,0,0,0,0,0,1,1,0,0,1,1,0,0,0,0,0,0,0,0,0,1,0,0,0,0,1,1,0,1,1,0,0,0,1,0]
[0,0,0,0,0,0,0,0,0,0,0,0,0,0,0,0,0,0,0,null,0,0.31,{"$f":"IF(OFFSET($A108,0,W$1)=W$2,1,0)","v":1},0,0,0,0,0,1,1,1,1,1,1,0,0,0,0,0,0,0,0,1,0,1,0,0,0,0,0,1,0,0,0,1,1,0,0,1,0,0,0,0,1,1,0,0,0,0,1,0,0,0,0,0,0,0,0,0,0,1,0,0,1,1,0,0,0,0,0,0,0,1,1,0,0,0,0,0,0,1,0,0,0,1,0,0,0,0,0,1,1,0,0,0,0,0,1,0,0,1,0,0,0,1,1,1,1,0,0,1,0,0,0,0,1,0,0,1,1,0,0,1,0,0,0,1,1,0,0,0,1,0,0,1,0,1,1,0,0,1,1,1,0,0,0,0,0,0,1,1,0,0,0,0,0,0,0,1,0,0,1,1,1,0,0,1,0,0,0,0,0,1,1,0,0,1,1,0,0,0,0,0,0,0,0,0,1,0,0,0,{"$f":"IF(OFFSET($A108,0,HD$1)=HD$2,1,0)","v":0},1,1,0,1,1,0,0,0,1,0]
[0,0,1,0,0,1,0,0,0,0,0,0,0,0,0,0,0,0,0,null,0,0.14499999999999999,1,0,0,0,0,0,1,0,0,0,0,0,0,0,0,0,0,0,0,0,0,0,0,0,0,0,0,0,1,0,0,0,0,1,0,0,1,0,0,0,0,0,1,0,0,0,0,1,0,0,0,0,0,0,0,0,0,0,1,0,0,0,0,0,0,0,0,0,0,0,1,1,0,0,0,0,0,0,0,0,0,0,1,0,0,0,0,0,0,1,0,0,0,0,0,1,0,0,0,0,0,0,1,1,0,0,0,0,0,0,0,0,0,1,0,0,0,0,0,0,0,0,0,0,1,1,0,0,0,1,0,0,1,0,0,1,0,0,0,0,1,0,0,0,0,0,0,1,0,0,0,0,0,0,0,0,0,0,0,0,0,0,0,0,0,0,0,0,0,0,1,0,0,0,{"$f":"IF(OFFSET($A109,0,GO$1)=GO$2,1,0)","v":0},0,0,0,0,0,0,0,0,0,0,1,0,0,0,0,1,1,0,1,0,0,0,0,1,0]
[0,1,1,0,0,0,1,0,0,0,0,0,0,0,0,0,0,0,0,null,0,0.245,0,0,0,0,0,0,0,1,1,1,1,1,0,0,0,0,0,0,0,0,1,0,1,0,0,0,0,0,1,0,0,0,1,0,0,0,0,0,0,0,0,1,1,0,0,0,{"$f":"IF(OFFSET($A110,0,BQ$1)=BQ$2,1,0)","v":0},1,0,0,0,0,0,0,0,0,0,0,1,0,0,1,1,0,0,0,0,0,0,0,1,1,0,0,0,0,0,0,1,0,0,0,1,0,0,0,0,0,1,1,0,0,0,0,0,1,0,0,1,0,0,0,0,1,1,1,0,0,1,0,0,0,0,1,0,0,1,1,0,0,1,0,0,0,0,0,0,0,0,0,0,0,0,0,1,1,0,0,1,1,0,0,0,0,0,0,0,1,1,0,0,0,0,0,0,0,1,0,0,1,1,1,0,0,1,0,0,0,0,0,0,1,0,0,1,1,0,0,0,0,0,0,0,0,0,0,0,0,0,0,1,1,0,1,1,0,0,0,0,0]
[1,0,1,0,0,1,0,0,0,0,0,0,0,0,0,0,0,1,0,null,0,0.08,1,0,0,0,0,0,1,0,0,0,0,0,0,0,0,0,0,0,0,0,0,0,0,0,0,0,0,0,0,0,0,{"$f":"IF(OFFSET($A111,0,BB$1)=BB$2,1,0)","v":0},0,1,0,0,1,0,0,0,0,0,0,0,0,0,0,0,0,0,0,0,0,0,0,0,0,0,0,0,0,0,0,0,0,0,0,0,0,0,1,0,0,0,0,0,0,{"$f":"IF(OFFSET($A111,0,CV$1)=CV$2,1,0)","v":0},0,0,0,0,0,0,0,0,0,0,0,1,0,0,0,0,0,0,0,0,0,0,0,0,1,0,0,0,0,0,0,0,0,0,0,0,0,0,0,0,0,0,0,0,0,0,1,1,0,0,0,1,0,0,1,0,0,0,0,0,0,0,1,0,0,0,0,0,0,0,0,0,0,0,0,0,0,0,0,0,0,0,0,0,0,0,0,0,0,0,0,0,1,0,0,0,0,0,0,0,0,0,0,0,0,0,0,1,0,0,0,0,1,0,0,0,0,0,0,0,1,0]
[1,0,0,1,0,0,0,0,0,0,0,0,0,0,0,0,0,0,0,null,0,0.30499999999999999,1,0,0,0,0,0,1,1,1,1,1,1,0,0,0,0,0,0,0,0,1,0,1,0,0,0,0,0,1,0,0,0,1,1,0,0,1,0,0,0,0,1,1,0,0,0,0,1,0,0,0,0,0,0,0,0,0,0,0,0,0,1,{"$f":"IF(OFFSET($A112,0,CG$1)=CG$2,1,0)","v":1},0,0,0,0,0,0,0,1,1,0,0,0,0,0,0,1,0,0,0,1,0,0,0,0,0,1,1,0,0,0,0,0,1,0,0,1,0,0,0,1,1,1,1,0,0,1,0,0,0,0,1,0,0,1,1,0,0,1,0,0,0,1,1,0,0,0,1,0,0,1,0,1,1,0,0,1,1,{"$f":"IF(OFFSET($A112,0,FG$1)=FG$2,1,0)","v":1},0,0,0,0,0,0,1,1,0,0,0,0,0,0,0,1,0,0,1,1,1,0,0,1,0,0,0,0,0,1,1,0,0,1,1,0,0,0,0,0,0,0,0,0,1,0,0,0,0,1,1,0,1,1,0,0,0,1,0]
[0,0,1,0,0,0,0,0,0,0,0,0,0,0,0,0,0,1,0,null,0,0.25,1,0,0,0,0,0,1,1,1,1,1,1,0,0,0,0,0,0,0,0,1,0,1,0,0,0,0,0,0,0,0,0,1,1,0,0,1,0,0,0,0,1,0,0,0,0,0,0,0,0,0,0,0,0,0,0,0,0,1,0,0,1,1,0,0,0,0,0,0,0,1,0,0,0,0,0,0,0,1,0,0,0,0,0,0,0,0,0,1,1,0,0,0,0,0,0,0,0,1,0,0,0,1,0,1,1,0,0,1,0,0,0,0,0,0,{"$f":"IF(OFFSET($A113,0,EH$1)=EH$2,1,0)","v":0},1,1,0,0,1,0,0,0,1,1,0,0,0,1,0,{"$f":"IF(OFFSET($A113,0,EX$1)=EX$2,1,0)","v":0},1,0,1,0,0,0,1,1,1,0,0,0,0,0,0,0,1,0,0,0,0,0,0,0,1,0,0,1,1,1,0,0,1,0,0,0,0,0,1,1,0,0,1,1,0,0,0,0,0,0,0,0,0,1,0,0,0,0,1,0,0,0,1,0,0,0,1,0]
[1,0,0,0,0,0,0,0,0,0,0,0,0,1,0,0,0,0,0,null,0,0.33,1,0,0,0,0,0,1,1,1,1,1,1,0,0,0,0,0,0,0,0,1,0,1,0,0,0,0,0,1,0,0,0,1,1,0,0,1,0,0,0,0,1,1,0,0,0,0,1,0,0,0,0,0,1,0,0,0,0,0,0,1,1,1,0,0,1,0,0,0,0,1,1,0,0,0,0,0,0,1,0,0,0,1,0,0,0,0,0,1,1,0,0,0,0,0,1,0,0,1,0,0,{"$f":"IF(OFFSET($A114,0,DT$1)=DT$2,1,0)","v":0},1,1,1,1,0,0,1,0,0,0,0,1,0,0,1,1,0,0,1,0,0,0,1,1,0,0,0,1,0,0,1,0,1,1,0,0,1,1,1,0,0,0,0,0,0,1,1,0,0,0,0,0,0,0,1,0,0,1,1,1,0,0,1,0,0,0,0,0,1,1,0,0,1,1,0,0,0,0,0,0,1,0,0,1,0,1,0,0,1,1,0,1,1,0,0,0,1,0]
[1,0,1,0,0,0,1,0,0,0,0,0,0,0,0,0,0,0,0,null,0,0.24,0,0,0,0,0,0,0,1,1,1,1,1,0,0,0,0,0,0,0,0,1,0,1,0,0,0,0,0,1,0,0,0,1,0,0,0,0,0,0,0,0,1,1,0,0,0,0,1,0,0,0,0,0,0,0,0,0,0,0,0,0,1,1,0,0,0,0,0,0,0,1,1,0,0,0,0,0,0,1,0,0,0,1,0,0,0,0,0,1,1,0,0,0,0,0,1,0,0,1,0,0,0,0,1,1,1,0,0,1,0,0,0,0,1,0,0,1,1,0,0,1,0,0,0,0,0,0,0,0,0,0,0,0,0,1,1,0,0,1,1,0,0,0,0,0,0,0,1,1,0,0,0,0,0,0,0,1,0,0,1,1,1,0,0,1,0,0,0,0,0,0,1,0,0,1,1,0,0,0,0,0,0,0,0,0,0,0,0,0,0,1,1,0,1,1,0,0,0,0,0]
[1,0,1,0,0,1,0,0,0,0,0,0,0,0,0,0,0,1,0,null,0,0.08,1,0,0,0,0,0,1,0,0,0,0,0,0,0,0,0,0,0,0,0,0,0,0,0,0,0,0,0,0,0,0,0,0,1,0,0,1,0,0,0,0,0,0,0,0,0,0,0,0,0,0,0,0,0,0,0,0,0,0,0,0,0,0,0,0,0,0,0,0,0,1,0,0,0,0,0,0,0,0,0,0,0,0,0,0,0,0,0,0,1,0,0,0,0,0,0,0,0,0,0,{"$f":"IF(OFFSET($A116,0,DS$1)=DS$2,1,0)","v":0},0,1,0,0,0,0,0,0,0,0,0,0,0,0,0,0,0,0,0,0,0,0,0,1,1,0,0,0,1,0,0,1,0,0,0,0,0,0,0,1,0,0,0,0,0,0,0,0,0,0,0,0,0,0,0,0,0,0,0,0,0,0,0,0,0,0,0,0,0,1,0,0,0,0,0,0,0,0,0,0,0,0,0,0,1,0,0,0,0,1,0,0,0,0,0,0,0,1,0]
[1,0,1,0,0,0,0,0,0,0,0,0,0,0,0,0,0,1,0,null,0,0.245,1,0,0,0,0,0,1,1,1,1,1,1,0,0,0,0,0,0,0,0,1,0,1,0,0,0,0,0,0,0,0,0,1,1,0,0,1,0,0,0,0,1,0,0,0,0,0,0,0,0,0,0,0,0,0,0,0,0,0,0,0,1,1,0,0,0,0,0,0,0,1,0,0,0,0,0,0,0,1,0,0,0,0,0,0,0,0,0,1,1,0,0,0,{"$f":"IF(OFFSET($A117,0,DL$1)=DL$2,1,0)","v":0},0,0,0,0,1,0,0,0,1,0,1,1,0,0,1,0,0,0,0,0,0,0,1,1,0,0,1,0,0,0,1,1,0,0,0,1,0,0,1,0,1,0,0,0,1,1,1,0,0,0,0,0,0,0,1,0,0,0,0,0,0,0,1,0,0,1,1,1,0,0,1,0,0,0,0,0,1,1,0,0,1,1,0,0,0,0,0,0,0,0,0,1,0,0,0,0,1,0,0,0,1,0,0,0,1,0]
[0,0,0,0,0,0,0,0,0,0,0,0,0,0,0,0,0,0,0,null,0,0.31,1,0,0,0,0,0,1,1,1,1,1,1,0,0,0,0,0,0,0,0,1,0,1,0,0,0,0,0,1,0,0,0,1,1,0,0,1,0,0,0,0,1,1,0,0,0,0,1,0,0,0,0,0,0,0,0,0,0,1,0,0,1,1,0,0,0,0,0,0,0,1,1,0,0,0,0,0,0,1,0,0,0,1,0,0,0,0,0,1,1,0,0,0,0,0,1,0,0,1,0,0,0,1,1,1,1,0,0,1,0,0,0,0,1,0,0,1,1,0,0,1,0,0,0,1,1,0,0,0,1,0,0,1,0,1,1,0,0,1,1,1,0,0,0,0,0,0,1,1,0,0,0,0,0,0,0,1,0,0,1,1,1,0,0,1,0,0,0,0,0,1,1,0,{"$f":"IF(OFFSET($A118,0,GN$1)=GN$2,1,0)","v":0},1,1,0,0,0,0,0,0,0,0,0,1,0,0,0,0,1,1,0,1,1,0,0,0,1,0]
[1,0,0,0,0,1,0,0,0,0,0,0,0,0,0,0,0,0,0,null,0,0.14000000000000001,1,0,0,0,0,0,1,0,0,0,0,0,0,0,0,0,0,0,0,0,0,0,0,0,0,0,0,0,1,0,0,0,0,1,0,0,1,0,0,0,0,0,1,0,0,0,0,1,0,0,0,0,0,0,0,0,0,0,0,0,0,0,0,0,0,0,0,0,0,0,1,1,0,0,0,0,0,0,0,0,0,0,1,0,0,0,0,0,0,1,0,0,0,0,0,1,0,0,0,0,0,0,1,1,0,0,0,0,0,0,0,0,0,1,0,0,0,0,0,0,0,0,0,0,1,1,0,0,0,1,0,0,1,0,0,1,0,0,0,0,1,0,0,0,0,0,0,1,0,0,0,0,0,0,0,0,0,0,0,0,0,0,0,0,0,0,0,0,0,0,1,0,0,0,0,0,0,0,0,0,0,0,0,0,0,1,0,0,0,0,1,1,0,1,0,0,0,0,1,0]
[1,0,1,0,0,0,0,0,0,0,0,0,0,0,0,0,0,1,0,null,0,0.245,1,0,0,0,0,0,1,1,1,1,1,1,0,0,0,0,0,0,0,0,1,0,1,0,0,0,0,0,0,0,0,0,1,1,0,0,1,0,0,0,0,1,0,0,0,0,0,0,0,0,0,0,0,0,0,0,0,0,0,0,0,1,1,0,0,0,0,0,0,0,1,0,0,0,0,0,0,0,1,0,0,0,0,0,0,0,0,0,1,1,0,0,0,0,0,0,0,0,1,0,0,0,1,0,1,1,0,0,1,0,0,0,0,0,0,0,1,1,0,0,1,0,0,0,1,1,0,0,0,1,0,0,1,0,1,0,0,0,1,1,1,0,0,0,0,0,0,0,1,0,0,0,0,0,0,0,1,0,0,1,1,1,0,0,1,0,0,{"$f":"IF(OFFSET($A120,0,GH$1)=GH$2,1,0)","v":0},0,0,1,1,0,0,1,1,0,0,0,0,0,0,0,0,0,1,0,0,0,0,1,0,0,0,1,0,0,0,1,0]
[0,0,1,0,0,0,0,0,0,0,0,0,0,0,0,0,0,1,1,null,0,0.39,1,0,0,0,0,0,1,1,1,1,1,1,0,0,1,0,0,1,0,0,1,0,1,1,0,0,0,1,0,0,1,0,1,1,1,0,1,0,1,0,0,1,0,0,0,1,0,0,0,0,0,1,0,0,0,0,0,1,1,0,0,1,1,1,1,0,1,0,1,0,1,0,0,0,0,1,0,0,1,0,0,0,0,0,0,0,0,0,1,1,0,0,0,0,0,0,0,0,1,0,1,1,1,0,1,1,1,0,1,0,0,0,0,0,0,0,1,1,1,1,1,1,0,0,1,1,0,0,0,1,0,0,1,0,1,0,1,0,1,1,1,0,1,0,1,0,1,0,1,0,0,0,0,0,1,1,1,0,0,1,1,1,0,0,1,0,0,0,0,0,1,1,0,0,1,1,0,0,0,0,0,0,0,0,1,1,0,0,0,0,1,0,0,0,1,0,0,0,1,0]
[0,1,0,0,0,0,0,0,0,0,0,0,0,0,0,0,0,0,0,null,0,0.31,1,0,0,0,0,0,1,1,1,1,1,1,0,0,0,0,0,0,0,0,1,0,1,0,0,0,0,0,1,0,0,0,1,1,0,0,1,0,0,0,0,1,1,0,0,0,0,1,0,0,0,0,0,0,0,0,0,0,1,0,0,1,1,0,0,0,0,0,0,0,1,1,0,0,0,0,0,0,1,0,0,0,1,0,0,0,0,0,1,1,0,0,0,0,0,1,0,0,1,0,0,0,1,1,1,1,0,0,1,0,0,0,0,1,0,0,1,1,0,0,1,0,0,0,1,1,0,0,0,1,0,0,1,0,1,1,0,0,1,1,1,0,0,0,0,0,0,1,1,0,0,0,0,0,0,0,1,0,0,{"$f":"IF(OFFSET($A122,0,FZ$1)=FZ$2,1,0)","v":1},1,1,0,0,1,0,0,0,0,0,1,1,0,0,1,1,0,0,0,0,0,0,0,0,0,1,0,0,0,0,1,1,0,1,1,0,0,0,1,0]
[1,0,0,1,0,0,1,0,0,0,0,1,0,1,0,0,0,1,0,null,0,0.21,0,0,0,0,0,0,0,1,1,1,1,1,0,0,0,{"$f":"IF(OFFSET($A123,0,AL$1)=AL$2,1,0)","v":0},0,0,0,0,1,0,1,0,0,0,0,0,0,0,0,0,1,0,0,0,0,0,0,0,0,1,0,0,0,0,0,0,0,0,0,0,0,1,0,0,0,0,0,0,1,1,1,0,0,1,0,0,0,0,1,0,0,0,0,0,0,0,1,0,0,0,0,0,0,0,0,0,1,1,0,0,0,0,0,0,0,0,1,0,0,0,0,0,1,1,0,0,1,0,0,0,0,0,0,0,1,1,0,0,1,0,0,0,0,0,0,0,0,0,0,0,0,0,1,0,0,0,1,1,0,0,0,0,0,0,0,0,1,0,0,0,0,0,0,0,{"$f":"IF(OFFSET($A123,0,FW$1)=FW$2,1,0)","v":1},0,0,1,1,1,1,0,1,0,0,0,0,0,0,1,0,0,1,1,0,0,0,0,0,0,1,0,0,0,0,1,0,0,1,0,0,0,1,0,0,0,0,0]
[0,0,1,0,0,1,1,0,0,0,0,0,0,0,0,0,0,0,0,null,0,0.08,{"$f":"IF(OFFSET($A124,0,W$1)=W$2,1,0)","v":0},0,0,0,0,0,0,0,0,0,0,0,0,0,0,0,0,0,0,0,0,0,0,0,0,0,0,0,1,0,0,0,0,0,0,0,0,0,0,0,0,0,1,0,0,0,0,1,0,0,0,0,0,0,0,0,0,0,1,0,0,0,0,0,0,0,0,0,0,0,1,1,0,0,0,0,0,0,0,0,0,0,1,0,0,0,0,0,0,1,0,0,0,0,0,1,0,0,0,0,0,0,0,1,0,0,0,0,0,0,0,0,0,1,0,0,0,0,0,0,0,0,0,0,0,0,0,0,0,0,0,0,0,0,0,1,0,0,0,0,0,0,0,0,0,0,0,1,0,0,0,0,0,0,0,0,0,0,0,0,0,0,0,0,0,0,0,0,0,0,0,0,0,0,0,0,0,0,0,0,0,0,0,0,0,0,0,0,0,0,1,1,0,1,0,0,0,0,0,0]
[0,0,0,0,0,0,0,0,0,0,0,0,0,0,1,0,0,0,0,null,0,0.29499999999999998,1,0,0,0,0,0,1,1,1,1,1,1,0,0,0,0,0,0,0,0,1,0,1,0,0,0,0,0,1,0,0,0,1,1,0,0,1,0,0,0,0,1,1,0,0,0,0,1,0,0,0,0,0,0,0,0,0,0,1,0,0,1,1,0,0,0,0,0,0,0,0,1,0,0,0,0,0,0,1,0,0,0,1,0,0,0,0,0,1,0,0,0,0,0,0,1,0,0,1,0,0,0,1,1,1,1,0,0,1,0,0,0,0,1,0,0,1,1,0,0,1,0,0,0,1,1,0,0,0,1,0,0,1,0,1,1,0,0,1,1,1,0,0,0,0,0,0,1,1,0,0,0,0,0,0,0,1,0,0,1,1,1,0,0,1,0,0,0,0,0,1,1,0,0,1,1,0,0,0,0,0,0,0,0,0,1,0,0,0,0,0,1,0,1,1,0,0,0,1,0]
[1,0,1,0,0,0,0,0,0,0,0,0,0,0,0,0,0,0,0,null,0,0.30499999999999999,1,0,0,0,0,0,1,1,1,1,1,1,0,0,0,0,0,0,0,0,1,0,1,0,0,0,0,0,1,0,0,0,1,1,0,0,1,0,0,0,0,1,1,0,0,0,0,1,0,0,0,0,0,0,0,0,0,0,0,0,0,1,1,0,0,0,0,0,0,0,1,1,0,0,0,0,0,0,1,0,0,0,1,0,0,0,0,0,1,1,0,0,0,0,0,1,0,0,1,0,0,0,1,1,1,1,0,0,1,0,0,0,0,1,0,0,1,1,0,0,1,0,0,0,1,1,0,0,0,1,0,{"$f":"IF(OFFSET($A129,0,EX$1)=EX$2,1,0)","v":0},1,0,1,1,0,0,1,1,1,0,0,0,0,0,0,1,1,0,0,0,0,0,0,0,1,0,0,1,1,1,0,0,1,0,0,0,0,0,1,1,0,0,1,1,0,0,0,0,0,0,0,0,0,1,0,0,0,0,1,1,0,1,1,0,0,0,1,0]
[0,1,0,0,0,0,0,0,0,0,0,0,0,0,1,0,0,0,0,null,0,0.29499999999999998,1,0,0,0,0,0,1,1,1,1,1,1,0,0,0,0,0,0,0,0,1,0,1,0,0,0,0,0,1,0,0,0,1,1,0,0,1,0,0,0,0,1,1,0,0,0,0,1,0,0,0,0,0,0,0,0,0,0,1,0,0,1,1,0,0,0,0,0,0,0,0,1,0,0,0,0,0,0,1,0,0,0,1,0,0,0,0,0,1,0,0,0,0,0,0,1,0,0,1,0,0,0,1,1,1,1,0,0,1,0,0,0,0,1,0,0,1,1,0,0,1,0,0,0,1,1,0,0,0,1,0,0,1,0,1,1,0,0,1,1,1,0,0,0,0,0,0,1,1,0,0,0,0,0,0,0,1,0,0,1,1,1,0,0,1,0,0,0,0,0,1,1,0,0,1,1,0,0,0,0,0,0,0,0,0,1,0,0,0,0,0,1,0,1,1,0,0,0,1,0]
[1,0,0,0,0,0,0,0,0,0,0,0,0,0,0,0,0,0,0,null,0,0.30499999999999999,1,0,0,0,0,0,1,1,1,1,1,1,0,0,0,0,0,0,0,0,1,0,1,0,0,0,0,0,1,0,0,0,1,1,0,0,1,0,0,0,0,1,1,0,0,0,{"$f":"IF(OFFSET($A142,0,BQ$1)=BQ$2,1,0)","v":0},1,0,0,0,0,0,0,0,0,0,0,0,0,0,1,1,0,0,0,0,0,0,0,1,1,0,0,0,0,0,0,1,0,0,0,1,0,0,0,0,0,1,1,0,0,0,0,0,1,0,0,1,0,0,0,1,1,1,1,0,0,1,0,0,0,0,1,0,0,1,1,0,0,1,0,0,0,1,1,0,0,0,1,0,0,1,0,1,1,0,0,1,1,1,0,0,0,0,0,0,1,1,0,0,0,0,0,0,0,1,0,0,1,1,1,0,0,1,0,0,0,0,0,1,1,0,0,1,1,0,0,0,0,0,0,0,0,0,1,0,0,0,0,1,1,0,1,1,0,0,{"$f":"IF(OFFSET($A142,0,HL$1)=HL$2,1,0)","v":0},1,0]
[0,0,0,1,0,0,1,0,0,0,0,0,0,0,0,0,0,0,0,null,0,0.245,0,0,0,0,0,0,0,1,1,1,1,1,0,0,0,0,0,0,0,0,1,0,1,0,0,0,0,0,1,0,0,0,1,0,0,0,0,0,0,0,0,1,1,0,0,0,0,1,0,0,0,0,0,0,0,0,0,0,1,0,0,1,1,0,0,0,0,0,0,0,1,1,0,0,0,0,0,0,1,0,0,0,1,0,0,0,0,0,1,1,0,0,0,0,0,1,0,0,1,0,0,0,0,1,1,1,0,0,1,0,0,0,0,1,0,0,1,1,0,0,1,0,0,0,0,0,0,0,0,0,0,0,0,0,1,1,0,0,1,1,0,0,0,0,0,0,0,1,1,0,0,0,0,0,0,0,1,0,0,1,1,1,0,0,1,0,0,0,0,0,0,1,0,0,1,1,0,0,0,0,0,0,0,0,0,0,0,0,0,0,1,1,0,1,1,0,0,0,0,0]
[0,1,0,1,0,0,0,0,0,0,0,0,0,0,0,0,0,1,0,null,0,0.25,1,0,0,0,0,0,1,1,1,1,1,1,0,0,0,0,0,0,0,0,1,0,1,0,0,0,0,0,0,0,0,0,1,1,0,0,1,0,0,0,0,1,0,0,0,0,{"$f":"IF(OFFSET($A158,0,BQ$1)=BQ$2,1,0)","v":0},0,0,0,0,0,0,0,0,0,0,0,1,0,0,1,1,0,0,0,0,0,0,0,1,0,0,0,0,0,0,0,1,0,0,0,0,0,0,0,0,0,1,1,0,0,0,0,0,0,0,0,1,0,0,0,1,0,1,1,0,0,1,0,0,0,0,0,0,0,1,1,0,0,1,0,0,0,1,1,0,0,0,1,0,0,1,0,1,0,0,0,1,1,1,0,0,0,0,0,0,0,1,0,0,0,0,0,0,0,1,0,0,1,1,1,0,0,1,0,0,0,0,0,1,1,0,0,1,1,0,0,0,0,0,0,0,0,0,1,0,0,0,0,1,0,0,0,1,0,0,0,1,0]
[1,0,1,0,0,1,0,0,0,0,0,0,0,0,0,0,0,1,0,null,0,0.08,1,0,0,0,0,0,1,0,0,0,0,0,0,0,0,0,0,0,0,0,0,0,0,0,0,0,0,0,0,0,0,0,0,1,0,0,1,0,0,0,0,0,0,0,0,0,0,0,0,0,0,0,0,0,0,0,0,0,0,0,0,0,0,0,0,0,0,0,0,0,1,0,0,0,0,0,0,0,0,0,0,0,0,0,0,0,0,0,0,1,0,0,0,0,0,0,0,0,0,0,0,0,1,0,0,0,0,0,0,0,0,0,0,0,0,0,0,0,0,0,0,0,0,0,1,1,0,0,0,1,0,0,1,0,0,0,0,0,0,0,1,0,0,0,0,0,0,0,0,0,0,0,0,0,0,0,0,0,0,0,0,0,0,0,{"$f":"IF(OFFSET($A162,0,GE$1)=GE$2,1,0)","v":0},0,0,0,0,0,1,0,0,0,0,0,0,0,0,0,0,0,0,0,0,1,0,0,0,0,1,0,0,0,0,0,0,0,1,0]
[0,1,1,0,0,0,0,0,1,0,0,0,1,0,0,0,0,0,0,null,0,0.46,1,1,0,0,1,1,1,1,1,1,1,1,0,0,0,0,0,0,0,0,1,0,1,0,1,0,0,0,1,0,0,0,1,1,0,0,1,1,0,1,0,1,1,0,1,0,0,1,1,0,0,0,1,0,0,0,0,0,1,0,0,1,1,0,0,0,0,0,0,0,1,1,0,0,0,0,0,0,1,1,0,0,1,1,0,0,0,1,1,1,0,0,1,0,0,1,0,0,1,0,0,0,1,1,1,1,0,0,1,0,0,1,0,1,0,1,1,1,0,0,1,0,1,0,1,1,0,0,0,1,1,0,1,0,1,1,0,0,1,1,1,0,0,0,0,0,0,1,1,0,1,0,{"$f":"IF(OFFSET($A167,0,FS$1)=FS$2,1,0)","v":0},1,0,0,1,0,0,1,1,1,0,1,1,0,1,0,0,1,1,1,0,1,1,1,1,0,0,0,1,1,0,1,0,1,0,0,1,0,1,1,0,1,1,0,1,1,1,0]
[0,0,0,0,0,0,0,0,0,0,0,0,0,0,0,0,0,0,0,null,0,0.31,1,0,0,0,0,0,1,1,1,1,1,1,0,0,0,0,0,0,0,0,1,0,1,0,0,0,0,0,1,0,0,{"$f":"IF(OFFSET($A175,0,BB$1)=BB$2,1,0)","v":0},1,1,0,0,1,0,0,0,0,1,1,0,0,0,0,1,0,0,0,0,0,0,0,0,0,0,1,0,0,1,1,0,0,0,0,0,0,0,1,1,0,0,0,0,0,{"$f":"IF(OFFSET($A175,0,CV$1)=CV$2,1,0)","v":0},1,0,0,0,1,0,0,0,0,0,1,1,0,0,0,0,0,1,0,0,1,0,0,0,1,1,1,1,0,0,1,0,0,0,0,1,0,0,1,1,0,0,1,0,0,0,1,1,0,0,0,1,0,0,1,0,1,1,0,0,1,1,1,0,0,0,0,0,0,1,1,0,0,0,0,0,0,0,1,0,0,1,1,1,0,0,1,0,0,0,0,0,1,1,0,0,1,1,0,0,0,0,0,0,0,0,0,1,0,0,0,0,1,1,0,1,1,0,0,0,1,0]
[0,1,1,0,0,0,0,0,0,0,0,0,0,0,0,0,0,0,0,null,0,0.31,1,0,0,0,0,0,1,1,1,1,1,1,0,0,0,0,0,0,0,0,1,0,1,0,0,0,0,0,1,0,0,0,1,1,0,0,1,0,0,0,0,1,1,0,0,0,0,1,0,0,0,0,0,0,0,0,0,0,1,0,0,1,1,0,0,0,0,0,0,0,1,1,0,0,0,0,0,0,1,0,0,0,1,0,0,0,0,0,1,1,0,0,0,{"$f":"IF(OFFSET($A181,0,DL$1)=DL$2,1,0)","v":0},0,1,0,0,1,0,0,0,1,1,1,1,0,0,1,0,0,0,0,1,0,0,1,1,0,0,1,0,0,0,1,1,0,0,0,1,0,0,1,0,1,1,0,0,1,1,1,0,0,0,0,0,0,1,1,0,0,0,0,0,0,0,1,0,0,1,1,1,0,0,1,0,0,0,0,0,1,1,0,0,1,1,0,0,0,0,0,0,0,0,0,1,0,0,0,0,1,1,0,1,1,0,0,0,1,0]
[1,0,1,0,0,0,0,0,0,0,0,1,0,0,0,0,0,1,0,null,0,0.25,1,0,0,0,0,0,1,1,1,1,1,1,0,0,0,{"$f":"IF(OFFSET($A187,0,AL$1)=AL$2,1,0)","v":0},0,0,0,0,1,0,1,0,0,0,0,0,0,0,0,0,1,1,0,0,1,0,0,0,0,1,0,0,0,0,0,0,0,0,0,0,0,0,0,0,0,0,0,0,0,1,1,0,0,0,0,0,0,0,1,0,0,0,0,0,0,0,1,0,0,0,0,0,0,0,0,0,1,1,0,0,0,0,0,0,0,0,1,0,0,0,1,0,1,1,0,0,1,0,0,0,0,0,0,0,1,1,0,0,1,0,0,0,1,1,0,0,0,1,0,0,1,0,1,0,0,0,1,{"$f":"IF(OFFSET($A187,0,FF$1)=FF$2,1,0)","v":1},1,0,0,0,0,0,0,0,1,0,0,0,0,0,0,0,1,0,0,1,1,1,1,0,1,0,0,0,0,0,1,1,0,0,1,1,0,0,0,0,0,0,0,0,0,1,0,0,0,0,1,0,0,0,1,0,0,0,1,0]
[0,1,0,0,0,0,1,0,0,0,0,0,0,0,0,0,0,0,0,null,0,0.245,0,0,0,0,0,0,0,1,1,1,1,1,0,0,0,0,0,0,0,0,1,0,1,0,0,0,0,0,1,0,0,0,1,0,0,0,0,0,0,0,0,1,1,0,0,0,0,1,0,0,0,0,0,0,0,0,0,0,1,0,0,1,1,0,0,0,0,0,0,0,1,1,0,0,0,0,0,0,1,0,0,0,1,0,0,0,0,0,1,1,0,0,0,0,0,1,0,0,1,0,0,0,0,1,1,1,0,0,1,0,0,0,0,1,0,0,1,1,0,0,1,0,0,0,0,0,0,0,0,0,0,0,0,0,1,1,0,0,1,1,0,0,0,0,0,0,0,1,1,0,0,0,0,0,0,0,1,0,0,1,1,1,0,0,1,0,0,0,0,0,0,1,0,0,1,1,0,0,0,0,0,0,0,0,0,0,0,0,0,0,1,1,0,1,1,0,0,0,0,0]
[0,0,0,1,0,0,0,0,0,0,0,0,0,0,0,0,0,0,0,null,0,0.31,1,0,0,0,0,0,1,1,1,1,1,1,0,0,0,0,0,0,0,0,1,0,1,0,0,0,0,0,1,0,0,0,1,1,0,0,1,0,0,0,0,1,1,0,0,0,0,1,0,0,0,0,0,0,0,0,0,0,1,0,0,1,1,0,0,0,0,0,0,0,1,1,0,0,0,0,0,0,1,0,0,0,1,0,0,0,0,0,1,1,0,0,0,0,0,1,0,0,1,0,0,0,1,1,1,1,0,0,1,0,0,0,0,1,0,0,1,1,0,0,1,0,0,0,1,1,0,0,0,1,0,0,1,0,1,1,0,0,1,1,1,0,0,0,0,0,0,1,1,0,0,0,0,0,0,0,1,0,0,1,1,1,0,0,1,0,0,0,0,0,1,1,0,0,1,1,0,0,0,0,0,0,0,0,0,1,0,0,0,0,1,1,0,1,1,0,0,0,1,0]
[1,0,1,0,0,0,1,0,0,0,0,0,0,0,0,0,0,0,0,null,0,0.24,0,0,0,0,0,0,0,1,1,1,1,1,0,0,0,0,0,0,0,0,1,0,1,0,0,0,0,0,1,0,0,0,1,0,0,0,0,0,0,0,0,1,1,0,0,0,0,1,0,0,0,0,0,0,0,0,0,0,0,0,0,1,{"$f":"IF(OFFSET($A208,0,CG$1)=CG$2,1,0)","v":1},0,0,0,0,0,0,0,1,1,0,0,0,0,0,0,1,0,0,0,1,0,0,0,0,0,1,1,0,0,0,0,0,1,0,0,1,0,0,0,0,1,1,1,0,0,1,0,0,0,0,1,0,0,1,1,0,0,1,0,0,0,0,0,0,0,0,0,0,0,0,0,1,1,0,0,1,1,0,0,0,0,0,0,0,1,1,0,0,0,0,0,0,0,1,0,0,1,1,1,0,0,1,0,0,0,0,0,0,1,0,0,1,1,0,0,0,0,0,0,0,0,0,0,0,0,0,0,1,1,0,1,1,0,0,0,0,0]
[1,0,1,0,0,0,0,0,0,0,0,0,0,0,0,0,0,0,0,null,0,0.30499999999999999,1,0,0,0,0,0,1,1,1,1,1,1,0,0,0,0,0,0,0,0,1,0,1,0,0,0,0,0,1,0,0,0,1,1,0,0,1,0,0,0,0,1,1,0,0,0,0,1,0,0,0,0,0,0,0,0,0,0,0,0,0,1,1,0,0,0,0,0,0,0,1,1,0,0,0,0,0,0,1,0,0,0,1,0,0,0,0,0,1,1,0,0,0,0,0,1,0,0,1,0,0,0,1,1,1,1,0,0,1,0,0,0,0,1,0,0,1,1,0,0,1,0,0,0,1,1,0,0,0,1,0,0,1,0,1,1,0,0,1,1,1,0,0,0,0,0,0,1,1,0,0,0,0,0,0,0,1,0,0,1,1,1,0,0,1,0,0,0,0,0,1,1,0,0,1,1,0,0,0,0,0,0,0,0,0,1,0,0,0,0,1,1,0,1,1,0,0,0,1,0]
[1,0,0,0,0,0,0,0,0,0,0,0,0,0,0,0,0,0,0,null,0,0.30499999999999999,{"$f":"IF(OFFSET($A220,0,W$1)=W$2,1,0)","v":1},0,0,0,0,0,1,1,1,1,1,1,0,0,0,0,0,0,0,0,1,0,1,0,0,0,0,0,1,0,0,0,1,1,0,0,1,0,0,0,0,1,1,0,0,0,0,1,0,0,0,0,0,0,0,0,0,0,0,0,0,1,1,0,0,0,0,0,0,0,1,1,0,0,0,0,0,0,1,0,0,0,1,0,0,0,0,0,1,1,0,0,0,0,0,1,0,0,1,0,0,0,1,1,1,1,0,0,1,0,0,0,0,1,0,0,1,1,0,0,1,0,0,0,{"$f":"IF(OFFSET($A220,0,EQ$1)=EQ$2,1,0)","v":1},1,0,0,0,1,0,0,1,0,1,1,0,0,1,1,1,0,0,0,0,0,0,1,1,0,0,0,0,0,0,0,1,0,0,1,1,1,0,0,1,0,0,0,0,0,1,1,0,0,1,1,0,0,0,0,0,0,0,0,0,1,0,0,0,0,1,1,0,1,1,0,0,0,1,0]
[1,0,1,0,0,1,0,0,0,0,0,0,0,0,0,0,0,0,0,null,0,0.14000000000000001,1,0,0,0,0,0,1,0,0,0,0,0,0,0,0,0,0,0,0,0,0,0,0,0,0,0,0,0,1,0,0,0,0,1,0,0,1,0,0,0,0,0,1,0,0,0,0,1,0,0,0,0,0,0,0,0,0,0,0,0,0,0,0,0,0,0,0,0,0,0,1,1,0,0,0,0,0,0,0,0,0,0,1,0,0,0,0,0,0,1,0,0,0,0,0,1,0,0,0,0,0,0,1,1,0,0,0,0,{"$f":"IF(OFFSET($A228,0,EA$1)=EA$2,1,0)","v":0},0,0,0,0,1,0,0,0,0,0,0,0,0,0,0,1,1,0,0,0,1,0,0,1,0,0,1,0,0,0,0,1,0,0,0,0,0,0,1,0,0,0,0,0,0,0,0,0,0,0,0,0,0,0,0,0,0,0,0,0,0,1,0,0,0,0,0,0,0,0,0,0,0,0,0,0,1,0,0,0,0,1,1,0,1,0,0,0,0,1,0]
[1,0,1,0,0,1,0,0,0,0,0,0,0,0,1,0,0,0,0,null,0,0.125,1,0,0,0,0,0,1,0,0,0,0,0,0,0,0,0,0,0,0,0,0,0,0,0,0,0,0,0,1,0,0,0,0,1,0,0,1,0,0,0,0,0,1,0,0,0,0,1,0,0,0,0,0,0,0,0,0,0,0,0,0,0,{"$f":"IF(OFFSET($A240,0,CG$1)=CG$2,1,0)","v":0},0,0,0,0,0,0,0,0,1,0,0,0,0,0,0,0,0,0,0,1,0,0,0,0,0,0,0,0,0,0,0,0,1,0,0,0,0,0,0,1,1,0,0,0,0,0,0,0,0,0,1,0,0,0,0,0,0,0,0,0,0,1,1,0,0,0,1,0,0,1,0,0,1,0,0,0,0,1,0,0,0,0,0,0,1,0,0,0,0,0,0,0,0,0,0,0,0,0,0,0,0,0,0,0,0,0,0,1,0,0,0,0,0,0,0,0,0,0,0,0,0,0,1,0,0,0,0,0,1,0,1,0,0,0,0,1,0]
[1,0,0,0,0,0,1,0,0,0,0,0,0,0,0,0,0,0,0,null,0,0.24,0,0,0,0,0,0,0,1,1,1,1,1,0,0,0,0,0,0,0,0,1,0,1,0,0,0,0,0,1,0,0,0,1,0,0,0,0,0,0,0,0,1,1,0,0,0,0,1,0,0,0,0,0,0,0,0,0,0,0,0,0,1,1,0,0,0,0,0,0,0,1,1,0,0,0,0,0,0,1,0,0,0,1,0,0,0,0,0,1,1,0,0,0,{"$f":"IF(OFFSET($A245,0,DL$1)=DL$2,1,0)","v":0},0,1,0,0,1,0,0,0,0,1,1,1,0,0,1,0,0,0,0,1,0,0,1,1,0,0,1,0,0,0,0,0,0,0,0,0,0,0,0,0,1,1,0,0,1,1,0,0,0,0,0,0,0,1,1,0,0,0,0,0,0,0,1,0,0,1,1,1,0,0,1,0,0,0,0,0,0,1,0,0,1,1,0,0,0,0,0,0,0,0,0,0,0,0,0,0,1,1,0,1,1,0,0,0,0,0]
[0,0,0,0,0,0,0,0,0,0,0,0,0,0,0,0,0,0,0,null,0,0.31,1,0,0,0,0,0,1,1,1,1,1,1,0,0,0,0,0,0,0,0,1,0,1,0,0,0,0,0,1,0,0,0,1,1,0,0,1,0,0,0,0,1,1,0,0,0,0,1,0,0,0,0,0,0,0,0,0,0,1,0,0,1,1,0,0,0,0,0,0,0,1,1,0,0,0,0,0,0,1,0,0,0,1,0,0,0,0,0,1,1,0,0,0,0,0,1,0,0,1,0,0,0,1,1,1,1,0,0,1,0,0,0,0,1,0,0,1,1,0,0,1,0,0,0,1,1,0,0,0,1,0,0,1,0,1,1,0,0,1,1,1,0,0,0,0,0,0,1,1,0,0,0,0,0,0,0,1,0,0,1,1,1,0,0,1,0,0,0,0,0,1,1,0,0,1,1,0,0,0,0,0,0,0,0,0,1,0,0,0,0,1,1,0,1,1,0,0,0,1,0]
[0,0,0,1,0,0,0,0,0,0,0,0,0,0,0,0,0,0,0,null,0,0.31,1,0,0,0,0,0,1,1,1,1,1,1,0,0,0,0,0,0,0,0,1,0,1,0,0,0,0,0,1,0,0,0,1,1,0,0,1,0,0,0,0,1,1,0,0,0,0,1,0,0,0,0,0,0,0,0,0,0,1,0,0,1,1,0,0,0,0,0,0,0,1,1,0,0,0,0,0,0,1,0,0,0,1,0,0,0,0,0,1,1,0,0,0,0,0,1,0,0,1,0,0,0,1,1,1,1,0,0,{"$f":"IF(OFFSET($A260,0,EA$1)=EA$2,1,0)","v":1},0,0,0,0,1,0,0,1,1,0,0,1,0,0,0,1,1,0,0,0,1,0,0,1,0,1,1,0,0,1,1,1,0,0,0,0,0,0,1,1,0,0,0,0,0,0,0,1,0,0,1,1,1,0,0,1,0,0,0,0,0,1,1,0,0,1,1,0,0,0,0,0,0,0,0,0,1,0,0,0,0,1,1,0,1,1,0,0,0,1,0]
[0,0,0,0,0,1,0,0,0,0,0,0,0,0,0,0,0,1,0,null,0,{"$f":"AVERAGE(W261:HN261)","v":8.5000000000000006E-2},1,0,0,0,0,0,1,0,0,0,0,0,0,0,0,0,0,0,0,0,0,0,0,0,0,0,0,0,0,0,0,0,0,1,0,0,1,0,0,0,0,0,0,0,0,0,0,0,0,0,0,0,0,0,0,0,0,0,1,0,0,0,0,0,0,0,0,0,0,0,1,0,0,0,0,0,0,0,0,0,0,0,0,0,0,0,0,0,0,1,0,0,0,{"$f":"IF(OFFSET($A261,0,DL$1)=DL$2,1,0)","v":0},0,0,0,0,0,0,0,0,1,0,0,0,0,0,0,0,0,0,0,0,0,0,0,0,0,0,0,0,0,0,1,1,0,0,0,1,0,0,1,0,0,0,0,0,0,0,1,0,0,0,0,0,0,0,0,0,0,0,0,0,0,0,0,0,0,0,0,0,0,0,0,0,0,0,0,0,1,0,0,0,0,0,0,0,0,0,0,0,0,0,0,1,0,0,0,0,1,0,0,0,0,0,0,0,1,0]
[0,1,0,0,0,0,0,0,0,0,0,0,0,0,0,0,0,0,0,null,0,0.31,1,0,0,0,0,0,1,1,1,1,1,1,0,0,0,0,0,0,0,0,1,0,1,0,0,0,0,0,1,0,0,0,1,1,0,0,1,0,0,0,0,1,1,0,0,0,0,1,0,0,0,0,0,0,0,0,0,0,1,0,0,1,1,0,0,0,0,0,0,0,1,1,0,0,0,0,0,0,1,0,0,0,1,0,0,0,0,0,1,1,0,0,0,0,0,1,0,0,1,0,0,0,1,1,1,1,0,0,1,0,0,0,0,1,0,0,1,1,0,0,1,0,0,0,1,1,0,0,0,1,0,0,1,0,1,1,0,0,1,1,1,0,0,0,0,0,0,1,1,0,0,0,0,0,0,0,1,0,0,1,1,1,0,0,1,0,0,0,0,0,1,1,0,0,1,1,0,0,0,0,0,0,0,0,0,1,0,0,0,0,1,1,0,1,1,0,0,0,1,0]
[0,1,0,0,0,1,0,0,0,0,0,0,0,0,0,0,0,0,0,null,0,0.14499999999999999,1,0,0,0,0,0,1,0,0,0,0,0,0,0,0,0,0,0,0,0,0,0,0,0,0,0,0,0,1,0,0,0,0,1,0,0,1,0,0,0,0,0,1,0,0,0,0,1,0,0,0,0,0,0,0,0,0,0,1,0,0,0,0,0,0,0,0,0,0,0,1,1,0,0,0,0,0,0,0,0,0,0,1,0,0,0,0,0,0,1,0,0,0,0,0,1,0,0,0,0,0,0,1,1,0,0,0,0,0,0,0,0,0,1,0,0,0,0,0,0,0,0,0,0,1,1,0,0,0,1,0,0,1,0,0,1,0,0,0,0,1,0,0,0,0,0,0,1,0,0,0,0,0,0,0,0,0,0,0,0,0,0,0,0,0,0,0,0,0,0,1,0,0,0,0,0,0,0,0,0,0,0,0,0,0,1,0,0,0,0,1,1,0,1,0,0,0,0,1,0]
[1,0,0,0,0,1,0,0,0,0,0,0,0,0,0,0,0,1,0,null,0,0.08,1,0,0,0,0,0,1,0,0,0,0,0,0,0,0,0,0,0,0,0,0,0,0,0,0,0,0,0,0,0,0,0,0,1,0,0,1,0,0,0,0,0,0,0,0,0,0,0,0,0,0,0,0,0,0,0,0,0,0,0,0,0,0,0,0,0,0,0,0,0,1,0,0,0,0,0,0,0,0,0,0,0,0,0,0,0,0,0,0,1,0,0,0,0,0,0,0,0,0,0,0,0,1,0,0,0,0,0,0,0,0,0,0,0,0,0,0,0,0,0,0,0,0,0,1,1,0,0,0,1,0,0,1,0,0,0,0,0,0,0,1,0,0,0,0,0,0,0,0,0,0,0,0,0,0,0,0,0,0,0,0,0,0,0,0,0,0,0,0,0,{"$f":"IF(OFFSET($A281,0,GK$1)=GK$2,1,0)","v":1},0,0,0,0,0,0,0,0,0,0,0,0,0,0,1,0,0,0,0,1,0,0,0,0,0,0,0,1,0]
[0,0,0,1,0,0,0,0,0,0,0,1,0,0,0,0,0,1,0,null,0,0.255,1,0,0,0,0,0,1,1,1,1,1,1,0,0,0,0,0,0,0,0,1,0,1,0,0,0,0,0,0,0,0,0,1,1,0,0,1,0,0,0,0,1,0,0,0,0,0,0,0,0,0,0,0,0,0,0,0,0,1,0,0,1,1,0,0,0,0,0,0,0,1,0,0,0,0,0,0,0,1,0,0,0,0,0,0,0,0,0,1,1,0,0,0,{"$f":"IF(OFFSET($A293,0,DL$1)=DL$2,1,0)","v":0},0,0,0,0,1,0,0,0,1,0,1,1,0,0,1,0,0,0,0,0,0,0,1,1,0,0,1,0,0,0,1,1,0,0,0,1,0,0,1,0,1,0,0,0,1,1,1,0,0,0,0,0,0,0,1,0,0,0,0,0,0,0,1,0,0,1,1,1,1,0,1,0,0,0,0,0,1,1,0,0,1,1,0,0,0,0,0,0,0,0,0,1,0,0,0,0,1,0,0,0,1,0,0,0,1,0]
[0,1,0,1,0,0,0,0,0,0,0,0,0,0,0,0,0,0,0,null,0,0.31,1,0,0,0,0,0,1,1,1,1,1,1,0,0,0,0,0,0,0,0,1,0,1,0,0,0,0,0,1,0,0,0,1,1,0,0,1,0,0,0,0,1,1,0,0,0,0,1,0,0,0,0,0,0,0,0,0,0,1,0,0,1,1,0,0,0,0,0,0,0,1,1,0,0,0,0,0,0,1,0,0,0,1,0,0,0,0,0,1,1,0,0,0,0,0,1,0,0,1,0,0,0,1,1,1,1,0,0,1,0,0,0,0,1,0,0,1,1,0,0,1,0,0,0,1,1,0,0,0,1,0,0,1,0,1,1,0,0,1,1,1,0,0,0,0,0,0,1,1,0,0,0,0,0,0,0,1,0,0,1,1,1,0,0,1,0,0,0,0,0,1,1,0,0,1,1,0,0,0,0,0,0,0,0,0,1,0,0,0,0,1,1,0,1,1,0,0,0,1,0]
[0,1,0,1,0,0,0,0,0,0,0,0,0,1,0,0,0,0,0,null,0,0.33500000000000002,1,0,0,0,0,0,1,1,1,1,1,1,0,0,0,0,0,0,0,0,1,0,1,0,0,0,0,0,1,0,0,{"$f":"IF(OFFSET($A303,0,BB$1)=BB$2,1,0)","v":0},1,1,0,0,1,0,0,0,0,1,1,0,0,0,0,1,0,0,0,0,0,1,0,0,0,0,1,0,1,1,1,0,0,1,0,0,0,0,1,1,0,0,0,0,0,{"$f":"IF(OFFSET($A303,0,CV$1)=CV$2,1,0)","v":0},1,0,0,0,1,0,0,0,0,0,1,1,0,0,0,0,0,1,0,0,1,0,0,0,1,1,1,1,0,0,1,0,0,0,0,1,0,0,1,1,0,0,1,0,0,0,1,1,0,0,0,1,0,0,1,0,1,1,0,0,1,1,1,0,0,0,0,0,0,1,1,0,0,0,0,0,0,0,1,0,0,1,1,1,0,0,1,0,0,0,0,0,1,1,0,0,1,1,0,0,0,0,0,0,1,0,0,1,0,1,0,0,1,1,0,1,1,0,0,0,1,0]
[0,1,1,0,0,0,1,0,0,0,0,0,0,0,0,0,0,0,0,null,0,0.245,0,0,0,0,0,0,0,1,1,1,1,1,0,0,0,0,0,0,0,0,1,0,1,0,0,0,0,0,1,0,0,0,1,0,0,0,0,0,0,0,0,1,1,0,0,0,0,1,0,0,0,0,0,0,0,0,0,0,1,0,0,1,1,0,0,0,0,0,0,0,1,1,0,0,0,0,0,0,1,0,0,0,1,0,0,0,0,0,1,1,0,0,0,0,0,1,0,0,1,0,0,0,0,1,1,1,0,0,1,0,0,0,0,1,0,0,1,1,0,0,1,0,0,0,0,0,0,0,0,0,0,0,0,0,1,1,0,0,1,1,0,0,0,0,0,0,0,1,1,0,0,0,0,0,0,0,1,0,0,1,1,1,0,0,1,0,0,0,0,0,{"$f":"IF(OFFSET($A313,0,GK$1)=GK$2,1,0)","v":0},1,0,0,1,1,0,0,0,0,0,0,0,0,0,0,0,0,0,0,1,1,0,1,1,0,0,0,0,0]
[1,0,1,0,0,1,0,0,0,0,0,0,0,0,0,0,1,0,0,null,0,0.21,1,0,0,1,0,0,1,0,0,0,0,0,1,0,0,0,0,0,0,0,0,0,0,0,0,0,0,0,1,0,0,0,0,1,0,0,1,0,0,0,0,0,1,0,0,0,0,1,0,0,0,0,0,0,0,0,1,0,0,0,0,0,0,0,0,0,0,1,0,0,1,1,0,0,0,0,0,0,0,0,1,0,1,0,0,0,0,0,0,1,1,1,0,0,0,1,0,1,0,0,0,0,1,1,0,0,0,0,0,0,0,0,0,1,0,0,0,0,0,0,0,0,0,1,1,1,0,0,0,1,0,0,1,0,0,1,0,0,0,0,1,1,0,1,0,0,0,1,0,1,0,0,0,0,0,0,0,0,0,0,0,0,0,0,0,0,0,0,0,0,1,0,0,0,0,0,0,0,0,1,0,0,0,0,0,1,0,0,0,0,1,1,0,1,0,1,0,0,1,0]
[1,0,1,0,0,1,0,0,0,0,0,0,0,0,0,0,0,0,0,null,0,0.14000000000000001,1,0,0,0,0,0,1,0,0,0,0,0,0,0,0,0,0,0,0,0,0,0,0,0,0,0,0,0,1,0,0,0,0,1,0,0,1,0,0,0,0,0,1,0,0,0,0,1,0,0,0,0,0,0,0,0,0,0,0,0,0,0,0,0,0,0,0,0,0,0,1,1,0,0,0,0,0,0,0,0,0,0,1,0,0,0,0,0,0,1,0,0,0,0,0,1,0,0,0,0,0,0,1,1,0,0,0,0,0,0,0,0,0,1,0,0,0,0,0,0,0,0,0,0,1,1,0,0,0,1,0,0,1,0,0,1,0,0,0,0,1,0,0,0,0,0,0,1,0,0,0,0,0,0,0,0,0,0,0,0,0,0,0,0,0,0,0,0,0,0,1,0,0,0,0,0,0,0,0,0,0,0,0,0,0,1,0,0,0,0,1,1,0,1,0,0,0,0,1,0]
[0,1,1,0,0,1,1,0,0,0,0,0,0,0,0,0,0,0,0,null,0,0.08,0,0,0,0,0,0,0,0,0,0,0,0,0,0,0,0,0,0,0,0,0,0,0,0,0,0,0,0,1,0,0,0,0,0,0,0,0,0,0,0,0,0,1,0,0,0,{"$f":"IF(OFFSET($A334,0,BQ$1)=BQ$2,1,0)","v":0},1,0,0,0,0,0,0,0,0,0,0,1,0,0,0,0,0,0,0,0,0,0,0,1,1,0,0,0,0,0,0,0,0,0,0,1,0,0,0,0,0,0,1,0,0,0,0,0,1,0,0,0,0,0,0,0,1,0,0,0,0,0,0,0,0,0,1,0,0,0,0,0,0,0,0,0,0,0,0,0,0,0,0,0,0,0,0,0,1,0,0,0,0,0,0,0,0,0,0,0,1,0,0,0,0,0,0,0,0,0,0,0,0,0,0,0,0,0,0,0,0,0,0,0,0,0,0,0,0,0,0,0,0,0,0,0,0,0,0,0,0,0,0,1,1,0,1,0,0,0,0,0,0]
[1,0,1,0,0,1,0,0,0,0,0,0,0,0,0,0,0,0,0,null,0,0.14000000000000001,1,0,0,0,0,0,1,0,0,0,0,0,0,0,0,0,0,0,0,0,0,0,0,0,0,0,0,0,1,0,0,0,0,1,0,0,1,0,0,0,0,0,1,0,0,0,0,1,0,0,0,0,0,0,0,0,0,0,0,0,0,0,{"$f":"IF(OFFSET($A336,0,CG$1)=CG$2,1,0)","v":0},0,0,0,0,0,0,0,1,1,0,0,0,0,0,0,0,0,0,0,1,0,0,0,0,0,0,1,0,0,0,0,0,1,0,0,0,0,0,0,1,1,0,0,0,0,0,0,0,0,0,1,0,0,0,0,0,0,0,0,0,0,1,1,0,0,0,1,0,0,1,0,0,1,0,0,0,0,1,0,0,0,0,0,0,1,0,0,0,0,0,0,0,0,0,0,0,0,0,0,0,0,0,0,0,0,0,0,1,0,0,0,0,0,0,0,0,0,0,0,0,0,0,1,0,0,0,0,1,1,0,1,0,0,0,0,1,0]
[1,0,0,1,0,0,1,0,0,0,0,0,0,0,0,0,0,1,0,null,0,0.18,0,0,0,0,0,0,0,1,1,1,1,1,0,0,0,0,0,0,0,0,1,0,1,0,0,0,0,0,0,0,0,0,1,0,0,0,0,0,0,0,0,1,0,0,0,0,0,0,0,0,0,0,0,0,0,0,0,0,0,0,0,1,1,0,0,0,0,0,0,0,1,0,0,0,0,0,0,0,1,0,0,0,0,0,0,0,0,0,1,1,0,0,0,0,0,0,0,0,1,0,0,0,0,0,1,1,0,0,1,0,0,0,0,0,0,0,1,1,0,0,1,0,0,0,0,0,0,0,0,0,0,0,0,0,1,0,0,0,1,1,0,0,0,0,0,0,0,0,1,0,0,0,0,0,0,{"$f":"IF(OFFSET($A346,0,FV$1)=FV$2,1,0)","v":0},1,0,0,1,1,1,0,0,1,0,0,0,0,0,0,1,0,0,1,1,0,0,0,0,0,0,0,0,0,0,0,0,0,0,1,0,0,0,1,0,0,0,0,0]
[0,0,0,1,0,1,1,0,0,0,0,0,0,0,1,0,0,0,0,null,0,6.5000000000000002E-2,0,0,0,0,0,0,0,0,0,0,0,0,0,0,0,0,0,0,0,0,0,0,0,0,0,0,0,0,1,0,0,0,0,0,0,0,0,0,0,0,0,0,1,0,0,0,0,1,0,0,0,0,0,0,0,0,0,0,1,0,0,0,0,0,0,0,0,0,0,0,0,1,0,0,0,0,0,0,0,0,0,0,1,0,0,0,0,0,0,0,0,0,0,0,0,1,0,0,0,0,0,0,0,1,0,0,0,0,0,0,0,0,0,1,0,0,0,0,0,0,0,0,0,0,0,0,0,0,0,0,0,0,0,0,0,1,0,0,0,0,0,0,0,0,0,0,0,1,0,0,0,0,0,0,0,0,0,0,0,0,0,0,0,0,0,0,0,0,0,0,0,0,0,0,0,0,0,0,0,0,0,0,0,0,0,0,0,0,0,0,0,1,0,1,0,0,0,0,0,0]
[0,0,1,0,0,0,1,0,0,0,0,0,0,0,0,0,0,0,0,null,0,0.245,0,0,0,0,0,0,0,1,1,1,1,1,0,0,0,0,0,0,0,0,1,0,1,0,0,0,0,0,1,0,0,0,1,0,0,0,0,0,0,0,0,1,1,0,0,0,0,1,0,0,0,0,0,0,0,0,0,0,1,0,0,1,1,0,0,0,0,0,0,0,1,1,0,0,0,0,0,0,1,0,0,0,1,0,0,0,0,0,1,1,0,0,0,0,0,1,0,0,1,0,0,0,0,1,1,1,0,0,1,0,0,0,0,1,0,0,1,1,0,0,1,0,0,0,0,0,0,0,0,0,0,0,0,0,1,1,0,0,1,1,0,0,0,0,0,0,0,1,1,0,0,0,0,0,0,{"$f":"IF(OFFSET($A362,0,FV$1)=FV$2,1,0)","v":0},1,0,0,1,1,1,0,0,1,0,0,0,0,0,0,1,0,0,1,1,0,0,0,0,0,0,0,0,0,0,0,0,0,0,1,1,0,1,1,0,0,0,0,0]
[1,0,0,0,0,0,0,0,0,0,0,0,0,0,0,0,0,0,0,null,0,0.30499999999999999,1,0,0,0,0,0,1,1,1,1,1,1,0,0,0,0,0,0,0,0,1,0,1,0,0,0,0,0,1,0,0,0,1,1,0,0,1,0,0,0,0,1,1,0,0,0,0,1,0,0,0,0,0,0,0,0,0,0,0,0,0,1,1,0,0,0,0,0,0,0,1,1,0,0,0,0,0,0,1,0,0,0,1,0,0,0,0,0,1,1,0,0,0,0,0,1,0,0,1,0,0,0,1,1,1,1,0,0,1,0,0,0,0,1,0,0,1,1,0,0,1,0,0,0,1,1,0,0,0,1,0,0,1,0,1,1,0,0,1,1,1,0,0,0,0,0,0,1,1,0,0,0,0,0,0,0,1,0,0,1,1,1,0,0,1,0,0,0,0,0,1,1,0,0,1,1,0,0,0,0,0,0,0,0,0,1,{"$f":"IF(OFFSET($A365,0,HA$1)=HA$2,1,0)","v":0},0,0,0,1,1,0,1,1,0,0,0,1,0]
[1,0,0,1,0,0,0,0,0,0,0,0,0,0,0,0,0,0,0,null,0,0.30499999999999999,1,0,0,0,0,0,1,1,1,1,1,1,0,0,0,0,0,0,0,0,1,0,1,0,0,0,0,0,1,0,0,0,1,1,0,0,1,0,0,0,0,1,1,0,0,0,0,1,0,0,0,0,0,0,0,0,0,0,0,0,0,1,1,0,0,0,0,0,0,0,1,1,0,0,0,0,0,0,1,0,0,0,1,0,0,0,0,0,1,1,0,0,0,0,0,1,0,0,1,0,0,0,1,1,1,1,0,0,1,0,0,0,0,1,0,0,1,1,0,0,1,0,0,0,1,1,0,0,0,1,0,0,1,0,1,1,0,0,1,1,1,0,0,0,0,0,0,1,1,0,0,0,0,0,0,0,1,0,0,1,1,1,0,0,1,0,0,0,0,0,1,1,0,0,1,1,0,0,0,0,0,0,0,0,0,1,0,0,0,0,1,1,0,1,1,0,0,0,1,0]
[0,0,1,0,0,1,1,0,0,0,0,0,0,0,1,0,0,0,1,null,0,0.20499999999999999,0,0,0,0,0,0,0,0,0,0,0,0,0,0,1,{"$f":"IF(OFFSET($A379,0,AL$1)=AL$2,1,0)","v":0},0,1,0,0,0,0,0,1,0,0,0,1,1,0,1,0,0,0,1,0,0,0,1,0,0,0,1,0,0,1,0,1,0,0,0,1,0,0,0,0,0,1,1,0,0,0,0,1,1,0,1,0,1,0,0,1,0,0,0,1,0,0,0,0,0,0,1,0,0,0,0,0,0,0,0,0,0,0,0,1,0,0,0,0,1,1,0,1,0,0,1,0,0,0,0,0,0,1,0,0,0,0,1,1,0,1,0,0,0,0,0,0,0,0,0,0,0,0,0,1,1,0,0,{"$f":"IF(OFFSET($A379,0,FF$1)=FF$2,1,0)","v":0},0,0,1,0,1,0,1,1,0,0,0,0,0,0,1,1,0,0,0,0,0,0,0,0,0,0,0,0,0,0,0,0,0,0,0,0,0,0,0,0,0,0,0,0,1,0,0,0,0,0,0,1,0,1,0,0,0,0,0,0]
[1,0,0,0,1,0,0,0,0,0,0,1,0,0,0,0,0,0,0,null,0,0.35499999999999998,1,0,0,0,0,0,1,1,1,1,1,1,0,0,0,0,0,0,0,0,1,0,1,0,0,0,1,0,1,0,0,0,1,1,0,0,1,0,0,0,0,1,1,0,0,0,0,1,0,0,0,0,0,0,0,0,0,0,0,0,0,1,1,0,0,0,0,0,0,0,1,1,0,0,0,0,0,0,1,0,0,0,1,0,0,0,0,0,1,1,0,0,0,1,0,1,0,0,1,0,0,0,1,1,1,1,0,0,1,0,1,0,0,1,1,0,1,1,0,0,1,0,0,0,1,1,0,0,0,1,0,0,1,0,1,1,0,0,1,1,1,0,0,0,0,0,0,1,1,0,0,1,0,0,0,0,1,0,1,1,1,1,1,0,1,0,0,0,0,0,1,1,1,0,1,1,0,1,1,0,0,0,0,0,0,1,0,0,0,0,1,1,0,1,1,0,0,0,1,0]
[1,0,0,1,0,0,1,0,0,0,0,0,0,0,0,0,0,0,0,null,0,0.24,0,0,0,0,0,0,0,1,1,1,1,1,0,0,0,{"$f":"IF(OFFSET($A395,0,AL$1)=AL$2,1,0)","v":0},0,0,0,0,1,0,1,0,0,0,0,0,1,0,0,0,1,0,0,0,0,0,0,0,0,1,1,0,0,0,0,1,0,0,0,0,0,0,0,0,0,0,0,0,0,1,1,0,0,0,0,0,0,0,1,1,0,0,0,0,0,0,1,0,0,0,1,0,0,0,0,0,1,1,0,0,0,0,0,1,0,0,1,0,0,0,0,1,1,1,0,0,1,0,0,0,0,1,0,0,1,1,0,0,1,0,0,0,0,0,0,0,0,0,0,0,0,0,1,1,0,0,1,{"$f":"IF(OFFSET($A395,0,FF$1)=FF$2,1,0)","v":1},0,0,0,0,0,0,0,1,1,0,0,0,0,0,0,0,1,0,0,1,1,1,0,0,1,0,0,0,0,0,0,1,0,0,1,1,0,0,0,0,0,0,0,0,0,0,0,0,0,0,1,1,0,1,1,0,0,0,0,0]
[0,1,0,0,0,0,1,0,0,0,0,0,0,0,0,0,0,0,0,null,0,0.245,0,0,0,0,0,0,0,1,1,1,1,1,0,0,0,0,0,0,0,0,1,0,1,0,0,0,0,0,1,0,0,0,1,0,0,0,0,0,0,0,0,1,1,0,0,0,{"$f":"IF(OFFSET($A398,0,BQ$1)=BQ$2,1,0)","v":0},1,0,0,0,0,0,0,0,0,0,0,1,0,0,1,1,0,0,0,0,0,0,0,1,1,0,0,0,0,0,0,1,0,0,0,1,0,0,0,0,0,1,1,0,0,0,0,0,1,0,0,1,0,0,0,0,1,1,1,0,0,1,0,0,0,0,1,0,0,1,1,0,0,1,0,0,0,0,0,0,0,0,0,0,0,0,0,1,1,0,0,1,1,0,0,0,0,0,0,0,1,1,0,0,0,0,0,0,0,1,0,0,1,1,1,0,0,1,0,0,0,0,0,0,1,0,0,1,1,0,0,0,0,0,0,0,0,0,0,0,0,0,0,1,1,0,1,1,0,0,0,0,0]
[0,1,1,0,0,0,0,0,0,0,0,0,0,0,0,0,1,0,0,null,0,0.38,1,0,0,1,0,0,1,1,1,1,1,1,1,0,0,0,0,0,0,0,1,0,1,0,0,0,0,0,1,0,0,0,1,1,0,0,1,0,0,0,0,1,1,0,0,0,0,1,0,0,0,0,0,0,0,0,1,0,1,0,0,1,1,0,0,0,0,1,0,0,1,1,0,0,0,0,0,0,1,0,1,0,1,0,0,0,0,0,1,1,1,1,0,0,0,1,0,1,1,0,0,0,1,1,1,1,0,0,1,0,0,0,0,1,0,0,1,1,0,0,1,0,0,1,1,1,0,0,0,1,0,0,1,0,1,1,0,0,1,1,1,1,0,1,0,0,0,1,1,1,0,0,0,0,0,0,1,0,0,1,1,1,0,0,1,0,0,0,0,0,1,1,0,0,1,1,0,0,0,1,0,0,0,0,0,1,0,0,0,0,1,1,0,1,1,1,0,0,1,0]
[1,0,1,0,0,0,0,0,0,0,0,0,0,1,0,0,0,0,0,null,0,0.33,{"$f":"IF(OFFSET($A412,0,W$1)=W$2,1,0)","v":1},0,0,0,0,0,1,1,1,1,1,1,0,0,0,0,0,0,0,0,1,0,1,0,0,0,0,0,1,0,0,0,1,1,0,0,1,0,0,0,0,1,1,0,0,0,0,1,0,0,0,0,0,1,0,0,0,0,0,0,1,1,1,0,0,1,0,0,0,0,1,1,0,0,0,0,0,0,1,0,0,0,1,0,0,0,0,0,1,1,0,0,0,0,0,1,0,0,1,0,0,0,1,1,1,1,0,0,1,0,0,0,0,1,0,0,1,1,0,0,1,0,0,0,{"$f":"IF(OFFSET($A412,0,EQ$1)=EQ$2,1,0)","v":1},1,0,0,0,1,0,0,1,0,1,1,0,0,1,1,1,0,0,0,0,0,0,1,1,0,0,0,0,0,0,0,1,0,0,1,1,1,0,0,1,0,0,0,0,0,1,1,0,0,1,1,0,0,0,0,0,0,1,0,0,1,0,1,0,0,1,1,0,1,1,0,0,0,1,0]
[0,1,0,1,0,1,0,0,0,0,0,0,0,0,1,0,0,0,0,null,0,0.13,1,0,0,0,0,0,1,0,0,0,0,0,0,0,0,0,0,0,0,0,0,0,0,0,0,0,0,0,1,0,0,0,0,1,0,0,1,0,0,0,0,0,1,0,0,0,0,1,0,0,0,0,0,0,0,0,0,0,1,0,0,0,0,0,0,0,0,0,0,0,0,1,0,0,0,0,0,0,0,0,0,0,1,0,0,0,0,0,0,0,0,0,0,0,0,1,0,0,0,0,0,0,1,1,0,0,0,0,{"$f":"IF(OFFSET($A420,0,EA$1)=EA$2,1,0)","v":0},0,0,0,0,1,0,0,0,0,0,0,0,0,0,0,1,1,0,0,0,1,0,0,1,0,0,1,0,0,0,0,1,0,0,0,0,0,0,1,0,0,0,0,0,0,0,0,0,0,0,0,0,0,0,0,0,0,0,0,0,0,1,0,0,0,0,0,0,0,0,0,0,0,0,0,0,1,0,0,0,0,0,1,0,1,0,0,0,0,1,0]
[0,0,0,0,0,0,0,0,0,0,0,0,0,0,0,0,0,0,0,null,0,0.31,1,0,0,0,0,0,1,1,1,1,1,1,0,0,0,0,0,0,0,0,1,0,1,0,0,0,0,0,1,0,0,0,1,1,0,0,1,0,0,0,0,1,1,0,0,0,0,1,0,0,0,0,0,0,0,0,0,0,1,0,0,1,1,0,0,0,0,0,0,0,1,1,0,0,0,0,0,0,1,0,0,0,1,0,0,0,0,0,1,1,0,0,0,0,0,1,0,0,1,0,0,0,1,1,1,1,0,0,1,0,0,0,0,1,0,0,1,1,0,0,1,0,0,0,1,1,0,0,0,1,0,0,1,0,1,1,0,0,1,1,1,0,0,0,0,0,0,1,1,0,0,0,0,0,0,0,1,0,0,1,1,1,0,0,1,0,0,0,0,0,1,1,0,0,1,1,0,0,0,0,0,0,0,0,0,1,0,0,0,0,1,1,0,1,1,0,0,0,1,0]
[0,0,0,0,0,0,0,0,0,0,0,0,0,0,0,0,0,0,0,null,0,0.31,1,0,0,0,0,0,1,1,1,1,1,1,0,0,0,0,0,0,0,0,1,0,1,0,0,0,0,0,1,0,0,0,1,1,0,0,1,0,0,0,0,1,1,0,0,0,0,1,0,0,0,0,0,0,0,0,0,0,1,0,0,1,{"$f":"IF(OFFSET($A432,0,CG$1)=CG$2,1,0)","v":1},0,0,0,0,0,0,0,1,1,0,0,0,0,0,0,1,0,0,0,1,0,0,0,0,0,1,1,0,0,0,0,0,1,0,0,1,0,0,0,1,1,1,1,0,0,1,0,0,0,0,1,0,0,1,1,0,0,1,0,0,0,1,1,0,0,0,1,0,0,1,0,1,1,0,0,1,1,1,0,0,0,0,0,0,1,1,0,0,0,0,0,0,0,1,0,0,1,1,1,0,0,1,0,0,0,0,0,1,1,0,0,1,1,0,0,0,0,0,0,0,0,0,1,0,0,0,0,1,1,0,1,1,0,0,0,1,0]
[0,0,0,1,0,0,0,0,0,0,0,0,0,0,0,0,0,0,0,null,0,0.31,1,0,0,0,0,0,1,1,1,1,1,1,0,0,0,0,0,0,0,0,1,0,1,0,0,0,0,0,1,0,0,0,1,1,0,0,1,0,0,0,0,1,1,0,0,0,0,1,0,0,0,0,0,0,0,0,0,0,1,0,0,1,1,0,0,0,0,0,0,0,1,1,0,0,0,0,0,0,1,0,0,0,1,0,0,0,0,0,1,1,0,0,0,0,0,1,0,0,1,0,0,0,1,1,1,1,0,0,1,0,0,0,0,1,0,0,1,1,0,0,1,0,0,0,1,1,0,0,0,1,0,0,1,0,1,1,0,0,1,1,1,0,0,0,0,0,0,1,1,0,0,0,0,0,0,0,1,0,0,1,1,1,0,0,1,0,0,0,0,0,1,1,0,0,1,1,0,0,0,0,0,0,0,0,0,1,0,0,0,0,1,1,0,1,1,0,0,0,1,0]
[1,0,0,0,0,1,1,0,0,1,0,0,0,0,0,0,0,0,0,null,0,7.4999999999999997E-2,0,0,0,0,0,0,0,0,0,0,0,0,0,0,0,0,0,0,0,0,0,0,0,0,0,0,0,0,1,0,0,0,0,0,0,0,0,0,0,0,0,0,1,0,0,0,0,1,0,0,0,0,0,0,0,0,0,0,0,0,0,0,{"$f":"IF(OFFSET($A448,0,CG$1)=CG$2,1,0)","v":0},0,0,0,0,0,0,0,1,1,0,0,0,0,0,0,0,0,0,0,1,0,0,0,0,0,0,1,0,0,0,0,0,1,0,0,0,0,0,0,0,1,0,0,0,0,0,0,0,0,0,1,0,0,0,0,0,0,0,0,0,0,0,0,0,0,0,0,0,0,0,0,0,1,0,0,0,0,0,0,0,0,0,0,0,1,0,0,0,0,0,0,0,0,0,0,0,0,0,0,0,0,0,0,0,0,0,0,0,0,0,0,0,0,0,0,0,0,0,0,0,0,0,0,0,0,0,0,1,1,0,1,0,0,0,0,0,0]
[1,0,0,0,0,1,0,0,0,0,0,0,0,0,0,0,0,0,0,null,0,{"$f":"AVERAGE(W453:HN453)","v":0.14000000000000001},1,0,0,0,0,0,1,0,0,0,0,0,0,0,0,0,0,0,0,0,0,0,0,0,0,0,0,0,1,0,0,0,0,1,0,0,1,0,0,0,0,0,1,0,0,0,0,1,0,0,0,0,0,0,0,0,0,0,0,0,0,0,0,0,0,0,0,0,0,0,1,1,0,0,0,0,0,0,0,0,0,0,1,0,0,0,0,0,0,1,0,0,0,{"$f":"IF(OFFSET($A453,0,DL$1)=DL$2,1,0)","v":0},0,1,0,0,0,0,0,0,1,1,0,0,0,0,0,0,0,0,0,1,0,0,0,0,0,0,0,0,0,0,1,1,0,0,0,1,0,0,1,0,0,1,0,0,0,0,1,0,0,0,0,0,0,1,0,0,0,0,0,0,0,0,0,0,0,0,0,0,0,0,0,0,0,0,0,0,1,0,0,0,0,0,0,0,0,0,0,0,0,0,0,1,0,0,0,0,1,1,0,1,0,0,0,0,1,0]
[0,1,1,0,0,0,0,0,0,0,0,0,0,0,0,0,0,0,0,null,0,0.31,1,0,0,0,0,0,1,1,1,1,1,1,0,0,0,0,0,0,0,0,1,0,1,0,0,0,0,0,1,0,0,0,1,1,0,0,1,0,0,0,0,1,1,0,0,0,{"$f":"IF(OFFSET($A462,0,BQ$1)=BQ$2,1,0)","v":0},1,0,0,0,0,0,0,0,0,0,0,1,0,0,1,1,0,0,0,0,0,0,0,1,1,0,0,0,0,0,0,1,0,0,0,1,0,0,0,0,0,1,1,0,0,0,0,0,1,0,0,1,0,0,0,1,1,1,1,0,0,1,0,0,0,0,1,0,0,1,1,0,0,1,0,0,0,1,1,0,0,0,1,0,0,1,0,1,1,0,0,1,1,1,0,0,0,0,0,0,1,1,0,0,0,0,0,0,0,1,0,0,1,1,1,0,0,1,0,0,0,0,0,1,1,0,0,1,1,0,0,0,0,0,0,0,0,0,1,0,0,0,0,1,1,0,1,1,0,0,0,1,0]
[1,0,1,0,0,1,1,0,0,0,0,0,0,0,0,0,0,0,0,null,0,7.4999999999999997E-2,0,0,0,0,0,0,0,0,0,0,0,0,0,0,0,0,0,0,0,0,0,0,0,0,0,0,0,0,1,0,0,0,0,0,0,0,0,0,0,0,0,0,1,0,0,0,0,1,0,0,0,0,0,0,0,0,0,0,0,0,0,0,0,0,0,0,0,0,0,0,1,1,0,0,0,0,0,0,0,0,0,0,1,0,0,0,0,0,0,1,0,0,0,0,0,1,0,0,0,0,0,0,0,1,0,0,0,0,0,0,0,0,0,1,0,0,0,0,0,0,0,0,0,0,0,0,0,0,0,0,0,0,0,0,0,1,0,0,0,0,0,0,0,0,0,0,0,1,0,0,0,0,0,0,0,0,0,0,0,0,0,0,0,0,0,0,0,0,0,0,0,0,0,0,0,0,0,0,0,0,0,0,0,0,0,0,0,0,0,0,1,1,0,1,0,0,0,0,0,0]
[0,0,0,1,0,0,0,0,0,0,0,0,0,0,0,0,0,0,0,null,0,0.31,1,0,0,0,0,0,1,1,1,1,1,1,0,0,0,0,0,0,0,0,1,0,1,0,0,0,0,0,1,0,0,0,1,1,0,0,1,0,0,0,0,1,1,0,0,0,0,1,0,0,0,0,0,0,0,0,0,0,1,0,0,1,1,0,0,0,0,0,0,0,1,1,0,0,0,0,0,0,1,0,0,0,1,0,0,0,0,0,1,1,0,0,0,0,0,1,0,0,1,0,0,0,1,1,1,1,0,0,1,0,0,0,0,1,0,0,1,1,0,0,1,0,0,0,1,1,0,0,0,1,0,0,1,0,1,1,0,0,1,1,1,0,0,0,0,0,0,1,1,0,0,0,0,0,0,0,1,0,0,1,1,1,0,0,1,0,0,0,0,0,{"$f":"IF(OFFSET($A473,0,GK$1)=GK$2,1,0)","v":1},1,0,0,1,1,0,0,0,0,0,0,0,0,0,1,0,0,0,{"$f":"IF(OFFSET($A473,0,HD$1)=HD$2,1,0)","v":0},1,1,0,1,1,0,0,0,1,0]
[0,0,0,0,0,0,1,0,0,0,0,0,0,0,0,0,0,0,0,null,0,0.245,0,0,0,0,0,0,0,1,1,1,1,1,0,0,0,0,0,0,0,0,1,0,1,0,0,0,0,0,1,0,0,0,1,0,0,0,0,0,0,0,0,1,1,0,0,0,0,1,0,0,0,0,0,0,0,0,0,0,1,0,0,1,1,0,0,0,0,0,0,0,1,1,0,0,0,0,0,0,1,0,0,0,1,0,0,0,0,0,1,1,0,0,0,0,0,1,0,0,1,0,0,0,0,1,1,1,0,0,1,0,0,0,0,1,0,0,1,1,0,0,1,0,0,0,0,0,0,0,0,0,0,0,0,0,1,1,0,0,1,1,0,0,0,0,0,0,0,1,1,0,0,0,0,0,0,0,1,0,0,1,1,1,0,0,1,0,0,0,0,0,0,1,0,0,1,1,0,0,0,0,0,0,0,0,0,0,0,0,0,0,1,1,0,1,1,0,0,0,0,0]
[0,1,0,0,0,0,0,0,0,0,0,0,0,0,0,0,0,0,0,null,0,0.31,1,0,0,0,0,0,1,1,1,1,1,1,0,0,0,0,0,0,0,0,1,0,1,0,0,0,0,0,1,0,0,0,1,1,0,0,1,0,0,0,0,1,1,0,0,0,0,1,0,0,0,0,0,0,0,0,0,0,1,0,0,1,1,0,0,0,0,0,0,0,1,1,0,0,0,0,0,0,1,0,0,0,1,0,0,0,0,0,1,1,0,0,0,{"$f":"IF(OFFSET($A485,0,DL$1)=DL$2,1,0)","v":0},0,1,0,0,1,0,0,0,1,1,1,1,0,0,1,0,0,0,0,1,0,0,1,1,0,0,1,0,0,0,1,1,0,0,0,1,0,0,1,0,1,1,0,0,1,1,1,0,0,0,0,0,0,1,1,0,0,0,0,0,0,0,1,0,0,1,1,1,0,0,1,0,0,0,0,0,1,1,0,0,1,1,0,0,0,0,0,0,0,0,0,1,0,0,0,0,1,1,0,1,1,0,0,0,1,0]
[1,0,1,0,0,0,0,0,0,0,0,0,0,0,0,0,0,0,0,null,0,0.30499999999999999,1,0,0,0,0,0,1,1,1,1,1,1,0,0,0,0,0,0,0,0,1,0,1,0,0,0,0,0,1,0,0,0,1,1,0,0,1,0,0,0,0,1,1,0,0,0,0,1,0,0,0,0,0,0,0,0,0,0,0,0,0,1,1,0,0,0,0,0,0,0,1,1,0,0,0,0,0,0,1,0,0,0,1,0,0,0,0,0,1,1,0,0,0,0,0,1,0,0,1,0,0,0,1,1,1,1,0,0,1,0,0,0,0,1,0,0,1,1,0,0,1,0,0,0,1,1,0,0,0,1,0,0,1,0,1,1,0,0,1,1,1,0,0,0,0,0,0,1,1,0,0,0,0,0,0,0,1,0,0,1,1,1,0,0,1,0,0,0,0,0,1,1,0,0,1,1,0,0,0,0,0,0,0,0,0,1,0,0,0,0,1,1,0,1,1,0,0,0,1,0]
[0,0,1,0,0,0,0,0,0,0,0,0,0,0,0,0,0,0,0,null,0,0.31,1,0,0,0,0,0,1,1,1,1,1,1,0,0,0,0,0,0,0,0,1,0,1,0,0,0,0,0,1,0,0,0,1,1,0,0,1,0,0,0,0,1,1,0,0,0,0,1,0,0,0,0,0,0,0,0,0,0,1,0,0,1,1,0,0,0,0,0,0,0,1,1,0,0,0,0,0,0,1,0,0,0,1,0,0,0,0,0,1,1,0,0,0,0,0,1,0,0,1,0,0,0,1,1,1,1,0,0,1,0,0,0,0,1,0,0,1,1,0,0,1,0,0,0,1,1,0,0,0,1,0,0,1,0,1,1,0,0,1,1,1,0,0,0,0,0,0,1,1,0,0,0,0,0,0,0,1,0,0,1,1,1,0,0,1,0,0,0,0,0,1,1,0,0,1,1,0,0,0,0,0,0,0,0,0,1,0,0,0,0,1,1,0,1,1,0,0,0,1,0]
[0,1,1,0,0,0,1,0,0,0,0,0,0,0,0,0,0,0,0,null,0,0.245,0,0,0,0,0,0,0,1,1,1,1,1,0,0,0,0,0,0,0,0,1,0,1,0,0,0,0,0,1,0,0,0,1,0,0,0,0,0,0,0,0,1,1,0,0,0,0,1,0,0,0,0,0,0,0,0,0,0,1,0,0,1,1,0,0,0,0,0,0,0,1,1,0,0,0,0,0,0,1,0,0,0,1,0,0,0,0,0,1,1,0,0,0,0,0,1,0,0,1,0,0,0,0,1,1,1,0,0,1,0,0,0,0,1,0,0,1,1,0,0,1,0,0,0,0,0,0,0,0,0,0,0,0,0,1,1,0,0,1,1,0,0,0,0,0,0,0,1,1,0,0,0,0,0,0,{"$f":"IF(OFFSET($A506,0,FV$1)=FV$2,1,0)","v":0},1,0,0,1,1,1,0,0,1,0,0,0,0,0,0,1,0,0,1,1,0,0,0,0,0,0,0,0,0,0,0,0,0,0,1,1,0,1,1,0,0,0,0,0]
[0,0,1,0,0,0,0,0,0,0,0,0,0,0,0,0,0,0,0,null,0,0.31,1,0,0,0,0,0,1,1,1,1,1,1,0,0,0,0,0,0,0,0,1,0,1,0,0,0,0,0,1,0,0,0,1,1,0,0,1,0,0,0,0,1,1,0,0,0,0,1,0,0,0,0,0,0,0,0,0,0,1,0,0,1,1,0,0,0,0,0,0,0,1,1,0,0,0,0,0,0,1,0,0,0,1,0,0,0,0,0,1,1,0,0,0,0,0,1,0,0,1,0,0,0,1,1,1,1,0,0,1,0,0,0,0,1,0,0,1,1,0,0,1,0,0,0,1,1,0,0,0,1,0,0,1,0,1,1,0,0,1,1,1,0,0,0,0,0,0,1,1,0,0,0,0,0,0,0,1,0,0,1,1,1,0,0,1,0,0,0,0,0,1,1,0,0,1,1,0,0,0,0,0,0,0,0,0,1,0,0,0,0,1,1,0,1,1,0,0,0,1,0]
[1,0,0,0,0,1,1,0,0,0,0,0,0,0,1,0,0,0,0,null,0,0.06,{"$f":"IF(OFFSET($A524,0,W$1)=W$2,1,0)","v":0},0,0,0,0,0,0,0,0,0,0,0,0,0,0,0,0,0,0,0,0,0,0,0,0,0,0,0,1,0,0,0,0,0,0,0,0,0,0,0,0,0,1,0,0,0,0,1,0,0,0,0,0,0,0,0,0,0,0,0,0,0,0,0,0,0,0,0,0,0,0,1,0,0,0,0,0,0,0,0,0,0,1,0,0,0,0,0,0,0,0,0,0,0,0,1,0,0,0,0,0,0,0,1,0,0,0,0,0,0,0,0,0,1,0,0,0,0,0,0,0,0,0,0,{"$f":"IF(OFFSET($A524,0,EQ$1)=EQ$2,1,0)","v":0},0,0,0,0,0,0,0,0,0,0,1,0,0,0,0,0,0,0,0,0,0,0,1,0,0,0,0,0,0,0,0,0,0,0,0,0,0,0,0,0,0,0,0,0,0,0,0,0,0,0,0,0,0,0,0,0,0,0,0,0,0,0,0,0,0,0,1,0,1,0,0,0,0,0,0]
[0,1,0,0,0,0,0,0,0,0,0,0,0,0,0,0,0,0,0,null,0,0.31,1,0,0,0,0,0,1,1,1,1,1,1,0,0,0,0,0,0,0,0,1,0,1,0,0,0,0,0,1,0,0,0,1,1,0,0,1,0,0,0,0,1,1,0,0,0,{"$f":"IF(OFFSET($A526,0,BQ$1)=BQ$2,1,0)","v":0},1,0,0,0,0,0,0,0,0,0,0,1,0,0,1,1,0,0,0,0,0,0,0,1,1,0,0,0,0,0,0,1,0,0,0,1,0,0,0,0,0,1,1,0,0,0,0,0,1,0,0,1,0,0,0,1,1,1,1,0,0,1,0,0,0,0,1,0,0,1,1,0,0,1,0,0,0,1,1,0,0,0,1,0,0,1,0,1,1,0,0,1,1,1,0,0,0,0,0,0,1,1,0,0,0,0,0,0,0,1,0,0,1,1,1,0,0,1,0,0,0,0,0,1,1,0,0,1,1,0,0,0,0,0,0,0,0,0,1,0,0,0,0,1,1,0,1,1,0,0,0,1,0]
[0,1,0,1,0,0,0,0,1,0,0,0,0,0,0,0,0,0,0,null,0,0.45500000000000002,1,1,0,0,1,1,1,1,1,1,1,1,0,0,0,0,0,0,0,0,1,0,1,0,1,0,0,0,1,0,0,0,1,1,0,0,1,1,0,1,0,1,1,0,1,0,0,1,1,0,0,0,1,0,0,0,0,0,1,0,0,1,1,0,0,0,0,0,0,0,1,1,0,0,0,0,0,0,1,1,0,0,1,1,0,0,0,1,1,1,0,0,0,0,0,1,0,0,1,0,0,0,1,1,1,1,0,0,1,0,0,1,0,1,0,1,1,1,0,0,1,0,1,0,1,1,0,0,0,1,1,0,1,0,1,1,0,0,1,1,1,0,0,0,0,0,0,1,1,0,1,0,0,1,0,0,1,0,0,1,1,1,0,1,1,0,1,0,0,1,1,1,0,1,1,1,1,0,0,0,1,1,0,1,0,1,0,0,1,0,1,1,0,1,1,0,1,1,1,0]
[1,0,1,0,0,0,1,0,0,0,0,0,0,0,0,0,0,0,1,null,0,0.38,0,0,0,0,0,0,0,1,1,1,1,1,0,0,1,{"$f":"IF(OFFSET($A539,0,AL$1)=AL$2,1,0)","v":0},0,1,0,0,1,0,1,1,0,0,0,1,1,0,1,0,1,0,1,0,0,0,1,0,0,1,1,0,0,1,0,1,0,0,0,1,0,0,0,0,0,1,0,0,0,1,1,1,1,0,1,0,1,0,1,1,0,0,0,1,0,0,1,0,0,0,1,0,0,0,0,0,1,1,0,0,0,0,0,1,0,0,1,0,1,1,0,1,1,1,1,0,1,0,0,0,0,1,0,0,1,1,1,1,1,1,0,0,0,0,0,0,0,0,0,0,0,0,1,1,1,0,1,{"$f":"IF(OFFSET($A539,0,FF$1)=FF$2,1,0)","v":1},0,0,1,0,1,0,1,1,1,0,0,0,0,0,1,1,1,0,0,1,1,1,0,0,1,0,0,0,0,0,0,1,0,0,1,1,0,0,0,0,0,0,0,0,1,0,0,0,0,0,1,1,0,1,1,0,0,0,0,0]
[0,0,0,1,1,0,0,0,0,0,0,0,0,0,0,0,0,0,0,null,0,0.35499999999999998,1,0,0,0,0,0,1,1,1,1,1,1,0,0,0,0,0,0,0,0,1,0,1,0,0,0,1,0,1,0,0,0,1,1,0,0,1,0,0,0,0,1,1,0,0,0,0,1,0,0,0,0,0,0,0,0,0,0,1,0,0,1,1,0,0,0,0,0,0,0,1,1,0,0,0,0,0,0,1,0,0,0,1,0,0,0,0,0,1,1,0,0,0,{"$f":"IF(OFFSET($A549,0,DL$1)=DL$2,1,0)","v":1},0,1,0,0,1,0,0,0,1,1,1,1,0,0,1,0,1,0,0,1,1,0,1,1,0,0,1,0,0,0,1,1,0,0,0,1,0,0,1,0,1,1,0,0,1,1,1,0,0,0,0,0,0,1,1,0,0,1,0,0,0,0,1,0,1,1,1,1,0,0,1,0,0,0,0,0,1,1,1,0,1,1,0,1,1,0,0,0,0,0,0,1,0,0,0,0,1,1,0,1,1,0,0,0,1,0]
[0,0,1,0,0,1,0,0,0,0,0,0,0,0,0,1,0,0,0,null,0,0.16500000000000001,1,0,0,0,0,0,1,0,0,0,0,0,0,0,0,0,0,0,1,0,0,0,0,0,0,0,0,0,1,0,0,0,0,1,0,0,1,0,0,0,0,0,1,0,0,0,{"$f":"IF(OFFSET($A558,0,BQ$1)=BQ$2,1,0)","v":0},1,0,0,0,0,0,0,0,0,0,0,1,0,0,0,0,0,0,0,0,0,0,0,1,1,0,0,1,0,0,0,0,0,0,0,1,0,0,1,0,0,0,1,0,0,0,0,0,1,0,0,0,0,0,0,1,1,0,0,0,0,0,0,0,0,1,1,0,0,0,0,0,0,0,0,0,0,1,1,0,0,0,1,0,0,1,0,0,1,0,0,0,0,1,0,0,0,0,0,0,1,0,0,0,0,0,0,0,0,0,0,0,0,0,0,0,0,0,0,0,0,0,0,1,0,0,0,0,0,0,0,0,0,0,0,0,0,0,1,0,0,0,0,1,1,0,1,0,0,0,0,1,0]
[1,0,0,1,0,0,1,0,0,0,0,0,0,0,0,0,0,0,0,null,0,0.24,0,0,0,0,0,0,0,1,1,1,1,1,0,0,0,0,0,0,0,0,1,0,1,0,0,0,0,0,1,0,0,{"$f":"IF(OFFSET($A559,0,BB$1)=BB$2,1,0)","v":0},1,0,0,0,0,0,0,0,0,1,1,0,0,0,0,1,0,0,0,0,0,0,0,0,0,0,0,0,0,1,1,0,0,0,0,0,0,0,1,1,0,0,0,0,0,{"$f":"IF(OFFSET($A559,0,CV$1)=CV$2,1,0)","v":0},1,0,0,0,1,0,0,0,0,0,1,1,0,0,0,0,0,1,0,0,1,0,0,0,0,1,1,1,0,0,1,0,0,0,0,1,0,0,1,1,0,0,1,0,0,0,0,0,0,0,0,0,0,0,0,0,1,1,0,0,1,1,0,0,0,0,0,0,0,1,1,0,0,0,0,0,0,0,1,0,0,1,1,1,0,0,1,0,0,0,0,0,0,1,0,0,1,1,0,0,0,0,0,0,0,0,0,0,0,0,0,0,1,1,0,1,1,0,0,0,0,0]
[0,1,0,1,0,1,0,0,0,0,0,0,0,0,0,0,0,0,1,null,0,0.28499999999999998,1,0,0,0,0,0,1,0,0,0,0,0,0,0,1,0,0,1,0,0,0,0,0,1,0,0,0,1,1,0,1,0,0,1,1,0,1,0,1,0,0,0,1,0,0,1,0,1,0,0,0,1,0,0,0,0,0,1,1,0,0,0,0,1,1,0,1,0,1,0,1,1,0,0,0,1,0,0,0,0,0,0,1,0,0,0,0,0,0,1,0,0,0,0,0,1,0,0,0,0,1,1,1,1,0,0,1,0,0,0,0,0,0,1,0,0,0,0,1,1,0,1,0,0,1,1,0,0,0,1,0,0,1,0,0,1,1,0,0,0,1,0,1,0,1,0,1,1,0,0,0,0,0,0,1,1,0,0,0,0,0,0,0,0,0,0,0,0,0,0,1,0,0,0,0,0,0,0,0,0,0,0,0,0,1,1,0,0,0,0,1,1,0,1,0,0,0,0,1,0]
[0,0,0,1,0,1,1,0,0,0,0,0,0,0,0,0,0,0,0,null,0,0.08,0,0,0,0,0,0,0,0,0,0,0,0,0,0,0,0,0,0,0,0,0,0,0,0,0,0,0,0,1,0,0,0,0,0,0,0,0,0,0,0,0,0,1,0,0,0,0,1,0,0,0,0,0,0,0,0,0,0,1,0,0,0,0,0,0,0,0,0,0,0,1,1,0,0,0,0,0,0,0,0,0,0,1,0,0,0,0,0,0,1,0,0,0,0,0,1,0,0,0,0,0,0,0,1,0,0,0,0,0,0,0,0,0,1,0,0,0,0,0,0,0,0,0,0,0,0,0,0,0,0,0,0,0,0,0,1,0,0,0,0,0,0,0,0,0,0,0,1,0,0,0,0,0,0,0,0,0,0,0,0,0,0,0,0,0,0,0,0,0,0,0,0,0,0,0,0,0,0,0,0,0,0,0,0,0,0,0,0,0,0,1,1,0,1,0,0,0,0,0,0]
[1,0,0,0,0,0,0,0,0,0,0,0,0,0,0,0,0,1,1,null,0,0.38500000000000001,1,0,0,0,0,0,1,1,1,1,1,1,0,0,1,0,0,1,0,0,1,0,1,1,0,0,0,1,0,0,1,0,1,1,1,0,1,0,1,0,0,1,0,0,0,1,0,0,0,0,0,1,0,0,0,0,0,1,0,0,0,1,1,1,1,0,1,0,1,0,1,0,0,0,0,1,0,0,1,0,0,0,0,0,0,0,0,0,1,1,0,0,0,0,0,0,0,0,1,0,1,1,1,0,1,1,1,0,1,0,0,0,0,0,0,0,1,1,1,1,1,1,0,0,1,1,0,0,0,1,0,0,1,0,1,0,1,0,1,1,1,0,1,0,1,0,1,0,1,0,0,0,0,0,1,1,1,0,0,1,1,1,0,0,1,0,0,0,0,0,1,1,0,0,1,1,0,0,0,0,0,0,0,0,1,1,0,0,0,0,1,0,0,0,1,0,0,0,1,0]
[0,1,1,0,0,0,0,0,0,0,0,0,0,1,0,0,0,0,0,null,0,0.33500000000000002,1,0,0,0,0,0,1,1,1,1,1,1,0,0,0,{"$f":"IF(OFFSET($A587,0,AL$1)=AL$2,1,0)","v":0},0,0,0,0,1,0,1,0,0,0,0,0,1,0,0,0,1,1,0,0,1,0,0,0,0,1,1,0,0,0,0,1,0,0,0,0,0,1,0,0,0,0,1,0,1,1,1,0,0,1,0,0,0,0,1,1,0,0,0,0,0,0,1,0,0,0,1,0,0,0,0,0,1,1,0,0,0,0,0,1,0,0,1,0,0,0,1,1,1,1,0,0,1,0,0,0,0,1,0,0,1,1,0,0,1,0,0,0,1,1,0,0,0,1,0,0,1,0,1,1,0,0,1,{"$f":"IF(OFFSET($A587,0,FF$1)=FF$2,1,0)","v":1},1,0,0,0,0,0,0,1,1,0,0,0,0,0,0,0,1,0,0,1,1,1,0,0,1,0,0,0,0,0,1,1,0,0,1,1,0,0,0,0,0,0,1,0,0,1,0,1,0,0,1,1,0,1,1,0,0,0,1,0]
[1,0,1,0,0,0,1,0,0,0,0,0,0,0,0,0,0,0,0,null,0,0.24,0,0,0,0,0,0,0,1,1,1,1,1,0,0,0,0,0,0,0,0,1,0,1,0,0,0,0,0,1,0,0,0,1,0,0,0,0,0,0,0,0,1,1,0,0,0,0,1,0,0,0,0,0,0,0,0,0,0,0,0,0,1,1,0,0,0,0,0,0,0,1,1,0,0,0,0,0,0,1,0,0,0,1,0,0,0,0,0,1,1,0,0,0,0,0,1,0,0,1,0,0,0,0,1,1,1,0,0,1,0,0,0,0,1,0,0,1,1,0,0,1,0,0,0,0,0,0,0,0,0,0,0,0,0,1,1,0,0,1,1,0,0,0,0,0,0,0,1,1,0,0,0,0,0,0,0,1,0,0,1,1,1,0,0,1,0,0,0,0,0,0,1,0,0,1,1,0,0,0,0,0,0,0,0,0,0,0,0,0,0,1,1,0,1,1,0,0,0,0,0]
[0,1,0,0,0,0,0,0,0,0,0,0,0,0,1,0,0,1,0,null,0,0.23499999999999999,1,0,0,0,0,0,1,1,1,1,1,1,0,0,0,0,0,0,0,0,1,0,1,0,0,0,0,0,0,0,0,0,1,1,0,0,1,0,0,0,0,1,0,0,0,0,0,0,0,0,0,0,0,0,0,0,0,0,1,0,0,1,1,0,0,0,0,0,0,0,0,0,0,0,0,0,0,0,1,0,0,0,0,0,0,0,0,0,1,0,0,0,0,0,0,0,0,0,1,0,0,0,1,0,1,1,0,0,1,0,0,0,0,0,0,0,1,1,0,0,1,0,0,0,1,1,0,0,0,1,0,0,1,0,1,0,0,0,1,1,1,0,0,0,0,0,0,0,1,0,0,0,0,0,0,0,1,0,0,1,1,1,0,0,1,0,0,0,0,0,1,1,0,0,1,1,0,0,0,0,0,0,0,0,0,1,0,0,0,0,0,0,0,0,1,0,0,0,1,0]
[1,0,1,0,0,1,0,0,0,0,0,0,0,0,1,0,0,0,0,null,0,0.125,1,0,0,0,0,0,1,0,0,0,0,0,0,0,0,0,0,0,0,0,0,0,0,0,0,0,0,0,1,0,0,0,0,1,0,0,1,0,0,0,0,0,1,0,0,0,0,1,0,0,0,0,0,0,0,0,0,0,0,0,0,0,0,0,0,0,0,0,0,0,0,1,0,0,0,0,0,0,0,0,0,0,1,0,0,0,0,0,0,0,0,0,0,0,0,1,0,0,0,0,0,0,1,1,0,0,0,0,0,0,0,0,0,1,0,0,0,0,0,0,0,0,0,0,1,1,0,0,0,1,0,0,1,0,0,1,0,0,0,0,1,0,0,0,0,0,0,1,0,0,0,0,0,0,0,0,0,0,0,0,0,0,0,0,0,0,0,0,0,0,1,0,0,0,0,0,0,0,0,0,0,0,0,0,0,1,0,0,0,0,0,1,0,1,0,0,0,0,1,0]
[1,0,0,0,1,0,0,0,0,0,0,0,0,0,0,0,0,0,0,null,0,0.35,1,0,0,0,0,0,1,1,1,1,1,1,0,0,0,{"$f":"IF(OFFSET($A619,0,AL$1)=AL$2,1,0)","v":0},0,0,0,0,1,0,1,0,0,0,1,0,1,0,0,0,1,1,0,0,1,0,0,0,0,1,1,0,0,0,0,1,0,0,0,0,0,0,0,0,0,0,0,0,0,1,1,0,0,0,0,0,0,0,1,1,0,0,0,0,0,0,1,0,0,0,1,0,0,0,0,0,1,1,0,0,0,1,0,1,0,0,1,0,0,0,1,1,1,1,0,0,1,0,1,0,0,1,1,0,1,1,0,0,1,0,0,0,1,1,0,0,0,1,0,0,1,0,1,1,0,0,1,{"$f":"IF(OFFSET($A619,0,FF$1)=FF$2,1,0)","v":1},1,0,0,0,0,0,0,1,1,0,0,1,0,0,0,0,1,0,1,1,1,1,0,0,1,0,0,0,0,0,1,1,1,0,1,1,0,1,1,0,0,0,0,0,0,1,0,0,0,0,1,1,0,1,1,0,{"$f":"IF(OFFSET($A619,0,HK$1)=HK$2,1,0)","v":0},0,1,0]
[0,0,0,1,0,0,0,0,0,0,0,1,0,0,0,0,0,0,0,null,0,0.315,{"$f":"IF(OFFSET($A620,0,W$1)=W$2,1,0)","v":1},0,0,0,0,0,1,1,1,1,1,1,0,0,0,0,0,0,0,0,1,0,1,0,0,0,0,0,1,0,0,0,1,1,0,0,1,0,0,0,0,1,1,0,0,0,0,1,0,0,0,0,0,0,0,0,0,0,1,0,0,1,1,0,0,0,0,0,0,0,1,1,0,0,0,0,0,0,1,0,0,0,1,0,0,0,0,0,1,1,0,0,0,0,0,1,0,0,1,0,0,0,1,1,1,1,0,0,1,0,0,0,0,1,0,0,1,1,0,0,1,0,0,0,{"$f":"IF(OFFSET($A620,0,EQ$1)=EQ$2,1,0)","v":1},1,0,0,0,1,0,0,1,0,1,1,0,0,1,1,1,0,0,0,0,0,0,1,1,0,0,0,0,0,0,0,1,0,0,1,1,1,1,0,1,0,0,0,0,0,1,1,0,0,1,1,0,0,0,0,0,0,0,0,0,1,{"$f":"IF(OFFSET($A620,0,HA$1)=HA$2,1,0)","v":0},0,0,0,1,1,0,1,1,0,0,0,1,0]
[1,0,0,0,0,0,1,0,0,0,0,0,0,0,0,0,0,0,0,null,0,0.24,0,0,0,0,0,0,0,1,1,1,1,1,0,0,0,0,0,0,0,0,1,0,1,0,0,0,0,0,1,0,0,0,1,0,0,0,0,0,0,0,0,1,1,0,0,0,0,1,0,0,0,0,0,0,0,0,0,0,0,0,0,1,1,0,0,0,0,0,0,0,1,1,0,0,0,0,0,0,1,0,0,0,1,0,0,0,0,0,1,1,0,0,0,0,0,1,0,0,1,0,0,0,0,1,1,1,0,0,1,0,0,0,0,1,0,0,1,1,0,0,1,0,0,0,0,0,0,0,0,0,0,0,0,0,1,1,0,0,1,1,0,0,0,0,0,0,0,1,1,0,0,0,0,0,0,0,1,0,0,1,1,1,0,0,1,0,0,0,0,0,0,1,0,0,1,1,0,0,0,0,0,0,0,0,0,0,0,0,0,0,1,1,0,1,1,0,0,0,0,0]
[1,0,0,1,0,1,1,0,0,0,0,0,0,0,0,0,0,0,0,null,0,7.4999999999999997E-2,{"$f":"IF(OFFSET($A636,0,W$1)=W$2,1,0)","v":0},0,0,0,0,0,0,0,0,0,0,0,0,0,0,0,0,0,0,0,0,0,0,0,0,0,0,0,1,0,0,0,0,0,0,0,0,0,0,0,0,0,1,0,0,0,0,1,0,0,0,0,0,0,0,0,0,0,0,0,0,0,0,0,0,0,0,0,0,0,1,1,0,0,0,0,0,0,0,0,0,0,1,0,0,0,0,0,0,1,0,0,0,0,0,1,0,0,0,0,0,0,0,1,0,0,0,0,0,0,0,0,0,1,0,0,0,0,0,0,0,0,0,0,{"$f":"IF(OFFSET($A636,0,EQ$1)=EQ$2,1,0)","v":0},0,0,0,0,0,0,0,0,0,0,1,0,0,0,0,0,0,0,0,0,0,0,1,0,0,0,0,0,0,0,0,0,0,0,0,0,0,0,0,0,0,0,0,0,0,0,0,0,0,0,0,0,0,0,0,0,0,0,0,0,0,0,0,0,0,1,1,0,1,0,0,0,0,0,0]
[0,0,1,0,0,0,0,0,0,0,0,0,0,0,1,0,0,0,0,null,0,0.29499999999999998,1,0,0,0,0,0,1,1,1,1,1,1,0,0,0,0,0,0,0,0,1,0,1,0,0,0,0,0,1,0,0,0,1,1,0,0,1,0,0,0,0,1,1,0,0,0,0,1,0,0,0,0,0,0,0,0,0,0,1,0,0,1,1,0,0,0,0,0,0,0,0,1,0,0,0,0,0,0,1,0,0,0,1,0,0,0,0,0,1,0,0,0,0,0,0,1,0,0,1,0,0,0,1,1,1,1,0,0,{"$f":"IF(OFFSET($A644,0,EA$1)=EA$2,1,0)","v":1},0,0,0,0,1,0,0,1,1,0,0,1,0,0,0,1,1,0,0,0,1,0,0,1,0,1,1,0,0,1,1,1,0,0,0,0,0,0,1,1,0,0,0,0,0,0,0,1,0,0,1,1,1,0,0,1,0,0,0,0,0,1,1,0,0,1,1,0,0,0,0,0,0,0,0,0,1,0,0,0,0,0,1,0,1,1,0,0,0,1,0]
[1,0,0,1,0,0,1,0,0,0,0,0,0,0,0,0,0,0,0,null,0,0.24,{"$f":"IF(OFFSET($A652,0,W$1)=W$2,1,0)","v":0},0,0,0,0,0,0,1,1,1,1,1,0,0,0,0,0,0,0,0,1,0,1,0,0,0,0,0,1,0,0,0,1,0,0,0,0,0,0,0,0,1,1,0,0,0,0,1,0,0,0,0,0,0,0,0,0,0,0,0,0,1,1,0,0,0,0,0,0,0,1,1,0,0,0,0,0,0,1,0,0,0,1,0,0,0,0,0,1,1,0,0,0,0,0,1,0,0,1,0,0,0,0,1,1,1,0,0,1,0,0,0,0,1,0,0,1,1,0,0,1,0,0,0,{"$f":"IF(OFFSET($A652,0,EQ$1)=EQ$2,1,0)","v":0},0,0,0,0,0,0,0,0,0,1,1,0,0,1,1,0,0,0,0,0,0,0,1,1,0,0,0,0,0,0,0,1,0,0,1,1,1,0,0,1,0,0,0,0,0,0,1,0,0,1,1,0,0,0,0,0,0,0,0,0,0,0,0,0,0,1,1,0,1,1,0,0,0,0,0]
[0,1,1,0,0,0,0,0,0,0,0,0,0,0,0,0,0,0,0,null,0,0.31,1,0,0,0,0,0,1,1,1,1,1,1,0,0,0,0,0,0,0,0,1,0,1,0,0,0,0,0,1,0,0,0,1,1,0,0,1,0,0,0,0,1,1,0,0,0,0,1,0,0,0,0,0,0,0,0,0,0,1,0,0,1,1,0,0,0,0,0,0,0,1,1,0,0,0,0,0,0,1,0,0,0,1,0,0,0,0,0,1,1,0,0,0,0,0,1,0,0,1,0,0,0,1,1,1,1,0,0,{"$f":"IF(OFFSET($A660,0,EA$1)=EA$2,1,0)","v":1},0,0,0,0,1,0,0,1,1,0,0,1,0,0,0,1,1,0,0,0,1,0,0,1,0,1,1,0,0,1,1,1,0,0,0,0,0,0,1,1,0,0,0,0,0,0,0,1,0,0,1,1,1,0,0,1,0,0,0,0,0,1,1,0,0,1,1,0,0,0,0,0,0,0,0,0,1,0,0,0,0,1,1,0,1,1,0,0,0,1,0]
[1,0,0,0,0,0,0,0,0,0,0,0,0,0,0,0,0,0,0,null,0,0.30499999999999999,1,0,0,0,0,0,1,1,1,1,1,1,0,0,0,0,0,0,0,0,1,0,1,0,0,0,0,0,1,0,0,0,1,1,0,0,1,0,0,0,0,1,1,0,0,0,0,1,0,0,0,0,0,0,0,0,0,0,0,0,0,1,1,0,0,0,0,0,0,0,1,1,0,0,0,0,0,0,1,0,0,0,1,0,0,0,0,0,1,1,0,0,0,0,0,1,0,0,1,0,0,0,1,1,1,1,0,0,1,0,0,0,0,1,0,0,1,1,0,0,1,0,0,0,1,1,0,0,0,1,0,0,1,0,1,1,0,0,1,1,1,0,0,0,0,0,0,1,1,0,0,0,0,0,0,0,1,0,0,1,1,1,0,0,1,0,0,0,0,0,{"$f":"IF(OFFSET($A665,0,GK$1)=GK$2,1,0)","v":1},1,0,0,1,1,0,0,0,0,0,0,0,0,0,1,0,0,0,0,1,1,0,1,1,0,0,0,1,0]
[1,0,0,0,0,0,1,0,0,0,0,0,0,0,0,0,0,0,0,null,0,0.24,0,0,0,0,0,0,0,1,1,1,1,1,0,0,0,0,0,0,0,0,1,0,1,0,0,0,0,0,1,0,0,0,1,0,0,0,0,0,0,0,0,1,1,0,0,0,0,1,0,0,0,0,0,0,0,0,0,0,0,0,0,1,1,0,0,0,0,0,0,0,1,1,0,0,0,0,0,0,1,0,0,0,1,0,0,0,0,0,1,1,0,0,0,0,0,1,0,0,1,0,0,0,0,1,1,1,0,0,1,0,0,0,0,1,0,0,1,1,0,0,1,0,0,0,0,0,0,0,0,0,0,0,0,0,1,1,0,0,1,1,0,0,0,0,0,0,0,1,1,0,0,0,0,0,0,0,1,0,0,1,1,1,0,0,1,0,0,0,0,0,0,1,0,0,1,1,0,0,0,0,0,0,0,0,0,0,0,0,0,0,1,1,0,1,1,0,0,0,0,0]
[0,1,0,0,0,0,0,0,0,0,0,0,0,0,0,0,0,0,0,null,0,0.31,1,0,0,0,0,0,1,1,1,1,1,1,0,0,0,0,0,0,0,0,1,0,1,0,0,0,0,0,1,0,0,0,1,1,0,0,1,0,0,0,0,1,1,0,0,0,0,1,0,0,0,0,0,0,0,0,0,0,1,0,0,1,1,0,0,0,0,0,0,0,1,1,0,0,0,0,0,0,1,0,0,0,1,0,0,0,0,0,1,1,0,0,0,0,0,1,0,0,1,0,0,0,1,1,1,1,0,0,1,0,0,0,0,1,0,0,1,1,0,0,1,0,0,0,1,1,0,0,0,1,0,0,1,0,1,1,0,0,1,1,1,0,0,0,0,0,0,1,1,0,0,0,0,0,0,0,1,0,0,1,1,1,0,0,1,0,0,0,0,0,1,1,0,0,1,1,0,0,0,0,0,0,0,0,0,1,0,0,0,0,1,1,0,1,1,0,0,0,1,0]
[1,0,1,0,0,0,0,0,0,0,0,0,0,0,0,0,0,0,0,null,0,0.30499999999999999,1,0,0,0,0,0,1,1,1,1,1,1,0,0,0,0,0,0,0,0,1,0,1,0,0,0,0,0,1,0,0,0,1,1,0,0,1,0,0,0,0,1,1,0,0,0,0,1,0,0,0,0,0,0,0,0,0,0,0,0,0,1,1,0,0,0,0,0,0,0,1,1,0,0,0,0,0,0,1,0,0,0,1,0,0,0,0,0,1,1,0,0,0,0,0,1,0,0,1,0,0,0,1,1,1,1,0,0,1,0,0,0,0,1,0,0,1,1,0,0,1,0,0,0,1,1,0,0,0,1,0,0,1,0,1,1,0,0,1,1,1,0,0,0,0,0,0,1,1,0,0,0,0,0,0,0,1,0,0,1,1,1,0,0,1,0,0,0,0,0,1,1,0,0,1,1,0,0,0,0,0,0,0,0,0,1,0,0,0,0,1,1,0,1,1,0,0,0,1,0]
[0,0,0,1,0,1,1,0,0,0,0,0,0,0,0,0,0,0,0,null,0,0.08,0,0,0,0,0,0,0,0,0,0,0,0,0,0,0,0,0,0,0,0,0,0,0,0,0,0,0,0,1,0,0,0,0,0,0,0,0,0,0,0,0,0,1,0,0,0,0,1,0,0,0,0,0,0,0,0,0,0,1,0,0,0,0,0,0,0,0,0,0,0,1,1,0,0,0,0,0,0,0,0,0,0,1,0,0,0,0,0,0,1,0,0,0,{"$f":"IF(OFFSET($A693,0,DL$1)=DL$2,1,0)","v":0},0,1,0,0,0,0,0,0,0,1,0,0,0,0,0,0,0,0,0,1,0,0,0,0,0,0,0,0,0,0,0,0,0,0,0,0,0,0,0,0,0,1,0,0,0,0,0,0,0,0,0,0,0,1,0,0,0,0,0,0,0,0,0,0,0,0,0,0,0,0,0,0,0,0,0,0,0,0,0,0,0,0,0,0,0,0,0,0,0,0,0,0,0,0,0,{"$f":"IF(OFFSET($A693,0,HD$1)=HD$2,1,0)","v":0},1,1,0,1,0,0,0,0,0,0]
[1,0,0,0,0,0,0,0,1,0,0,0,0,0,0,0,0,0,0,null,0,0.45,1,1,0,0,1,1,1,1,1,1,1,1,0,0,0,0,0,0,0,0,1,0,1,0,1,0,0,0,1,0,0,0,1,1,0,0,1,1,0,1,0,1,1,0,1,0,0,1,1,0,0,0,1,0,0,0,0,0,0,0,0,1,1,0,0,0,0,0,0,0,1,1,0,0,0,0,0,0,1,1,0,0,1,1,0,0,0,1,1,1,0,0,0,0,0,1,0,0,1,0,0,0,1,1,1,1,0,0,1,0,0,1,0,1,0,1,1,1,0,0,1,0,1,0,1,1,0,0,0,1,1,0,1,0,1,1,0,0,1,1,1,0,0,0,0,0,0,1,1,0,1,0,0,1,0,{"$f":"IF(OFFSET($A698,0,FV$1)=FV$2,1,0)","v":0},1,0,0,1,1,1,0,1,1,0,1,0,0,1,1,1,0,1,1,1,1,0,0,0,1,1,0,1,0,1,0,0,1,0,1,1,0,1,1,0,1,1,1,0]
[0,1,0,1,0,0,0,0,0,0,0,0,0,0,0,0,0,0,0,null,0,0.31,1,0,0,0,0,0,1,1,1,1,1,1,0,0,0,0,0,0,0,0,1,0,1,0,0,0,0,0,1,0,0,0,1,1,0,0,1,0,0,0,0,1,1,0,0,0,0,1,0,0,0,0,0,0,0,0,0,0,1,0,0,1,1,0,0,0,0,0,0,0,1,1,0,0,0,0,0,0,1,0,0,0,1,0,0,0,0,0,1,1,0,0,0,0,0,1,0,0,1,0,0,0,1,1,1,1,0,0,1,0,0,0,0,1,0,0,1,1,0,0,1,0,0,0,1,1,0,0,0,1,0,0,1,0,1,1,0,0,1,1,1,0,0,0,0,0,0,1,1,0,0,0,0,0,0,0,1,0,0,1,1,1,0,0,1,0,0,0,0,0,1,1,0,0,1,1,0,0,0,0,0,0,0,0,0,1,0,0,0,0,1,1,0,1,1,0,0,0,1,0]
[1,0,0,0,0,0,0,0,0,0,0,0,0,0,0,0,0,0,0,null,0,0.30499999999999999,1,0,0,0,0,0,1,1,1,1,1,1,0,0,0,0,0,0,0,0,1,0,1,0,0,0,0,0,1,0,0,0,1,1,0,0,1,0,0,0,0,1,1,0,0,0,0,1,0,0,0,0,0,0,0,0,0,0,0,0,0,1,1,0,0,0,0,0,0,0,1,1,0,0,0,0,0,0,1,0,0,0,1,0,0,0,0,0,1,1,0,0,0,0,0,1,0,0,1,0,0,0,1,1,1,1,0,0,1,0,0,0,0,1,0,0,1,1,0,0,1,0,0,0,1,1,0,0,0,1,0,0,1,0,1,1,0,0,1,1,1,0,0,0,0,0,0,1,1,0,0,0,0,0,0,0,1,0,0,1,1,1,0,0,1,0,0,0,0,0,{"$f":"IF(OFFSET($A713,0,GK$1)=GK$2,1,0)","v":1},1,0,0,1,1,0,0,0,0,0,0,0,0,0,1,0,0,0,0,1,1,0,1,1,0,0,0,1,0]
[0,0,1,0,0,0,1,0,0,0,0,0,0,0,0,0,0,1,0,null,0,0.185,0,0,0,0,0,0,0,1,1,1,1,1,0,0,0,0,0,0,0,0,1,0,1,0,0,0,0,0,0,0,0,0,1,0,0,0,0,0,0,0,0,1,0,0,0,0,{"$f":"IF(OFFSET($A718,0,BQ$1)=BQ$2,1,0)","v":0},0,0,0,0,0,0,0,0,0,0,0,1,0,0,1,1,0,0,0,0,0,0,0,1,0,0,0,0,0,0,0,1,0,0,0,0,0,0,0,0,0,1,1,0,0,0,0,0,0,0,0,1,0,0,0,0,0,1,1,0,0,1,0,0,0,0,0,0,0,1,1,0,0,1,0,0,0,0,0,0,0,0,0,0,0,0,0,1,0,0,0,1,1,0,0,0,0,0,0,0,0,1,0,0,0,0,0,0,0,1,0,0,1,1,1,0,0,1,0,0,0,0,0,0,1,0,0,1,1,0,0,0,0,0,0,0,0,0,0,0,0,0,0,1,0,0,0,1,0,0,0,0,0]
[0,0,0,1,0,1,1,0,0,0,0,0,0,0,0,0,0,0,0,null,0,0.08,0,0,0,0,0,0,0,0,0,0,0,0,0,0,0,0,0,0,0,0,0,0,0,0,0,0,0,0,1,0,0,0,0,0,0,0,0,0,0,0,0,0,1,0,0,0,0,1,0,0,0,0,0,0,0,0,0,0,1,0,0,0,0,0,0,0,0,0,0,0,1,1,0,0,0,0,0,0,0,0,0,0,1,0,0,0,0,0,0,1,0,0,0,0,0,1,0,0,0,0,0,0,0,1,0,0,0,0,0,0,0,0,0,1,0,0,0,0,0,0,0,0,0,0,0,0,0,0,0,0,0,0,0,0,0,1,0,0,0,0,0,0,0,0,0,0,0,1,0,0,0,0,0,0,0,0,0,0,0,0,0,0,0,0,0,0,0,0,0,0,0,0,0,0,0,0,0,0,0,0,0,0,0,0,0,0,0,0,0,0,1,1,0,1,0,0,0,0,0,0]
[0,0,0,0,0,0,0,0,0,0,0,0,0,0,0,0,1,0,0,null,0,0.38,1,0,0,1,0,0,1,1,1,1,1,1,1,0,0,0,0,0,0,0,1,0,1,0,0,0,0,0,1,0,0,0,1,1,0,0,1,0,0,0,0,1,1,0,0,0,0,1,0,0,0,0,0,0,0,0,1,0,1,0,0,1,1,0,0,0,0,1,0,0,1,1,0,0,0,0,0,0,1,0,1,0,1,0,0,0,0,0,1,1,1,1,0,0,0,1,0,1,1,0,0,0,1,1,1,1,0,0,1,0,0,0,0,1,0,0,1,1,0,0,1,0,0,1,1,1,0,0,0,1,0,0,1,0,1,1,0,0,1,1,1,1,0,1,0,0,0,1,1,1,0,0,0,0,0,0,1,0,0,1,1,1,0,0,1,0,0,0,0,0,1,1,0,0,1,1,0,0,0,1,0,0,0,0,0,1,0,0,0,0,1,1,0,1,1,1,0,0,1,0]
[0,0,0,1,0,1,1,0,0,0,0,0,0,0,0,0,0,0,0,null,0,0.08,0,0,0,0,0,0,0,0,0,0,0,0,0,0,0,0,0,0,0,0,0,0,0,0,0,0,0,0,1,0,0,0,0,0,0,0,0,0,0,0,0,0,1,0,0,0,0,1,0,0,0,0,0,0,0,0,0,0,1,0,0,0,0,0,0,0,0,0,0,0,1,1,0,0,0,0,0,0,0,0,0,0,1,0,0,0,0,0,0,1,0,0,0,0,0,1,0,0,0,0,0,0,0,1,0,0,0,0,0,0,0,0,0,1,0,0,0,0,0,0,0,0,0,0,0,0,0,0,0,0,0,0,0,0,0,1,0,0,0,0,0,0,0,0,0,0,0,1,0,0,0,0,0,0,0,0,0,0,0,0,0,0,0,0,0,0,0,0,0,0,0,0,0,0,0,0,0,0,0,0,0,0,0,0,0,0,0,0,0,0,1,1,0,1,0,0,0,0,0,0]
[1,0,0,1,0,0,0,0,0,0,0,0,0,0,0,0,0,0,0,null,0,0.30499999999999999,1,0,0,0,0,0,1,1,1,1,1,1,0,0,0,0,0,0,0,0,1,0,1,0,0,0,0,0,1,0,0,0,1,1,0,0,1,0,0,0,0,1,1,0,0,0,0,1,0,0,0,0,0,0,0,0,0,0,0,0,0,1,1,0,0,0,0,0,0,0,1,1,0,0,0,0,0,0,1,0,0,0,1,0,0,0,0,0,1,1,0,0,0,0,0,1,0,0,1,0,0,0,1,1,1,1,0,0,1,0,0,0,0,1,0,0,1,1,0,0,1,0,0,0,1,1,0,0,0,1,0,0,1,0,1,1,0,0,1,1,1,0,0,0,0,0,0,1,1,0,0,0,0,0,0,{"$f":"IF(OFFSET($A746,0,FV$1)=FV$2,1,0)","v":0},1,0,0,1,1,1,0,0,1,0,0,0,0,0,1,1,0,0,1,1,0,0,0,0,0,0,0,0,0,1,0,0,0,0,1,1,0,1,1,0,0,0,1,0]
[1,0,0,0,0,0,0,0,0,0,0,0,0,0,0,0,0,0,0,null,0,0.30499999999999999,1,0,0,0,0,0,1,1,1,1,1,1,0,0,0,0,0,0,0,0,1,0,1,0,0,0,0,0,1,0,0,{"$f":"IF(OFFSET($A751,0,BB$1)=BB$2,1,0)","v":0},1,1,0,0,1,0,0,0,0,1,1,0,0,0,0,1,0,0,0,0,0,0,0,0,0,0,0,0,0,1,1,0,0,0,0,0,0,0,1,1,0,0,0,0,0,{"$f":"IF(OFFSET($A751,0,CV$1)=CV$2,1,0)","v":0},1,0,0,0,1,0,0,0,0,0,1,1,0,0,0,0,0,1,0,0,1,0,0,0,1,1,1,1,0,0,1,0,0,0,0,1,0,0,1,1,0,0,1,0,0,0,1,1,0,0,0,1,0,0,1,0,1,1,0,0,1,1,1,0,0,0,0,0,0,1,1,0,0,0,0,0,0,0,1,0,0,1,1,1,0,0,1,0,0,0,0,0,1,1,0,0,1,1,0,0,0,0,0,0,0,0,0,1,0,0,0,0,1,1,0,1,1,0,0,0,1,0]
[1,0,1,0,0,0,0,0,0,0,0,0,0,0,0,0,0,0,0,null,0,0.30499999999999999,1,0,0,0,0,0,1,1,1,1,1,1,0,0,0,0,0,0,0,0,1,0,1,0,0,0,0,0,1,0,0,0,1,1,0,0,1,0,0,0,0,1,1,0,0,0,0,1,0,0,0,0,0,0,0,0,0,0,0,0,0,1,1,0,0,0,0,0,0,0,1,1,0,0,0,0,0,0,1,0,0,0,1,0,0,0,0,0,1,1,0,0,0,0,0,1,0,0,1,0,0,0,1,1,1,1,0,0,{"$f":"IF(OFFSET($A756,0,EA$1)=EA$2,1,0)","v":1},0,0,0,0,1,0,0,1,1,0,0,1,0,0,0,1,1,0,0,0,1,0,0,1,0,1,1,0,0,1,1,1,0,0,0,0,0,0,1,1,0,0,0,0,0,0,0,1,0,0,1,1,1,0,0,1,0,0,0,0,0,1,1,0,0,1,1,0,0,0,0,0,0,0,0,0,1,0,0,0,0,1,1,0,1,1,0,0,0,1,0]
[0,1,0,0,0,0,1,0,0,0,0,0,0,1,0,0,0,1,0,null,0,0.21,0,0,0,0,0,0,0,1,1,1,1,1,0,0,0,0,0,0,0,0,1,0,1,0,0,0,0,0,0,0,0,0,1,0,0,0,0,0,0,0,0,1,0,0,0,0,{"$f":"IF(OFFSET($A766,0,BQ$1)=BQ$2,1,0)","v":0},0,0,0,0,0,0,1,0,0,0,0,1,0,1,1,1,0,0,1,0,0,0,0,1,0,0,0,0,0,0,0,1,0,0,0,0,0,0,0,0,0,1,1,0,0,0,0,0,0,0,0,1,0,0,0,0,0,1,1,0,0,1,0,0,0,0,0,0,0,1,1,0,0,1,0,0,0,0,0,0,0,0,0,0,0,0,0,1,0,0,0,1,1,0,0,0,0,0,0,0,0,1,0,0,0,0,0,0,0,1,0,0,1,1,1,0,0,1,0,0,0,0,0,0,1,0,0,1,1,0,0,0,0,0,0,1,0,0,0,0,1,0,0,1,0,0,0,1,0,0,0,0,0]
[1,0,1,0,0,0,0,0,0,0,0,0,0,0,0,0,0,0,0,null,0,0.30499999999999999,1,0,0,0,0,0,1,1,1,1,1,1,0,0,0,0,0,0,0,0,1,0,1,0,0,0,0,0,1,0,0,0,1,1,0,0,1,0,0,0,0,1,1,0,0,0,0,1,0,0,0,0,0,0,0,0,0,0,0,0,0,1,1,0,0,0,0,0,0,0,1,1,0,0,0,0,0,0,1,0,0,0,1,0,0,0,0,0,1,1,0,0,0,0,0,1,0,0,1,0,0,0,1,1,1,1,0,0,1,0,0,0,0,1,0,0,1,1,0,0,1,0,0,0,1,1,0,0,0,1,0,0,1,0,1,1,0,0,1,1,1,0,0,0,0,0,0,1,1,0,0,0,0,0,0,0,1,0,0,1,1,1,0,0,1,0,0,0,0,0,1,1,0,0,1,1,0,0,0,0,0,0,0,0,0,1,0,0,0,0,1,1,0,1,1,0,0,0,1,0]
[1,0,1,0,0,0,0,0,0,0,0,0,0,0,1,0,1,0,0,null,0,0.36,1,0,0,1,0,0,1,1,1,1,1,1,1,0,0,{"$f":"IF(OFFSET($A779,0,AL$1)=AL$2,1,0)","v":0},0,0,0,0,1,0,1,0,0,0,0,0,1,0,0,0,1,1,0,0,1,0,0,0,0,1,1,0,0,0,0,1,0,0,0,0,0,0,0,0,1,0,0,0,0,1,1,0,0,0,0,1,0,0,0,1,0,0,0,0,0,0,1,0,1,0,1,0,0,0,0,0,1,0,1,1,0,0,0,1,0,1,1,0,0,0,1,1,1,1,0,0,1,0,0,0,0,1,0,0,1,1,0,0,1,0,0,1,1,1,0,0,0,1,0,0,1,0,1,1,0,0,1,{"$f":"IF(OFFSET($A779,0,FF$1)=FF$2,1,0)","v":1},1,1,0,1,0,0,0,1,1,1,0,0,0,0,0,0,1,0,0,1,1,1,0,0,1,0,0,0,0,0,1,1,0,0,1,1,0,0,0,1,0,0,0,0,0,1,0,0,0,0,0,1,0,1,1,1,0,0,1,0]
[0,0,1,0,0,1,1,0,0,0,0,0,0,0,0,0,0,0,0,null,0,0.08,0,0,0,0,0,0,0,0,0,0,0,0,0,0,0,0,0,0,0,0,0,0,0,0,0,0,0,0,1,0,0,0,0,0,0,0,0,0,0,0,0,0,1,0,0,0,0,1,0,0,0,0,0,0,0,0,0,0,1,0,0,0,{"$f":"IF(OFFSET($A784,0,CG$1)=CG$2,1,0)","v":0},0,0,0,0,0,0,0,1,1,0,0,0,0,0,0,0,0,0,0,1,0,0,0,0,0,0,1,0,0,0,0,0,1,0,0,0,0,0,0,0,1,0,0,0,0,0,0,0,0,0,1,0,0,0,0,0,0,0,0,0,0,0,0,0,0,0,0,0,0,0,0,0,1,0,0,0,0,0,0,0,0,0,0,0,1,0,0,0,0,0,0,0,0,0,0,0,0,0,0,0,0,0,0,0,0,0,0,0,0,0,0,0,0,0,0,0,0,0,0,0,0,0,0,0,0,0,0,1,1,0,1,0,0,0,0,0,0]
[0,0,0,0,0,1,0,0,0,0,0,0,0,0,1,0,0,0,0,null,0,0.13,1,0,0,0,0,0,1,0,0,0,0,0,0,0,0,{"$f":"IF(OFFSET($A795,0,AL$1)=AL$2,1,0)","v":0},0,0,0,0,0,0,0,0,0,0,0,0,1,0,0,0,0,1,0,0,1,0,0,0,0,0,1,0,0,0,0,1,0,0,0,0,0,0,0,0,0,0,1,0,0,0,0,0,0,0,0,0,0,0,0,1,0,0,0,0,0,0,0,0,0,0,1,0,0,0,0,0,0,0,0,0,0,0,0,1,0,0,0,0,0,0,1,1,0,0,0,0,0,0,0,0,0,1,0,0,0,0,0,0,0,0,0,0,1,1,0,0,0,1,0,0,1,0,0,1,0,0,0,{"$f":"IF(OFFSET($A795,0,FF$1)=FF$2,1,0)","v":0},1,0,0,0,0,0,0,1,0,0,0,0,0,0,0,0,0,0,0,0,0,0,0,0,0,0,0,0,0,0,1,0,0,0,0,0,0,0,0,0,0,0,0,0,0,1,0,0,0,0,0,1,0,1,0,0,0,0,1,0]
[0,1,0,1,0,0,0,0,0,0,0,0,0,0,0,0,0,0,0,null,0,0.31,1,0,0,0,0,0,1,1,1,1,1,1,0,0,0,0,0,0,0,0,1,0,1,0,0,0,0,0,1,0,0,{"$f":"IF(OFFSET($A799,0,BB$1)=BB$2,1,0)","v":0},1,1,0,0,1,0,0,0,0,1,1,0,0,0,0,1,0,0,0,0,0,0,0,0,0,0,1,0,0,1,1,0,0,0,0,0,0,0,1,1,0,0,0,0,0,{"$f":"IF(OFFSET($A799,0,CV$1)=CV$2,1,0)","v":0},1,0,0,0,1,0,0,0,0,0,1,1,0,0,0,0,0,1,0,0,1,0,0,0,1,1,1,1,0,0,1,0,0,0,0,1,0,0,1,1,0,0,1,0,0,0,1,1,0,0,0,1,0,0,1,0,1,1,0,0,1,1,1,0,0,0,0,0,0,1,1,0,0,0,0,0,0,0,1,0,0,1,1,1,0,0,1,0,0,0,0,0,1,1,0,0,1,1,0,0,0,0,0,0,0,0,0,1,0,0,0,0,1,1,0,1,1,0,0,0,1,0]
[1,0,0,0,0,0,0,0,0,0,0,0,0,0,1,0,0,0,0,null,0,0.28999999999999998,1,0,0,0,0,0,1,1,1,1,1,1,0,0,0,0,0,0,0,0,1,0,1,0,0,0,0,0,1,0,0,0,1,1,0,0,1,0,0,0,0,1,1,0,0,0,0,1,0,0,0,0,0,0,0,0,0,0,0,0,0,1,1,0,0,0,0,0,0,0,0,1,0,0,0,0,0,0,1,0,0,0,1,0,0,0,0,0,1,0,0,0,0,0,0,1,0,0,1,0,0,0,1,1,1,1,0,0,{"$f":"IF(OFFSET($A804,0,EA$1)=EA$2,1,0)","v":1},0,0,0,0,1,0,0,1,1,0,0,1,0,0,0,1,1,0,0,0,1,0,0,1,0,1,1,0,0,1,1,1,0,0,0,0,0,0,1,1,0,0,0,0,0,0,0,1,0,0,1,1,1,0,0,1,0,0,0,0,0,1,1,0,0,1,1,0,0,0,0,0,0,0,0,0,1,0,0,0,{"$f":"IF(OFFSET($A804,0,HD$1)=HD$2,1,0)","v":0},0,1,0,1,1,0,0,0,1,0]
[1,0,0,1,0,0,1,0,0,0,0,0,0,1,0,0,0,0,0,null,0,0.26500000000000001,{"$f":"IF(OFFSET($A812,0,W$1)=W$2,1,0)","v":0},0,0,0,0,0,0,1,1,1,1,1,0,0,0,0,0,0,0,0,1,0,1,0,0,0,0,0,1,0,0,0,1,0,0,0,0,0,0,0,0,1,1,0,0,0,0,1,0,0,0,0,0,1,0,0,0,0,0,0,1,1,1,0,0,1,0,0,0,0,1,1,0,0,0,0,0,0,1,0,0,0,1,0,0,0,0,0,1,1,0,0,0,0,0,1,0,0,1,0,0,0,0,1,1,1,0,0,1,0,0,0,0,1,0,0,1,1,0,0,1,0,0,0,{"$f":"IF(OFFSET($A812,0,EQ$1)=EQ$2,1,0)","v":0},0,0,0,0,0,0,0,0,0,1,1,0,0,1,1,0,0,0,0,0,0,0,1,1,0,0,0,0,0,0,0,1,0,0,1,1,1,0,0,1,0,0,0,0,0,0,1,0,0,1,1,0,0,0,0,0,0,1,0,0,0,0,1,0,0,1,1,0,1,1,0,0,0,0,0]
[0,0,0,0,0,0,0,0,0,0,0,0,0,0,0,0,0,0,0,null,0,0.31,1,0,0,0,0,0,1,1,1,1,1,1,0,0,0,0,0,0,0,0,1,0,1,0,0,0,0,0,1,0,0,0,1,1,0,0,1,0,0,0,0,1,1,0,0,0,0,1,0,0,0,0,0,0,0,0,0,0,1,0,0,1,1,0,0,0,0,0,0,0,1,1,0,0,0,0,0,0,1,0,0,0,1,0,0,0,0,0,1,1,0,0,0,0,0,1,0,0,1,0,0,0,1,1,1,1,0,0,{"$f":"IF(OFFSET($A820,0,EA$1)=EA$2,1,0)","v":1},0,0,0,0,1,0,0,1,1,0,0,1,0,0,0,1,1,0,0,0,1,0,0,1,0,1,1,0,0,1,1,1,0,0,0,0,0,0,1,1,0,0,0,0,0,0,0,1,0,0,1,1,1,0,0,1,0,0,0,0,0,1,1,0,0,1,1,0,0,0,0,0,0,0,0,0,1,0,0,0,0,1,1,0,1,1,0,0,0,1,0]
[1,0,1,0,0,0,0,0,0,0,0,0,0,0,0,0,0,0,1,null,0,0.44500000000000001,1,0,0,0,0,0,1,1,1,1,1,1,0,0,1,0,0,1,0,0,1,0,1,1,0,0,0,1,1,0,1,0,1,1,1,0,1,0,1,0,0,1,1,0,0,1,0,1,0,0,0,1,0,0,0,0,0,1,0,0,0,1,1,1,1,0,1,0,1,0,1,1,0,0,0,1,0,0,1,0,0,0,1,0,0,0,0,0,1,1,0,0,0,0,0,1,0,0,1,0,1,1,1,1,1,1,1,0,1,0,0,0,0,1,0,0,1,1,1,1,1,1,0,0,1,1,0,0,0,1,0,0,1,0,1,1,1,0,1,1,1,0,1,0,1,0,1,1,1,0,0,0,0,0,1,1,1,0,0,1,1,1,0,0,1,0,0,0,0,0,1,1,0,0,1,1,0,0,0,0,0,0,0,0,1,1,0,0,0,0,1,1,0,1,1,0,0,0,1,0]
[0,1,1,0,0,0,0,0,0,0,0,0,0,0,0,0,0,0,0,null,0,0.31,1,0,0,0,0,0,1,1,1,1,1,1,0,0,0,0,0,0,0,0,1,0,1,0,0,0,0,0,1,0,0,0,1,1,0,0,1,0,0,0,0,1,1,0,0,0,0,1,0,0,0,0,0,0,0,0,0,0,1,0,0,1,{"$f":"IF(OFFSET($A832,0,CG$1)=CG$2,1,0)","v":1},0,0,0,0,0,0,0,1,1,0,0,0,0,0,0,1,0,0,0,1,0,0,0,0,0,1,1,0,0,0,0,0,1,0,0,1,0,0,0,1,1,1,1,0,0,1,0,0,0,0,1,0,0,1,1,0,0,1,0,0,0,1,1,0,0,0,1,0,0,1,0,1,1,0,0,1,1,1,0,0,0,0,0,0,1,1,0,0,0,0,0,0,0,1,0,0,1,1,1,0,0,1,0,0,0,0,0,1,1,0,0,1,1,0,0,0,0,0,0,0,0,0,1,0,0,0,0,1,1,0,1,1,0,0,0,1,0]
[0,0,0,1,0,0,0,0,0,0,0,0,0,0,0,0,0,1,0,null,0,{"$f":"AVERAGE(W837:HN837)","v":0.25},1,0,0,0,0,0,1,1,1,1,1,1,0,0,0,0,0,0,0,0,1,0,1,0,0,0,0,0,0,0,0,0,1,1,0,0,1,0,0,0,0,1,0,0,0,0,0,0,0,0,0,0,0,0,0,0,0,0,1,0,0,1,1,0,0,0,0,0,0,0,1,0,0,0,0,0,0,0,1,0,0,0,0,0,0,0,0,0,1,1,0,0,0,{"$f":"IF(OFFSET($A837,0,DL$1)=DL$2,1,0)","v":0},0,0,0,0,1,0,0,0,1,0,1,1,0,0,1,0,0,0,0,0,0,0,1,1,0,0,1,0,0,0,1,1,0,0,0,1,0,0,1,0,1,0,0,0,1,1,1,0,0,0,0,0,0,0,1,0,0,0,0,0,0,0,1,0,0,1,1,1,0,0,1,0,0,0,0,0,1,1,0,0,1,1,0,0,0,0,0,0,0,0,0,1,0,0,0,0,1,0,0,0,1,0,0,0,1,0]
[0,1,0,1,0,0,0,0,0,0,0,0,0,0,0,0,0,0,0,null,0,0.31,1,0,0,0,0,0,1,1,1,1,1,1,0,0,0,0,0,0,0,0,1,0,1,0,0,0,0,0,1,0,0,0,1,1,0,0,1,0,0,0,0,1,1,0,0,0,0,1,0,0,0,0,0,0,0,0,0,0,1,0,0,1,1,0,0,0,0,0,0,0,1,1,0,0,0,0,0,0,1,0,0,0,1,0,0,0,0,0,1,1,0,0,0,0,0,1,0,0,1,0,0,0,1,1,1,1,0,0,1,0,0,0,0,1,0,0,1,1,0,0,1,0,0,0,1,1,0,0,0,1,0,0,1,0,1,1,0,0,1,1,1,0,0,0,0,0,0,1,1,0,0,0,0,0,0,0,1,0,0,1,1,1,0,0,1,0,0,0,0,0,1,1,0,0,1,1,0,0,0,0,0,0,0,0,0,1,0,0,0,0,1,1,0,1,1,0,0,0,1,0]
[0,0,0,1,0,0,1,0,0,0,0,0,0,0,0,0,1,1,0,null,0,0.255,0,0,0,1,0,0,0,1,1,1,1,1,1,0,0,0,0,0,0,0,1,0,1,0,0,0,0,0,0,0,0,0,1,0,0,0,0,0,0,0,0,1,0,0,0,0,0,0,0,0,0,0,0,0,0,0,1,0,1,0,0,1,1,0,0,0,0,1,0,0,1,0,0,0,0,0,0,0,1,0,1,0,0,0,0,0,0,0,1,1,1,1,0,{"$f":"IF(OFFSET($A853,0,DL$1)=DL$2,1,0)","v":0},0,0,0,1,1,0,0,0,0,0,1,1,0,0,1,0,0,0,0,0,0,0,1,1,0,0,1,0,0,1,0,0,0,0,0,0,0,0,0,0,1,0,0,0,1,1,0,1,0,1,0,0,0,0,1,1,0,0,0,0,0,0,1,0,0,1,1,1,0,0,1,0,0,0,0,0,0,1,0,0,1,1,0,0,0,1,0,0,0,0,0,0,0,0,0,0,1,0,0,0,1,1,0,0,0,0]
[1,0,0,0,0,0,0,0,0,0,0,0,0,0,0,0,0,0,0,null,0,0.30499999999999999,1,0,0,0,0,0,1,1,1,1,1,1,0,0,0,0,0,0,0,0,1,0,1,0,0,0,0,0,1,0,0,0,1,1,0,0,1,0,0,0,0,1,1,0,0,0,0,1,0,0,0,0,0,0,0,0,0,0,0,0,0,1,1,0,0,0,0,0,0,0,1,1,0,0,0,0,0,0,1,0,0,0,1,0,0,0,0,0,1,1,0,0,0,0,0,1,0,0,1,0,0,0,1,1,1,1,0,0,1,0,0,0,0,1,0,0,1,1,0,0,1,0,0,0,1,1,0,0,0,1,0,0,1,0,1,1,0,0,1,1,1,0,0,0,0,0,0,1,1,0,0,0,0,0,0,0,1,0,0,1,1,1,0,0,1,0,0,0,0,0,{"$f":"IF(OFFSET($A857,0,GK$1)=GK$2,1,0)","v":1},1,0,0,1,1,0,0,0,0,0,0,0,0,0,1,0,0,0,0,1,1,0,1,1,0,0,0,1,0]
[0,1,0,0,0,0,0,0,0,0,0,0,0,0,0,0,0,1,0,null,0,0.25,1,0,0,0,0,0,1,1,1,1,1,1,0,0,0,0,0,0,0,0,1,0,1,0,0,0,0,0,0,0,0,0,1,1,0,0,1,0,0,0,0,1,0,0,0,0,0,0,0,0,0,0,0,0,0,0,0,0,1,0,0,1,1,0,0,0,0,0,0,0,1,0,0,0,0,0,0,0,1,0,0,0,0,0,0,0,0,0,1,1,0,0,0,0,0,0,0,0,1,0,0,0,1,0,1,1,0,0,1,0,0,0,0,0,0,0,1,1,0,0,1,0,0,0,1,1,0,0,0,1,0,0,1,0,1,0,0,0,1,1,1,0,0,0,0,0,0,0,1,0,0,0,0,0,0,0,1,0,0,1,1,1,0,0,1,0,0,0,0,0,1,1,0,0,1,1,0,0,0,0,0,0,0,0,0,1,0,0,0,0,1,0,0,0,1,0,0,0,1,0]
[0,0,1,0,0,0,1,0,0,0,0,0,0,0,0,0,0,0,0,null,0,0.245,0,0,0,0,0,0,0,1,1,1,1,1,0,0,0,0,0,0,0,0,1,0,1,0,0,0,0,0,1,0,0,0,1,0,0,0,0,0,0,0,0,1,1,0,0,0,0,1,0,0,0,0,0,0,0,0,0,0,1,0,0,1,1,0,0,0,0,0,0,0,1,1,0,0,0,0,0,0,1,0,0,0,1,0,0,0,0,0,1,1,0,0,0,0,0,1,0,0,1,0,0,0,0,1,1,1,0,0,1,0,0,0,0,1,0,0,1,1,0,0,1,0,0,0,0,0,0,0,0,0,0,0,0,0,1,1,0,0,1,1,0,0,0,0,0,0,0,1,1,0,0,0,0,0,0,0,1,0,0,1,1,1,0,0,1,0,0,0,0,0,0,1,0,0,1,1,0,0,0,0,0,0,0,0,0,0,{"$f":"IF(OFFSET($A877,0,HA$1)=HA$2,1,0)","v":0},0,0,0,1,1,0,1,1,0,0,0,0,0]
[1,0,0,1,0,0,1,0,0,0,0,0,0,0,1,0,0,1,0,null,0,0.16500000000000001,0,0,0,0,0,0,0,1,1,1,1,1,0,0,0,0,0,0,0,0,1,0,1,0,0,0,0,0,0,0,0,0,1,0,0,0,0,0,0,0,0,1,0,0,0,0,0,0,0,0,0,0,0,0,0,0,0,0,0,0,0,1,1,0,0,0,0,0,0,0,0,0,0,0,0,0,0,0,1,0,0,0,0,0,0,0,0,0,1,0,0,0,0,0,0,0,0,0,1,0,0,0,0,0,1,1,0,0,1,0,0,0,0,0,0,0,1,1,0,0,1,0,0,0,0,0,0,0,0,0,0,0,0,0,1,0,0,0,1,1,0,0,0,0,0,0,0,0,1,0,0,0,0,0,0,0,1,0,0,1,1,1,0,0,1,0,0,0,0,0,0,1,0,0,1,1,0,0,0,0,0,0,0,0,0,0,0,0,0,0,0,0,0,0,1,0,0,0,0,0]
[0,0,1,0,0,0,0,0,0,0,0,0,0,1,0,0,0,0,0,null,0,0.33500000000000002,1,0,0,0,0,0,1,1,1,1,1,1,0,0,0,0,0,0,0,0,1,0,1,0,0,0,0,0,1,0,0,0,1,1,0,0,1,0,0,0,0,1,1,0,0,0,0,1,0,0,0,0,0,1,0,0,0,0,1,0,1,1,1,0,0,1,0,0,0,0,1,1,0,0,0,0,0,0,1,0,0,0,1,0,0,0,0,0,1,1,0,0,0,{"$f":"IF(OFFSET($A885,0,DL$1)=DL$2,1,0)","v":0},0,1,0,0,1,0,0,0,1,1,1,1,0,0,1,0,0,0,0,1,0,0,1,1,0,0,1,0,0,0,1,1,0,0,0,1,0,0,1,0,1,1,0,0,1,1,1,0,0,0,0,0,0,1,1,0,0,0,0,0,0,0,1,0,0,1,1,1,0,0,1,0,0,0,0,0,1,1,0,0,1,1,0,0,0,0,0,0,1,0,0,1,0,1,0,0,1,1,0,1,1,0,0,0,1,0]
[0,1,1,0,0,0,0,0,0,0,0,0,0,0,0,0,0,0,0,null,0,0.31,1,0,0,0,0,0,1,1,1,1,1,1,0,0,0,0,0,0,0,0,1,0,1,0,0,0,0,0,1,0,0,0,1,1,0,0,1,0,0,0,0,1,1,0,0,0,0,1,0,0,0,0,0,0,0,0,0,0,1,0,0,1,1,0,0,0,0,0,0,0,1,1,0,0,0,0,0,0,1,0,0,0,1,0,0,0,0,0,1,1,0,0,0,0,0,1,0,0,1,0,0,0,1,1,1,1,0,0,1,0,0,0,0,1,0,0,1,1,0,0,1,0,0,0,1,1,0,0,0,1,0,0,1,0,1,1,0,0,1,1,1,0,0,0,0,0,0,1,1,0,0,0,0,0,0,0,1,0,0,1,1,1,0,0,1,0,0,0,0,0,1,1,0,0,1,1,0,0,0,0,0,0,0,0,0,1,0,0,0,0,1,1,0,1,1,0,0,0,1,0]
[0,0,1,0,0,1,0,0,0,0,0,0,0,0,0,0,0,0,0,null,0,0.14499999999999999,1,0,0,0,0,0,1,0,0,0,0,0,0,0,0,0,0,0,0,0,0,0,0,0,0,0,0,0,1,0,0,0,0,1,0,0,1,0,0,0,0,0,1,0,0,0,0,1,0,0,0,0,0,0,0,0,0,0,1,0,0,0,0,0,0,0,0,0,0,0,1,1,0,0,0,0,0,0,0,0,0,0,1,0,0,0,0,0,0,1,0,0,0,0,0,1,0,0,0,0,0,0,1,1,0,0,0,0,0,0,0,0,0,1,0,0,0,0,0,0,0,0,0,0,1,1,0,0,0,1,0,0,1,0,0,1,0,0,0,0,1,0,0,0,0,0,0,1,0,0,0,0,0,0,0,0,0,0,0,0,0,0,0,0,0,0,0,0,0,0,1,0,0,0,0,0,0,0,0,0,0,0,0,0,0,1,0,0,0,0,1,1,0,1,0,0,0,0,1,0]
[0,0,0,0,0,0,1,0,0,0,0,0,0,0,0,0,0,0,0,null,0,0.245,0,0,0,0,0,0,0,1,1,1,1,1,0,0,0,0,0,0,0,0,1,0,1,0,0,0,0,0,1,0,0,0,1,0,0,0,0,0,0,0,0,1,1,0,0,0,0,1,0,0,0,0,0,0,0,0,0,0,1,0,0,1,1,0,0,0,0,0,0,0,1,1,0,0,0,0,0,0,1,0,0,0,1,0,0,0,0,0,1,1,0,0,0,0,0,1,0,0,1,0,0,0,0,1,1,1,0,0,1,0,0,0,0,1,0,0,1,1,0,0,1,0,0,0,0,0,0,0,0,0,0,0,0,0,1,1,0,0,1,1,0,0,0,0,0,0,0,1,1,0,0,0,0,0,0,{"$f":"IF(OFFSET($A906,0,FV$1)=FV$2,1,0)","v":0},1,0,0,1,1,1,0,0,1,0,0,0,0,0,0,1,0,0,1,1,0,0,0,0,0,0,0,0,0,0,0,0,0,0,1,1,0,1,1,0,0,0,0,0]
[1,0,0,0,0,1,0,0,0,0,0,0,0,0,1,0,0,0,0,null,0,0.125,1,0,0,0,0,0,1,0,0,0,0,0,0,0,0,0,0,0,0,0,0,0,0,0,0,0,0,0,1,0,0,0,0,1,0,0,1,0,0,0,0,0,1,0,0,0,0,1,0,0,0,0,0,0,0,0,0,0,0,0,0,0,0,0,0,0,0,0,0,0,0,1,0,0,0,0,0,0,0,0,0,0,1,0,0,0,0,0,0,0,0,0,0,0,0,1,0,0,0,0,0,0,1,1,0,0,0,0,0,0,0,0,0,1,0,0,0,0,0,0,0,0,0,0,1,1,0,0,0,1,0,0,1,0,0,1,0,0,0,0,1,0,0,0,0,0,0,1,0,0,0,0,0,0,0,0,0,0,0,0,0,0,0,0,0,0,0,0,0,0,1,0,0,0,0,0,0,0,0,0,0,0,0,0,0,1,0,0,0,0,0,1,0,1,0,0,0,0,1,0]
[0,1,0,0,0,0,0,0,0,0,0,0,0,0,0,0,0,0,0,null,0,0.31,1,0,0,0,0,0,1,1,1,1,1,1,0,0,0,0,0,0,0,0,1,0,1,0,0,0,0,0,1,0,0,0,1,1,0,0,1,0,0,0,0,1,1,0,0,0,0,1,0,0,0,0,0,0,0,0,0,0,1,0,0,1,1,0,0,0,0,0,0,0,1,1,0,0,0,0,0,0,1,0,0,0,1,0,0,0,0,0,1,1,0,0,0,0,0,1,0,0,1,0,0,0,1,1,1,1,0,0,1,0,0,0,0,1,0,0,1,1,0,0,1,0,0,0,1,1,0,0,0,1,0,0,1,0,1,1,0,0,1,1,1,0,0,0,0,0,0,1,1,0,0,0,0,0,0,0,1,0,0,1,1,1,0,0,1,0,0,0,0,0,1,1,0,0,1,1,0,0,0,0,0,0,0,0,0,1,0,0,0,0,1,1,0,1,1,0,0,0,1,0]
[0,1,1,0,0,0,0,0,0,0,0,0,0,0,0,0,0,0,0,null,0,0.31,1,0,0,0,0,0,1,1,1,1,1,1,0,0,0,0,0,0,0,0,1,0,1,0,0,0,0,0,1,0,0,0,1,1,0,0,1,0,0,0,0,1,1,0,0,0,0,1,0,0,0,0,0,0,0,0,0,0,1,0,0,1,1,0,0,0,0,0,0,0,1,1,0,0,0,0,0,0,1,0,0,0,1,0,0,0,0,0,1,1,0,0,0,0,0,1,0,0,1,0,0,0,1,1,1,1,0,0,1,0,0,0,0,1,0,0,1,1,0,0,1,0,0,0,1,1,0,0,0,1,0,0,1,0,1,1,0,0,1,1,1,0,0,0,0,0,0,1,1,0,0,0,0,0,0,0,1,0,0,1,1,1,0,0,1,0,0,0,0,0,1,1,0,0,1,1,0,0,0,0,0,0,0,0,0,1,0,0,0,0,1,1,0,1,1,0,0,0,1,0]
[0,1,0,0,0,0,0,0,0,0,0,0,0,0,0,0,0,0,0,null,0,0.31,1,0,0,0,0,0,1,1,1,1,1,1,0,0,0,0,0,0,0,0,1,0,1,0,0,0,0,0,1,0,0,0,1,1,0,0,1,0,0,0,0,1,1,0,0,0,0,1,0,0,0,0,0,0,0,0,0,0,1,0,0,1,1,0,0,0,0,0,0,0,1,1,0,0,0,0,0,0,1,0,0,0,1,0,0,0,0,0,1,1,0,0,0,0,0,1,0,0,1,0,0,0,1,1,1,1,0,0,1,0,0,0,0,1,0,0,1,1,0,0,1,0,0,0,1,1,0,0,0,1,0,0,1,0,1,1,0,0,1,1,1,0,0,0,0,0,0,1,1,0,0,0,0,0,0,{"$f":"IF(OFFSET($A938,0,FV$1)=FV$2,1,0)","v":0},1,0,0,1,1,1,0,0,1,0,0,0,0,0,1,1,0,0,1,1,0,0,0,0,0,0,0,0,0,1,0,0,0,0,1,1,0,1,1,0,0,0,1,0]
[0,0,0,1,0,0,0,0,0,0,0,0,0,0,0,0,0,0,0,null,0,0.31,{"$f":"IF(OFFSET($A940,0,W$1)=W$2,1,0)","v":1},0,0,0,0,0,1,1,1,1,1,1,0,0,0,0,0,0,0,0,1,0,1,0,0,0,0,0,1,0,0,0,1,1,0,0,1,0,0,0,0,1,1,0,0,0,0,1,0,0,0,0,0,0,0,0,0,0,1,0,0,1,1,0,0,0,0,0,0,0,1,1,0,0,0,0,0,0,1,0,0,0,1,0,0,0,0,0,1,1,0,0,0,0,0,1,0,0,1,0,0,0,1,1,1,1,0,0,1,0,0,0,0,1,0,0,1,1,0,0,1,0,0,0,{"$f":"IF(OFFSET($A940,0,EQ$1)=EQ$2,1,0)","v":1},1,0,0,0,1,0,0,1,0,1,1,0,0,1,1,1,0,0,0,0,0,0,1,1,0,0,0,0,0,0,0,1,0,0,1,1,1,0,0,1,0,0,0,0,0,1,1,0,0,1,1,0,0,0,0,0,0,0,0,0,1,0,0,0,0,1,1,0,1,1,0,0,0,1,0]
[1,0,0,1,0,0,0,0,0,0,0,0,0,0,0,0,0,0,0,null,0,0.30499999999999999,1,0,0,0,0,0,1,1,1,1,1,1,0,0,0,0,0,0,0,0,1,0,1,0,0,0,0,0,1,0,0,0,1,1,0,0,1,0,0,0,0,1,1,0,0,0,0,1,0,0,0,0,0,0,0,0,0,0,0,0,0,1,1,0,0,0,0,0,0,0,1,1,0,0,0,0,0,0,1,0,0,0,1,0,0,0,0,0,1,1,0,0,0,0,0,1,0,0,1,0,0,0,1,1,1,1,0,0,1,0,0,0,0,1,0,0,1,1,0,0,1,0,0,0,1,1,0,0,0,1,0,0,1,0,1,1,0,0,1,1,1,0,0,0,0,0,0,1,1,0,0,0,0,0,0,0,1,0,0,1,1,1,0,0,1,0,0,0,0,0,1,1,0,0,1,1,0,0,0,0,0,0,0,0,0,1,0,0,0,{"$f":"IF(OFFSET($A950,0,HD$1)=HD$2,1,0)","v":0},1,1,0,1,1,0,0,0,1,0]
[1,0,1,0,0,0,0,0,0,0,0,0,0,0,0,0,0,0,0,null,0,0.30499999999999999,1,0,0,0,0,0,1,1,1,1,1,1,0,0,0,0,0,0,0,0,1,0,1,0,0,0,0,0,1,0,0,0,1,1,0,0,1,0,0,0,0,1,1,0,0,0,{"$f":"IF(OFFSET($A958,0,BQ$1)=BQ$2,1,0)","v":0},1,0,0,0,0,0,0,0,0,0,0,0,0,0,1,1,0,0,0,0,0,0,0,1,1,0,0,0,0,0,0,1,0,0,0,1,0,0,0,0,0,1,1,0,0,0,0,0,1,0,0,1,0,0,0,1,1,1,1,0,0,1,0,0,0,0,1,0,0,1,1,0,0,1,0,0,0,1,1,0,0,0,1,0,0,1,0,1,1,0,0,1,1,1,0,0,0,0,0,0,1,1,0,0,0,0,0,0,0,1,0,0,1,1,1,0,0,1,0,0,0,0,0,1,1,0,0,1,1,0,0,0,0,0,0,0,0,0,1,0,0,0,0,1,1,0,1,1,0,0,0,1,0]
[1,0,1,0,0,1,0,0,0,0,0,0,0,0,0,0,0,0,0,null,0,0.14000000000000001,1,0,0,0,0,0,1,0,0,0,0,0,0,0,0,0,0,0,0,0,0,0,0,0,0,0,0,0,1,0,0,{"$f":"IF(OFFSET($A959,0,BB$1)=BB$2,1,0)","v":0},0,1,0,0,1,0,0,0,0,0,1,0,0,0,0,1,0,0,0,0,0,0,0,0,0,0,0,0,0,0,0,0,0,0,0,0,0,0,1,1,0,0,0,0,0,{"$f":"IF(OFFSET($A959,0,CV$1)=CV$2,1,0)","v":0},0,0,0,0,1,0,0,0,0,0,0,1,0,0,0,0,0,1,0,0,0,0,0,0,1,1,0,0,0,0,0,0,0,0,0,1,0,0,0,0,0,0,0,0,0,0,1,1,0,0,0,1,0,0,1,0,0,1,0,0,0,0,1,0,0,0,0,0,0,1,0,0,0,0,0,0,0,0,0,0,0,0,0,0,0,0,0,0,0,0,0,0,1,0,0,0,0,0,0,0,0,0,0,0,0,0,0,1,0,0,0,0,1,1,0,1,0,0,0,0,1,0]
[1,0,0,1,0,0,1,0,0,0,0,0,0,0,0,0,0,0,0,null,0,0.24,0,0,0,0,0,0,0,1,1,1,1,1,0,0,0,{"$f":"IF(OFFSET($A971,0,AL$1)=AL$2,1,0)","v":0},0,0,0,0,1,0,1,0,0,0,0,0,1,0,0,0,1,0,0,0,0,0,0,0,0,1,1,0,0,0,0,1,0,0,0,0,0,0,0,0,0,0,0,0,0,1,1,0,0,0,0,0,0,0,1,1,0,0,0,0,0,0,1,0,0,0,1,0,0,0,0,0,1,1,0,0,0,0,0,1,0,0,1,0,0,0,0,1,1,1,0,0,1,0,0,0,0,1,0,0,1,1,0,0,1,0,0,0,0,0,0,0,0,0,0,0,0,0,1,1,0,0,1,{"$f":"IF(OFFSET($A971,0,FF$1)=FF$2,1,0)","v":1},0,0,0,0,0,0,0,1,1,0,0,0,0,0,0,0,1,0,0,1,1,1,0,0,1,0,0,0,0,0,0,1,0,0,1,1,0,0,0,0,0,0,0,0,0,0,0,0,0,0,1,1,0,1,1,0,0,0,0,0]
[0,1,1,0,0,0,0,0,0,0,0,0,0,0,0,0,1,0,0,null,0,0.38,1,0,0,1,0,0,1,1,1,1,1,1,1,0,0,0,0,0,0,0,1,0,1,0,0,0,0,0,1,0,0,0,1,1,0,0,1,0,0,0,0,1,1,0,0,0,0,1,0,0,0,0,0,0,0,0,1,0,1,0,0,1,1,0,0,0,0,1,0,0,1,1,0,0,0,0,0,0,1,0,1,0,1,0,0,0,0,0,1,1,1,1,0,0,0,1,0,1,1,0,0,0,1,1,1,1,0,0,1,0,0,0,0,1,0,0,1,1,0,0,1,0,0,1,1,1,0,0,0,1,0,0,1,0,1,1,0,0,1,1,1,1,0,1,0,0,0,1,1,1,0,0,0,0,0,0,1,0,0,1,1,1,0,0,1,0,0,0,0,0,1,1,0,0,1,1,0,0,0,1,0,0,0,0,0,1,0,0,0,0,1,1,0,1,1,1,0,0,1,0]
[0,1,0,0,0,0,1,0,0,0,0,0,0,0,1,0,0,0,0,null,0,0.23,0,0,0,0,0,0,0,1,1,1,1,1,0,0,0,0,0,0,0,0,1,0,1,0,0,0,0,0,1,0,0,0,1,0,0,0,0,0,0,0,0,1,1,0,0,0,{"$f":"IF(OFFSET($A974,0,BQ$1)=BQ$2,1,0)","v":0},1,0,0,0,0,0,0,0,0,0,0,1,0,0,1,1,0,0,0,0,0,0,0,0,1,0,0,0,0,0,0,1,0,0,0,1,0,0,0,0,0,1,0,0,0,0,0,0,1,0,0,1,0,0,0,0,1,1,1,0,0,1,0,0,0,0,1,0,0,1,1,0,0,1,0,0,0,0,0,0,0,0,0,0,0,0,0,1,1,0,0,1,1,0,0,0,0,0,0,0,1,1,0,0,0,0,0,0,0,1,0,0,1,1,1,0,0,1,0,0,0,0,0,0,1,0,0,1,1,0,0,0,0,0,0,0,0,0,0,0,0,0,0,0,1,0,1,1,0,0,0,0,0]
[1,0,0,1,0,0,0,0,0,0,0,0,0,0,1,0,0,0,0,null,0,0.28999999999999998,1,0,0,0,0,0,1,1,1,1,1,1,0,0,0,0,0,0,0,0,1,0,1,0,0,0,0,0,1,0,0,{"$f":"IF(OFFSET($A975,0,BB$1)=BB$2,1,0)","v":0},1,1,0,0,1,0,0,0,0,1,1,0,0,0,0,1,0,0,0,0,0,0,0,0,0,0,0,0,0,1,1,0,0,0,0,0,0,0,0,1,0,0,0,0,0,{"$f":"IF(OFFSET($A975,0,CV$1)=CV$2,1,0)","v":0},1,0,0,0,1,0,0,0,0,0,1,0,0,0,0,0,0,1,0,0,1,0,0,0,1,1,1,1,0,0,1,0,0,0,0,1,0,0,1,1,0,0,1,0,0,0,1,1,0,0,0,1,0,0,1,0,1,1,0,0,1,1,1,0,0,0,0,0,0,1,1,0,0,0,0,0,0,0,1,0,0,1,1,1,0,0,1,0,0,0,0,0,1,1,0,0,1,1,0,0,0,0,0,0,0,0,0,1,0,0,0,0,0,1,0,1,1,0,0,0,1,0]
[0,1,0,0,0,1,0,0,0,0,0,0,0,0,0,0,0,0,0,null,0,0.14499999999999999,1,0,0,0,0,0,1,0,0,0,0,0,0,0,0,0,0,0,0,0,0,0,0,0,0,0,0,0,1,0,0,0,0,1,0,0,1,0,0,0,0,0,1,0,0,0,0,1,0,0,0,0,0,0,0,0,0,0,1,0,0,0,{"$f":"IF(OFFSET($A976,0,CG$1)=CG$2,1,0)","v":0},0,0,0,0,0,0,0,1,1,0,0,0,0,0,0,0,0,0,0,1,0,0,0,0,0,0,1,0,0,0,0,0,1,0,0,0,0,0,0,1,1,0,0,0,0,0,0,0,0,0,1,0,0,0,0,0,0,0,0,0,0,1,1,0,0,0,1,0,0,1,0,0,1,0,0,0,0,1,0,0,0,0,0,0,1,0,0,0,0,0,0,0,0,0,0,0,0,0,0,0,0,0,0,0,0,0,0,1,0,0,0,0,0,0,0,0,0,0,0,0,0,0,1,0,0,0,0,1,1,0,1,0,0,0,0,1,0]
[0,0,0,0,0,1,0,0,0,0,0,0,0,0,0,0,0,0,0,null,0,0.14499999999999999,1,0,0,0,0,0,1,0,0,0,0,0,0,0,0,0,0,0,0,0,0,0,0,0,0,0,0,0,1,0,0,0,0,1,0,0,1,0,0,0,0,0,1,0,0,0,0,1,0,0,0,0,0,0,0,0,0,0,1,0,0,0,0,0,0,0,0,0,0,0,1,1,0,0,0,0,0,0,0,0,0,0,1,0,0,0,0,0,0,1,0,0,0,0,0,1,0,0,0,0,0,0,1,1,0,0,0,0,0,0,0,0,0,1,0,0,0,0,0,0,0,0,0,0,1,1,0,0,0,1,0,0,1,0,0,1,0,0,0,0,1,0,0,0,0,0,0,1,0,0,0,0,0,0,0,0,0,0,0,0,0,0,0,0,0,0,0,0,0,0,1,0,0,0,0,0,0,0,0,0,0,0,0,0,0,1,0,0,0,0,1,1,0,1,0,0,0,0,1,0]
[0,1,1,0,0,0,0,0,0,0,0,0,0,0,0,0,0,0,0,null,0,0.31,1,0,0,0,0,0,1,1,1,1,1,1,0,0,0,0,0,0,0,0,1,0,1,0,0,0,0,0,1,0,0,0,1,1,0,0,1,0,0,0,0,1,1,0,0,0,0,1,0,0,0,0,0,0,0,0,0,0,1,0,0,1,1,0,0,0,0,0,0,0,1,1,0,0,0,0,0,0,1,0,0,0,1,0,0,0,0,0,1,1,0,0,0,0,0,1,0,0,1,0,0,0,1,1,1,1,0,0,1,0,0,0,0,1,0,0,1,1,0,0,1,0,0,0,1,1,0,0,0,1,0,0,1,0,1,1,0,0,1,1,1,0,0,0,0,0,0,1,1,0,0,0,0,0,0,0,1,0,0,1,1,1,0,0,1,0,0,0,0,0,1,1,0,0,1,1,0,0,0,0,0,0,0,0,0,1,0,0,0,0,1,1,0,1,1,0,0,0,1,0]
[0,0,1,0,0,0,0,0,0,0,0,0,0,0,0,0,1,1,0,null,0,0.32,1,0,0,1,0,0,1,1,1,1,1,1,1,0,0,0,0,0,0,0,1,0,1,0,0,0,0,0,0,0,0,0,1,1,0,0,1,0,0,0,0,1,0,0,0,0,0,0,0,0,0,0,0,0,0,0,1,0,1,0,0,1,1,0,0,0,0,1,0,0,1,0,0,0,0,0,0,0,1,0,1,0,0,0,0,0,0,0,1,1,1,1,0,0,0,0,0,1,1,0,0,0,1,0,1,1,0,0,1,0,0,0,0,0,0,0,1,1,0,0,1,0,0,1,1,1,0,0,0,1,0,0,1,0,1,0,0,0,1,1,1,1,0,1,0,0,0,0,1,1,0,0,0,0,0,0,1,0,0,1,1,1,0,0,1,0,0,0,0,0,1,1,0,0,1,1,0,0,0,1,0,0,0,0,0,1,0,0,0,0,1,0,0,0,1,1,0,0,1,0]
[1,0,0,1,0,0,0,0,0,0,0,0,0,0,0,0,0,0,0,null,0,0.30499999999999999,1,0,0,0,0,0,1,1,1,1,1,1,0,0,0,0,0,0,0,0,1,0,1,0,0,0,0,0,1,0,0,0,1,1,0,0,1,0,0,0,0,1,1,0,0,0,0,1,0,0,0,0,0,0,0,0,0,0,0,0,0,1,1,0,0,0,0,0,0,0,1,1,0,0,0,0,0,0,1,0,0,0,1,0,0,0,0,0,1,1,0,0,0,0,0,1,0,0,1,0,0,0,1,1,1,1,0,0,{"$f":"IF(OFFSET($A980,0,EA$1)=EA$2,1,0)","v":1},0,0,0,0,1,0,0,1,1,0,0,1,0,0,0,1,1,0,0,0,1,0,0,1,0,1,1,0,0,1,1,1,0,0,0,0,0,0,1,1,0,0,0,0,0,0,0,1,0,0,1,1,1,0,0,1,0,0,0,0,0,1,1,0,0,1,1,0,0,0,0,0,0,0,0,0,1,0,0,0,0,1,1,0,1,1,0,0,0,1,0]
[0,0,1,0,0,0,0,0,0,0,0,0,0,0,0,0,0,1,0,null,0,0.25,1,0,0,0,0,0,1,1,1,1,1,1,0,0,0,0,0,0,0,0,1,0,1,0,0,0,0,0,0,0,0,0,1,1,0,0,1,0,0,0,0,1,0,0,0,0,0,0,0,0,0,0,0,0,0,0,0,0,1,0,0,1,1,0,0,0,0,0,0,0,1,0,0,0,0,0,0,0,1,0,0,0,0,0,0,0,0,0,1,1,0,0,0,{"$f":"IF(OFFSET($A981,0,DL$1)=DL$2,1,0)","v":0},0,0,0,0,1,0,0,0,1,0,1,1,0,0,1,0,0,0,0,0,0,0,1,1,0,0,1,0,0,0,1,1,0,0,0,1,0,0,1,0,1,0,0,0,1,1,1,0,0,0,0,0,0,0,1,0,0,0,0,0,0,0,1,0,0,1,1,1,0,0,1,0,0,0,0,0,1,1,0,0,1,1,0,0,0,0,0,0,0,0,0,1,0,0,0,0,1,0,0,0,1,0,0,0,1,0]
[1,0,0,1,0,0,0,0,0,0,0,0,0,0,0,0,0,1,0,null,0,0.245,1,0,0,0,0,0,1,1,1,1,1,1,0,0,0,0,0,0,0,0,1,0,1,0,0,0,0,0,0,0,0,0,1,1,0,0,1,0,0,0,0,1,0,0,0,0,0,0,0,0,0,0,0,0,0,0,0,0,0,0,0,1,1,0,0,0,0,0,0,0,1,0,0,0,0,0,0,0,1,0,0,0,0,0,0,0,0,0,1,1,0,0,0,0,0,0,0,0,1,0,0,0,1,0,1,1,0,0,1,0,0,0,0,0,0,0,1,1,0,0,1,0,0,0,1,1,0,0,0,1,0,0,1,0,1,0,0,0,1,1,1,0,0,0,0,0,0,0,1,0,0,0,0,0,0,0,1,0,0,1,1,1,0,0,1,0,0,0,0,0,1,1,0,0,1,1,0,0,0,0,0,0,0,0,0,1,0,0,0,0,1,0,0,0,1,0,0,0,1,0]
[0,1,1,0,0,0,0,0,0,0,0,0,0,0,1,0,0,0,0,null,0,0.29499999999999998,1,0,0,0,0,0,1,1,1,1,1,1,0,0,0,0,0,0,0,0,1,0,1,0,0,0,0,0,1,0,0,0,1,1,0,0,1,0,0,0,0,1,1,0,0,0,0,1,0,0,0,0,0,0,0,0,0,0,1,0,0,1,1,0,0,0,0,0,0,0,0,1,0,0,0,0,0,0,1,0,0,0,1,0,0,0,0,0,1,0,0,0,0,0,0,1,0,0,1,0,0,0,1,1,1,1,0,0,1,0,0,0,0,1,0,0,1,1,0,0,1,0,0,0,1,1,0,0,0,1,0,0,1,0,1,1,0,0,1,1,1,0,0,0,0,0,0,1,1,0,0,0,0,0,0,0,1,0,0,1,1,1,0,0,1,0,0,0,0,0,1,1,0,0,1,1,0,0,0,0,0,0,0,0,0,1,0,0,0,0,0,1,0,1,1,0,0,0,1,0]
[0,0,1,0,0,1,0,0,0,0,0,0,0,0,0,0,1,1,0,null,0,0.155,1,0,0,1,0,0,1,0,0,0,0,0,1,0,0,0,0,0,0,0,0,0,0,0,0,0,0,0,0,0,0,0,0,1,0,0,1,0,0,0,0,0,0,0,0,0,0,0,0,0,0,0,0,0,0,0,1,0,1,0,0,0,0,0,0,0,0,1,0,0,1,0,0,0,0,0,0,0,0,0,1,0,0,0,0,0,0,0,0,1,1,1,0,0,0,0,0,1,0,0,0,0,1,0,0,0,0,0,0,0,0,0,0,0,0,0,0,0,0,0,0,0,0,1,1,1,0,0,0,1,0,0,1,0,0,0,0,0,0,0,1,1,0,1,0,0,0,0,0,1,0,0,0,0,0,0,0,0,0,0,0,0,0,0,0,0,0,0,0,0,1,0,0,0,0,0,0,0,0,1,0,0,0,0,0,1,0,0,0,0,1,0,0,0,0,1,0,0,1,0]
[1,0,0,0,0,0,1,0,0,0,0,0,0,0,0,0,0,0,0,null,0,0.24,0,0,0,0,0,0,0,1,1,1,1,1,0,0,0,0,0,0,0,0,1,0,1,0,0,0,0,0,1,0,0,0,1,0,0,0,0,0,0,0,0,1,1,0,0,0,0,1,0,0,0,0,0,0,0,0,0,0,0,0,0,1,1,0,0,0,0,0,0,0,1,1,0,0,0,0,0,0,1,0,0,0,1,0,0,0,0,0,1,1,0,0,0,0,0,1,0,0,1,0,0,0,0,1,1,1,0,0,1,0,0,0,0,1,0,0,1,1,0,0,1,0,0,0,0,0,0,0,0,0,0,0,0,0,1,1,0,0,1,1,0,0,0,0,0,0,0,1,1,0,0,0,0,0,0,0,1,0,0,1,1,1,0,0,1,0,0,0,0,0,{"$f":"IF(OFFSET($A985,0,GK$1)=GK$2,1,0)","v":0},1,0,0,1,1,0,0,0,0,0,0,0,0,0,0,0,0,0,0,1,1,0,1,{"$f":"IF(OFFSET($A985,0,HI$1)=HI$2,1,0)","v":1},0,0,0,0,0]
[1,0,0,0,0,0,0,0,0,0,0,0,0,1,1,0,0,1,0,null,0,0.255,1,0,0,0,0,0,1,1,1,1,1,1,0,0,0,0,0,0,0,0,1,0,1,0,0,0,0,0,0,0,0,0,1,1,0,0,1,0,0,0,0,1,0,0,0,0,0,0,0,0,0,0,0,1,0,0,0,0,0,0,1,1,1,0,0,1,0,0,0,0,0,0,0,0,0,0,0,0,1,0,0,0,0,0,0,0,0,0,1,0,0,0,0,0,0,0,0,0,1,0,0,0,1,0,1,1,0,0,1,0,0,0,0,0,0,0,1,1,0,0,1,0,0,0,1,1,0,0,0,1,0,0,1,0,1,0,0,0,1,1,1,0,0,0,0,0,0,0,1,0,0,0,0,0,0,{"$f":"IF(OFFSET($A986,0,FV$1)=FV$2,1,0)","v":0},1,0,0,1,1,1,0,0,1,0,0,0,0,0,1,1,0,0,1,1,0,0,0,0,0,0,1,0,0,1,0,1,0,0,0,0,0,0,1,0,0,0,1,0]
[0,0,0,1,0,0,0,0,0,0,0,0,0,0,1,0,0,0,0,null,0,0.29499999999999998,1,0,0,0,0,0,1,1,1,1,1,1,0,0,0,{"$f":"IF(OFFSET($A987,0,AL$1)=AL$2,1,0)","v":0},0,0,0,0,1,0,1,0,0,0,0,0,1,0,0,0,1,1,0,0,1,0,0,0,0,1,1,0,0,0,0,1,0,0,0,0,0,0,0,0,0,0,1,0,0,1,1,0,0,0,0,0,0,0,0,1,0,0,0,0,0,0,1,0,0,0,1,0,0,0,0,0,1,0,0,0,0,0,0,1,0,0,1,0,0,0,1,1,1,1,0,0,1,0,0,0,0,1,0,0,1,1,0,0,1,0,0,0,1,1,0,0,0,1,0,0,1,0,1,1,0,0,1,{"$f":"IF(OFFSET($A987,0,FF$1)=FF$2,1,0)","v":1},1,0,0,0,0,0,0,1,1,0,0,0,0,0,0,0,1,0,0,1,1,1,0,0,1,0,0,0,0,0,1,1,0,0,1,1,0,0,0,0,0,0,0,0,0,1,0,0,0,{"$f":"IF(OFFSET($A987,0,HD$1)=HD$2,1,0)","v":0},0,1,0,1,1,0,0,0,1,0]
[0,1,1,0,0,0,0,0,0,0,0,0,0,0,0,0,0,0,0,null,0,0.31,{"$f":"IF(OFFSET($A988,0,W$1)=W$2,1,0)","v":1},0,0,0,0,0,1,1,1,1,1,1,0,0,0,0,0,0,0,0,1,0,1,0,0,0,0,0,1,0,0,0,1,1,0,0,1,0,0,0,0,1,1,0,0,0,0,1,0,0,0,0,0,0,0,0,0,0,1,0,0,1,1,0,0,0,0,0,0,0,1,1,0,0,0,0,0,0,1,0,0,0,1,0,0,0,0,0,1,1,0,0,0,0,0,1,0,0,1,0,0,0,1,1,1,1,0,0,1,0,0,0,0,1,0,0,1,1,0,0,1,0,0,0,{"$f":"IF(OFFSET($A988,0,EQ$1)=EQ$2,1,0)","v":1},1,0,0,0,1,0,0,1,0,1,1,0,0,1,1,1,0,0,0,0,0,0,1,1,0,0,0,0,0,0,0,1,0,0,1,1,1,0,0,1,0,0,0,0,0,1,1,0,0,1,1,0,0,0,0,0,0,0,0,0,1,{"$f":"IF(OFFSET($A988,0,HA$1)=HA$2,1,0)","v":0},0,0,0,1,1,0,1,1,0,0,0,1,0]
[1,0,1,0,0,0,0,0,0,0,0,0,0,1,0,0,0,0,0,null,0,0.33,1,0,0,0,0,0,1,1,1,1,1,1,0,0,0,0,0,0,0,0,1,0,1,0,0,0,0,0,1,0,0,0,1,1,0,0,1,0,0,0,0,1,1,0,0,0,0,1,0,0,0,0,0,1,0,0,0,0,0,0,1,1,1,0,0,1,0,0,0,0,1,1,0,0,0,0,0,0,1,0,0,0,1,0,0,0,0,0,1,1,0,0,0,0,0,1,0,0,1,0,0,0,1,1,1,1,0,0,1,0,0,0,0,1,0,0,1,1,0,0,1,0,0,0,1,1,0,0,0,1,0,0,1,0,1,1,0,0,1,1,1,0,0,0,0,0,0,1,1,0,0,0,0,0,0,0,1,0,0,1,1,1,0,0,1,0,0,0,0,0,1,1,0,0,1,1,0,0,0,0,0,0,1,0,0,1,0,1,0,0,1,1,0,1,1,0,0,0,1,0]
[0,1,1,0,0,1,0,0,0,0,0,0,0,0,0,0,0,1,0,null,0,8.5000000000000006E-2,1,0,0,0,0,0,1,0,0,0,0,0,0,0,0,0,0,0,0,0,0,0,0,0,0,0,0,0,0,0,0,0,0,1,0,0,1,0,0,0,0,0,0,0,0,0,{"$f":"IF(OFFSET($A990,0,BQ$1)=BQ$2,1,0)","v":0},0,0,0,0,0,0,0,0,0,0,0,1,0,0,0,0,0,0,0,0,0,0,0,1,0,0,0,0,0,0,0,0,0,0,0,0,0,0,0,0,0,0,1,0,0,0,0,0,0,0,0,0,0,0,0,1,0,0,0,0,0,0,0,0,0,0,0,0,0,0,0,0,0,0,0,0,0,1,1,0,0,0,1,0,0,1,0,0,0,0,0,0,0,1,0,0,0,0,0,0,0,0,0,0,0,0,0,0,0,0,0,0,0,0,0,0,0,0,0,0,0,0,0,1,0,0,0,0,0,0,0,0,0,0,0,0,0,0,1,0,0,0,0,1,0,0,0,0,0,0,0,1,0]
[0,1,0,1,0,1,0,0,0,0,0,0,0,0,0,0,0,0,0,null,0,0.14499999999999999,1,0,0,0,0,0,1,0,0,0,0,0,0,0,0,0,0,0,0,0,0,0,0,0,0,0,0,0,1,0,0,{"$f":"IF(OFFSET($A991,0,BB$1)=BB$2,1,0)","v":0},0,1,0,0,1,0,0,0,0,0,1,0,0,0,0,1,0,0,0,0,0,0,0,0,0,0,1,0,0,0,0,0,0,0,0,0,0,0,1,1,0,0,0,0,0,{"$f":"IF(OFFSET($A991,0,CV$1)=CV$2,1,0)","v":0},0,0,0,0,1,0,0,0,0,0,0,1,0,0,0,0,0,1,0,0,0,0,0,0,1,1,0,0,0,0,0,0,0,0,0,1,0,0,0,0,0,0,0,0,0,0,1,1,0,0,0,1,0,0,1,0,0,1,0,0,0,0,1,0,0,0,0,0,0,1,0,0,0,0,0,0,0,0,0,0,0,0,0,0,0,0,0,0,0,0,0,0,1,0,0,0,0,0,0,0,0,0,0,0,0,0,0,1,0,0,0,0,1,1,0,1,0,0,0,0,1,0]
[0,0,1,0,0,0,0,0,0,0,0,0,0,0,0,0,0,0,0,null,0,0.31,1,0,0,0,0,0,1,1,1,1,1,1,0,0,0,0,0,0,0,0,1,0,1,0,0,0,0,0,1,0,0,0,1,1,0,0,1,0,0,0,0,1,1,0,0,0,0,1,0,0,0,0,0,0,0,0,0,0,1,0,0,1,{"$f":"IF(OFFSET($A992,0,CG$1)=CG$2,1,0)","v":1},0,0,0,0,0,0,0,1,1,0,0,0,0,0,0,1,0,0,0,1,0,0,0,0,0,1,1,0,0,0,0,0,1,0,0,1,0,0,0,1,1,1,1,0,0,1,0,0,0,0,1,0,0,1,1,0,0,1,0,0,0,1,1,0,0,0,1,0,0,1,0,1,1,0,0,1,1,1,0,0,0,0,0,0,1,1,0,0,0,0,0,0,0,1,0,0,1,1,1,0,0,1,0,0,0,0,0,1,1,0,0,1,1,0,0,0,0,0,0,0,0,0,1,0,0,0,0,1,1,0,1,1,0,0,0,1,0]
[1,0,1,0,0,0,1,0,0,0,0,0,0,0,0,0,0,1,0,null,0,0.18,0,0,0,0,0,0,0,1,1,1,1,1,0,0,0,0,0,0,0,0,1,0,1,0,0,0,0,0,0,0,0,0,1,0,0,0,0,0,0,0,0,1,0,0,0,0,0,0,0,0,0,0,0,0,0,0,0,0,0,0,0,1,1,0,0,0,0,0,0,0,1,0,0,0,0,0,0,0,1,0,0,0,0,0,0,0,0,0,1,1,0,0,0,0,0,0,0,0,1,0,0,0,0,0,1,1,0,0,1,0,0,0,0,0,0,0,1,1,0,0,1,0,0,0,0,0,0,0,0,0,0,0,0,0,1,0,0,0,1,1,0,0,0,0,0,0,0,0,1,0,0,0,0,0,0,0,1,0,0,1,1,1,0,0,1,0,0,0,0,0,0,1,0,0,1,1,0,0,0,0,0,0,0,0,0,0,0,0,0,0,1,0,0,0,1,0,0,0,0,0]
[0,0,0,1,0,0,1,0,0,0,0,0,0,0,0,0,0,0,0,null,0,0.245,0,0,0,0,0,0,0,1,1,1,1,1,0,0,0,0,0,0,0,0,1,0,1,0,0,0,0,0,1,0,0,0,1,0,0,0,0,0,0,0,0,1,1,0,0,0,0,1,0,0,0,0,0,0,0,0,0,0,1,0,0,1,1,0,0,0,0,0,0,0,1,1,0,0,0,0,0,0,1,0,0,0,1,0,0,0,0,0,1,1,0,0,0,0,0,1,0,0,1,0,0,0,0,1,1,1,0,0,1,0,0,0,0,1,0,0,1,1,0,0,1,0,0,0,0,0,0,0,0,0,0,0,0,0,1,1,0,0,1,1,0,0,0,0,0,0,0,1,1,0,0,0,0,0,0,0,1,0,0,1,1,1,0,0,1,0,0,0,0,0,0,1,0,0,1,1,0,0,0,0,0,0,0,0,0,0,0,0,0,0,1,1,0,1,1,0,0,0,0,0]
[0,0,1,0,0,1,0,0,0,0,0,0,0,0,0,0,0,1,0,null,0,8.5000000000000006E-2,1,0,0,0,0,0,1,0,0,0,0,0,0,0,0,0,0,0,0,0,0,0,0,0,0,0,0,0,0,0,0,0,0,1,0,0,1,0,0,0,0,0,0,0,0,0,0,0,0,0,0,0,0,0,0,0,0,0,1,0,0,0,0,0,0,0,0,0,0,0,1,0,0,0,0,0,0,0,0,0,0,0,0,0,0,0,0,0,0,1,0,0,0,0,0,0,0,0,0,0,0,0,1,0,0,0,0,0,0,0,0,0,0,0,0,0,0,0,0,0,0,0,0,0,1,1,0,0,0,1,0,0,1,0,0,0,0,0,0,0,1,0,0,0,0,0,0,0,0,0,0,0,0,0,0,0,0,0,0,0,0,0,0,0,0,0,0,0,0,0,1,0,0,0,0,0,0,0,0,0,0,0,0,0,0,1,0,0,0,0,1,0,0,0,0,0,0,0,1,0]
[1,0,0,0,0,1,0,0,0,0,0,0,0,0,0,0,0,0,0,null,0,0.14000000000000001,1,0,0,0,0,0,1,0,0,0,0,0,0,0,0,0,0,0,0,0,0,0,0,0,0,0,0,0,1,0,0,0,0,1,0,0,1,0,0,0,0,0,1,0,0,0,0,1,0,0,0,0,0,0,0,0,0,0,0,0,0,0,0,0,0,0,0,0,0,0,1,1,0,0,0,0,0,0,0,0,0,0,1,0,0,0,0,0,0,1,0,0,0,0,0,1,0,0,0,0,0,0,1,1,0,0,0,0,{"$f":"IF(OFFSET($A996,0,EA$1)=EA$2,1,0)","v":0},0,0,0,0,1,0,0,0,0,0,0,0,0,0,0,1,1,0,0,0,1,0,0,1,0,0,1,0,0,0,0,1,0,0,0,0,0,0,1,0,0,0,0,0,0,0,0,0,0,0,0,0,0,0,0,0,0,0,0,0,0,1,0,0,0,0,0,0,0,0,0,0,0,0,0,0,1,0,0,0,0,1,1,0,1,0,0,0,0,1,0]
[1,0,0,0,0,0,0,0,0,0,0,0,0,1,0,0,0,0,0,null,0,0.33,1,0,0,0,0,0,1,1,1,1,1,1,0,0,0,0,0,0,0,0,1,0,1,0,0,0,0,0,1,0,0,0,1,1,0,0,1,0,0,0,0,1,1,0,0,0,0,1,0,0,0,0,0,1,0,0,0,0,0,0,1,1,1,0,0,1,0,0,0,0,1,1,0,0,0,0,0,0,1,0,0,0,1,0,0,0,0,0,1,1,0,0,0,{"$f":"IF(OFFSET($A997,0,DL$1)=DL$2,1,0)","v":0},0,1,0,0,1,0,0,0,1,1,1,1,0,0,1,0,0,0,0,1,0,0,1,1,0,0,1,0,0,0,1,1,0,0,0,1,0,0,1,0,1,1,0,0,1,1,1,0,0,0,0,0,0,1,1,0,0,0,0,0,0,0,1,0,0,1,1,1,0,0,1,0,0,0,0,0,1,1,0,0,1,1,0,0,0,0,0,0,1,0,0,1,0,1,0,0,1,1,0,1,1,0,0,0,1,0]
[1,0,0,1,0,0,0,0,0,0,1,0,0,0,0,0,0,1,0,null,0,0.245,1,0,0,0,0,0,1,1,1,1,1,1,0,0,0,0,0,0,0,0,1,0,1,0,0,0,0,0,0,0,0,0,1,1,0,0,1,0,0,0,0,1,0,0,0,0,0,0,0,0,0,0,0,0,0,0,0,0,0,0,0,1,1,0,0,0,0,0,0,0,1,0,0,0,0,0,0,0,1,0,0,0,0,0,0,0,0,0,1,1,0,0,0,0,0,0,0,0,1,0,0,0,1,0,1,1,0,0,1,0,0,0,0,0,0,0,1,1,0,0,1,0,0,0,1,1,0,0,0,1,0,0,1,0,1,0,0,0,1,1,1,0,0,0,0,0,0,0,1,0,0,0,0,0,0,0,1,0,0,1,1,1,0,0,1,0,0,0,0,0,1,1,0,0,1,1,0,0,0,0,0,0,0,0,0,1,0,0,0,0,1,0,0,0,1,0,0,0,1,0]
[1,0,0,1,0,0,0,0,1,0,0,0,0,0,0,0,0,0,0,null,0,0.45,1,1,0,0,1,1,1,1,1,1,1,1,0,0,0,0,0,0,0,0,1,0,1,0,1,0,0,0,1,0,0,0,1,1,0,0,1,1,0,1,0,1,1,0,1,0,0,1,1,0,0,0,1,0,0,0,0,0,0,0,0,1,1,0,0,0,0,0,0,0,1,1,0,0,0,0,0,0,1,1,0,0,1,1,0,0,0,1,1,1,0,0,0,0,0,1,0,0,1,0,0,0,1,1,1,1,0,0,1,0,0,1,0,1,0,1,1,1,0,0,1,0,1,0,1,1,0,0,0,1,1,0,1,0,1,1,0,0,1,1,1,0,0,0,0,0,0,1,1,0,1,0,0,1,0,0,1,0,0,1,1,1,0,1,1,0,1,0,0,1,1,1,0,1,1,1,1,0,0,0,1,1,0,1,0,1,0,0,1,0,1,1,0,1,1,0,1,1,1,0]
[0,1,0,0,0,1,1,0,0,0,0,0,0,1,0,0,0,0,0,null,0,0.105,0,0,0,0,0,0,0,0,0,0,0,0,0,0,0,0,0,0,0,0,0,0,0,0,0,0,0,0,1,0,0,0,0,0,0,0,0,0,0,0,0,0,1,0,0,0,0,1,0,0,0,0,0,1,0,0,0,0,1,0,1,0,0,0,0,1,0,0,0,0,1,1,0,0,0,0,0,0,0,0,0,0,1,0,0,0,0,0,0,1,0,0,0,0,0,1,0,0,0,0,0,0,0,1,0,0,0,0,0,0,0,0,0,1,0,0,0,0,0,0,0,0,0,0,0,0,0,0,0,0,0,0,0,0,0,1,0,0,0,0,0,0,0,0,0,0,0,1,0,0,0,0,0,0,0,0,0,0,0,0,0,0,0,0,0,0,0,0,0,0,0,0,0,0,0,0,0,0,0,0,0,0,1,0,0,0,0,1,0,0,1,1,0,1,0,0,0,0,0,0]
[0,0,0,0,0,1,0,0,0,0,0,0,0,0,1,0,0,0,1,null,0,0.27,1,0,0,0,0,0,1,0,0,0,0,0,0,0,1,0,0,1,0,0,0,0,0,1,0,0,0,1,1,0,1,0,0,1,1,0,1,0,1,0,0,0,1,0,0,1,0,1,0,0,0,1,0,0,0,0,0,1,1,0,0,0,0,1,1,0,1,0,1,0,0,1,0,0,0,1,0,0,0,0,0,0,1,0,0,0,0,0,0,0,0,0,0,0,0,1,0,0,0,0,1,1,1,1,0,0,1,0,0,0,0,0,0,1,0,0,0,0,1,1,0,1,0,0,1,1,0,0,0,1,0,0,1,0,0,1,1,0,0,0,1,0,1,0,1,0,1,1,0,0,0,0,0,0,1,1,0,0,0,0,0,0,0,0,0,0,0,0,0,0,{"$f":"IF(OFFSET($A1001,0,GK$1)=GK$2,1,0)","v":1},0,0,0,0,0,0,0,0,0,0,0,0,0,1,1,0,0,0,0,0,1,0,1,0,0,0,0,1,0]
[1,0,0,1,0,0,1,0,0,0,0,0,0,0,1,0,0,0,0,null,0,0.22500000000000001,0,0,0,0,0,0,0,1,1,1,1,1,0,0,0,0,0,0,0,0,1,0,1,0,0,0,0,0,1,0,0,0,1,0,0,0,0,0,0,0,0,1,1,0,0,0,0,1,0,0,0,0,0,0,0,0,0,0,0,0,0,1,1,0,0,0,0,0,0,0,0,1,0,0,0,0,0,0,1,0,0,0,1,0,0,0,0,0,1,0,0,0,0,0,0,1,0,0,1,0,0,0,0,1,1,1,0,0,1,0,0,0,0,1,0,0,1,1,0,0,1,0,0,0,0,0,0,0,0,0,0,0,0,0,1,1,0,0,1,1,0,0,0,0,0,0,0,1,1,0,0,0,0,0,0,{"$f":"IF(OFFSET($A1002,0,FV$1)=FV$2,1,0)","v":0},1,0,0,1,1,1,0,0,1,0,0,0,0,0,0,1,0,0,1,1,0,0,0,0,0,0,0,0,0,0,0,0,0,0,0,1,0,1,1,0,0,0,0,0]
[0,0,1,0,0,0,0,0,0,0,0,0,0,0,0,0,0,0,0,null,0,0.31,1,0,0,0,0,0,1,1,1,1,1,1,0,0,0,{"$f":"IF(OFFSET($A1003,0,AL$1)=AL$2,1,0)","v":0},0,0,0,0,1,0,1,0,0,0,0,0,1,0,0,0,1,1,0,0,1,0,0,0,0,1,1,0,0,0,0,1,0,0,0,0,0,0,0,0,0,0,1,0,0,1,1,0,0,0,0,0,0,0,1,1,0,0,0,0,0,0,1,0,0,0,1,0,0,0,0,0,1,1,0,0,0,0,0,1,0,0,1,0,0,0,1,1,1,1,0,0,1,0,0,0,0,1,0,0,1,1,0,0,1,0,0,0,1,1,0,0,0,1,0,0,1,0,1,1,0,0,1,{"$f":"IF(OFFSET($A1003,0,FF$1)=FF$2,1,0)","v":1},1,0,0,0,0,0,0,1,1,0,0,0,0,0,0,0,1,0,0,1,1,1,0,0,1,0,0,0,0,0,1,1,0,0,1,1,0,0,0,0,0,0,0,0,0,1,0,0,0,0,1,1,0,1,1,0,0,0,1,0]

{"sheet":"Рис. 15 и 16","index":4,"n_rows":38,"n_cols":6,"rows_kept":38,"cut":false,"hidden":false,"merged":[]}
["Минимальное предсказание","Границы диапазонов","Точность","Избирательность","Доля ложноположительных результатов","Чувствительность"]
[{"$f":"MIN('Рис. 13 и 14'!V4:V1003)","v":1.4999999999999999E-2},0.02,{"$f":"COUNTIFS('Рис. 13 и 14'!$V$4:$V$1003,\">=\" & B2,'Рис. 13 и 14'!$U$4:$U$1003,\"=1\")/COUNTIF('Рис. 13 и 14'!$V$4:$V$1003,\">=\" & B2)","v":6.006006006006006E-2},{"$f":"COUNTIFS('Рис. 13 и 14'!$V$4:$V$1003,\"<\" & B2,'Рис. 13 и 14'!$U$4:$U$1003,\"=0\")/COUNTIF('Рис. 13 и 14'!$U$4:$U$1003,\"=0\")","v":1.0638297872340426E-3},{"$f":"1-D2","v":0.99893617021276593},{"$f":"COUNTIFS('Рис. 13 и 14'!$V$4:$V$1003,\">=\" & B2,'Рис. 13 и 14'!$U$4:$U$1003,\"=1\")/COUNTIF('Рис. 13 и 14'!$U$4:$U$1003,\"=1\")","v":1}]
[null,0.04,{"$f":"COUNTIFS('Рис. 13 и 14'!$V$4:$V$1003,\">=\" & B3,'Рис. 13 и 14'!$U$4:$U$1003,\"=1\")/COUNTIF('Рис. 13 и 14'!$V$4:$V$1003,\">=\" & B3)","v":6.030150753768844E-2},{"$f":"COUNTIFS('Рис. 13 и 14'!$V$4:$V$1003,\"<\" & B3,'Рис. 13 и 14'!$U$4:$U$1003,\"=0\")/COUNTIF('Рис. 13 и 14'!$U$4:$U$1003,\"=0\")","v":5.3191489361702126E-3},{"$f":"1-D3","v":0.99468085106382975},{"$f":"COUNTIFS('Рис. 13 и 14'!$V$4:$V$1003,\">=\" & B3,'Рис. 13 и 14'!$U$4:$U$1003,\"=1\")/COUNTIF('Рис. 13 и 14'!$U$4:$U$1003,\"=1\")","v":1}]
["Макс. предсказание",0.06,{"$f":"COUNTIFS('Рис. 13 и 14'!$V$4:$V$1003,\">=\" & B4,'Рис. 13 и 14'!$U$4:$U$1003,\"=1\")/COUNTIF('Рис. 13 и 14'!$V$4:$V$1003,\">=\" & B4)","v":6.030150753768844E-2},{"$f":"COUNTIFS('Рис. 13 и 14'!$V$4:$V$1003,\"<\" & B4,'Рис. 13 и 14'!$U$4:$U$1003,\"=0\")/COUNTIF('Рис. 13 и 14'!$U$4:$U$1003,\"=0\")","v":5.3191489361702126E-3},0.99468085106382975,{"$f":"COUNTIFS('Рис. 13 и 14'!$V$4:$V$1003,\">=\" & B4,'Рис. 13 и 14'!$U$4:$U$1003,\"=1\")/COUNTIF('Рис. 13 и 14'!$U$4:$U$1003,\"=1\")","v":1}]
[{"$f":"MAX('Рис. 13 и 14'!V4:V1003)","v":0.755},0.08,{"$f":"COUNTIFS('Рис. 13 и 14'!$V$4:$V$1003,\">=\" & B5,'Рис. 13 и 14'!$U$4:$U$1003,\"=1\")/COUNTIF('Рис. 13 и 14'!$V$4:$V$1003,\">=\" & B5)","v":6.2111801242236024E-2},{"$f":"COUNTIFS('Рис. 13 и 14'!$V$4:$V$1003,\"<\" & B5,'Рис. 13 и 14'!$U$4:$U$1003,\"=0\")/COUNTIF('Рис. 13 и 14'!$U$4:$U$1003,\"=0\")","v":3.6170212765957444E-2},0.96382978723404256,{"$f":"COUNTIFS('Рис. 13 и 14'!$V$4:$V$1003,\">=\" & B5,'Рис. 13 и 14'!$U$4:$U$1003,\"=1\")/COUNTIF('Рис. 13 и 14'!$U$4:$U$1003,\"=1\")","v":1}]
[null,0.1,{"$f":"COUNTIFS('Рис. 13 и 14'!$V$4:$V$1003,\">=\" & B6,'Рис. 13 и 14'!$U$4:$U$1003,\"=1\")/COUNTIF('Рис. 13 и 14'!$V$4:$V$1003,\">=\" & B6)","v":6.4446831364124602E-2},{"$f":"COUNTIFS('Рис. 13 и 14'!$V$4:$V$1003,\"<\" & B6,'Рис. 13 и 14'!$U$4:$U$1003,\"=0\")/COUNTIF('Рис. 13 и 14'!$U$4:$U$1003,\"=0\")","v":7.3404255319148931E-2},0.92659574468085104,{"$f":"COUNTIFS('Рис. 13 и 14'!$V$4:$V$1003,\">=\" & B6,'Рис. 13 и 14'!$U$4:$U$1003,\"=1\")/COUNTIF('Рис. 13 и 14'!$U$4:$U$1003,\"=1\")","v":1}]
[null,0.12,{"$f":"COUNTIFS('Рис. 13 и 14'!$V$4:$V$1003,\">=\" & B7,'Рис. 13 и 14'!$U$4:$U$1003,\"=1\")/COUNTIF('Рис. 13 и 14'!$V$4:$V$1003,\">=\" & B7)","v":6.4585575888051666E-2},{"$f":"COUNTIFS('Рис. 13 и 14'!$V$4:$V$1003,\"<\" & B7,'Рис. 13 и 14'!$U$4:$U$1003,\"=0\")/COUNTIF('Рис. 13 и 14'!$U$4:$U$1003,\"=0\")","v":7.5531914893617019E-2},0.92446808510638301,{"$f":"COUNTIFS('Рис. 13 и 14'!$V$4:$V$1003,\">=\" & B7,'Рис. 13 и 14'!$U$4:$U$1003,\"=1\")/COUNTIF('Рис. 13 и 14'!$U$4:$U$1003,\"=1\")","v":1}]
[null,0.14000000000000001,{"$f":"COUNTIFS('Рис. 13 и 14'!$V$4:$V$1003,\">=\" & B8,'Рис. 13 и 14'!$U$4:$U$1003,\"=1\")/COUNTIF('Рис. 13 и 14'!$V$4:$V$1003,\">=\" & B8)","v":6.6006600660066E-2},{"$f":"COUNTIFS('Рис. 13 и 14'!$V$4:$V$1003,\"<\" & B8,'Рис. 13 и 14'!$U$4:$U$1003,\"=0\")/COUNTIF('Рис. 13 и 14'!$U$4:$U$1003,\"=0\")","v":9.6808510638297873E-2},0.90319148936170213,{"$f":"COUNTIFS('Рис. 13 и 14'!$V$4:$V$1003,\">=\" & B8,'Рис. 13 и 14'!$U$4:$U$1003,\"=1\")/COUNTIF('Рис. 13 и 14'!$U$4:$U$1003,\"=1\")","v":1}]
[null,0.16,{"$f":"COUNTIFS('Рис. 13 и 14'!$V$4:$V$1003,\">=\" & B9,'Рис. 13 и 14'!$U$4:$U$1003,\"=1\")/COUNTIF('Рис. 13 и 14'!$V$4:$V$1003,\">=\" & B9)","v":7.3110285006195791E-2},{"$f":"COUNTIFS('Рис. 13 и 14'!$V$4:$V$1003,\"<\" & B9,'Рис. 13 и 14'!$U$4:$U$1003,\"=0\")/COUNTIF('Рис. 13 и 14'!$U$4:$U$1003,\"=0\")","v":0.20425531914893616},0.79574468085106387,{"$f":"COUNTIFS('Рис. 13 и 14'!$V$4:$V$1003,\">=\" & B9,'Рис. 13 и 14'!$U$4:$U$1003,\"=1\")/COUNTIF('Рис. 13 и 14'!$U$4:$U$1003,\"=1\")","v":0.98333333333333328}]
[null,0.18,{"$f":"COUNTIFS('Рис. 13 и 14'!$V$4:$V$1003,\">=\" & B10,'Рис. 13 и 14'!$U$4:$U$1003,\"=1\")/COUNTIF('Рис. 13 и 14'!$V$4:$V$1003,\">=\" & B10)","v":7.4120603015075379E-2},{"$f":"COUNTIFS('Рис. 13 и 14'!$V$4:$V$1003,\"<\" & B10,'Рис. 13 и 14'!$U$4:$U$1003,\"=0\")/COUNTIF('Рис. 13 и 14'!$U$4:$U$1003,\"=0\")","v":0.21595744680851064},0.78404255319148941,{"$f":"COUNTIFS('Рис. 13 и 14'!$V$4:$V$1003,\">=\" & B10,'Рис. 13 и 14'!$U$4:$U$1003,\"=1\")/COUNTIF('Рис. 13 и 14'!$U$4:$U$1003,\"=1\")","v":0.98333333333333328}]
[null,0.2,{"$f":"COUNTIFS('Рис. 13 и 14'!$V$4:$V$1003,\">=\" & B11,'Рис. 13 и 14'!$U$4:$U$1003,\"=1\")/COUNTIF('Рис. 13 и 14'!$V$4:$V$1003,\">=\" & B11)","v":7.512953367875648E-2},{"$f":"COUNTIFS('Рис. 13 и 14'!$V$4:$V$1003,\"<\" & B11,'Рис. 13 и 14'!$U$4:$U$1003,\"=0\")/COUNTIF('Рис. 13 и 14'!$U$4:$U$1003,\"=0\")","v":0.2404255319148936},0.75957446808510642,{"$f":"COUNTIFS('Рис. 13 и 14'!$V$4:$V$1003,\">=\" & B11,'Рис. 13 и 14'!$U$4:$U$1003,\"=1\")/COUNTIF('Рис. 13 и 14'!$U$4:$U$1003,\"=1\")","v":0.96666666666666667}]
[null,0.22,{"$f":"COUNTIFS('Рис. 13 и 14'!$V$4:$V$1003,\">=\" & B12,'Рис. 13 и 14'!$U$4:$U$1003,\"=1\")/COUNTIF('Рис. 13 и 14'!$V$4:$V$1003,\">=\" & B12)","v":7.4607329842931933E-2},{"$f":"COUNTIFS('Рис. 13 и 14'!$V$4:$V$1003,\"<\" & B12,'Рис. 13 и 14'!$U$4:$U$1003,\"=0\")/COUNTIF('Рис. 13 и 14'!$U$4:$U$1003,\"=0\")","v":0.24787234042553191},0.75212765957446814,{"$f":"COUNTIFS('Рис. 13 и 14'!$V$4:$V$1003,\">=\" & B12,'Рис. 13 и 14'!$U$4:$U$1003,\"=1\")/COUNTIF('Рис. 13 и 14'!$U$4:$U$1003,\"=1\")","v":0.95}]
[null,0.24,{"$f":"COUNTIFS('Рис. 13 и 14'!$V$4:$V$1003,\">=\" & B13,'Рис. 13 и 14'!$U$4:$U$1003,\"=1\")/COUNTIF('Рис. 13 и 14'!$V$4:$V$1003,\">=\" & B13)","v":7.8082191780821916E-2},{"$f":"COUNTIFS('Рис. 13 и 14'!$V$4:$V$1003,\"<\" & B13,'Рис. 13 и 14'!$U$4:$U$1003,\"=0\")/COUNTIF('Рис. 13 и 14'!$U$4:$U$1003,\"=0\")","v":0.28404255319148936},0.71595744680851059,{"$f":"COUNTIFS('Рис. 13 и 14'!$V$4:$V$1003,\">=\" & B13,'Рис. 13 и 14'!$U$4:$U$1003,\"=1\")/COUNTIF('Рис. 13 и 14'!$U$4:$U$1003,\"=1\")","v":0.95}]
[null,0.26,{"$f":"COUNTIFS('Рис. 13 и 14'!$V$4:$V$1003,\">=\" & B14,'Рис. 13 и 14'!$U$4:$U$1003,\"=1\")/COUNTIF('Рис. 13 и 14'!$V$4:$V$1003,\">=\" & B14)","v":0.10108303249097472},{"$f":"COUNTIFS('Рис. 13 и 14'!$V$4:$V$1003,\"<\" & B14,'Рис. 13 и 14'!$U$4:$U$1003,\"=0\")/COUNTIF('Рис. 13 и 14'!$U$4:$U$1003,\"=0\")","v":0.47021276595744682},0.52978723404255312,{"$f":"COUNTIFS('Рис. 13 и 14'!$V$4:$V$1003,\">=\" & B14,'Рис. 13 и 14'!$U$4:$U$1003,\"=1\")/COUNTIF('Рис. 13 и 14'!$U$4:$U$1003,\"=1\")","v":0.93333333333333335}]
[null,0.28000000000000003,{"$f":"COUNTIFS('Рис. 13 и 14'!$V$4:$V$1003,\">=\" & B15,'Рис. 13 и 14'!$U$4:$U$1003,\"=1\")/COUNTIF('Рис. 13 и 14'!$V$4:$V$1003,\">=\" & B15)","v":0.10204081632653061},{"$f":"COUNTIFS('Рис. 13 и 14'!$V$4:$V$1003,\"<\" & B15,'Рис. 13 и 14'!$U$4:$U$1003,\"=0\")/COUNTIF('Рис. 13 и 14'!$U$4:$U$1003,\"=0\")","v":0.48510638297872338},0.51489361702127656,{"$f":"COUNTIFS('Рис. 13 и 14'!$V$4:$V$1003,\">=\" & B15,'Рис. 13 и 14'!$U$4:$U$1003,\"=1\")/COUNTIF('Рис. 13 и 14'!$U$4:$U$1003,\"=1\")","v":0.91666666666666663}]
[null,0.3,{"$f":"COUNTIFS('Рис. 13 и 14'!$V$4:$V$1003,\">=\" & B16,'Рис. 13 и 14'!$U$4:$U$1003,\"=1\")/COUNTIF('Рис. 13 и 14'!$V$4:$V$1003,\">=\" & B16)","v":0.11482254697286012},{"$f":"COUNTIFS('Рис. 13 и 14'!$V$4:$V$1003,\"<\" & B16,'Рис. 13 и 14'!$U$4:$U$1003,\"=0\")/COUNTIF('Рис. 13 и 14'!$U$4:$U$1003,\"=0\")","v":0.54893617021276597},0.45106382978723403,{"$f":"COUNTIFS('Рис. 13 и 14'!$V$4:$V$1003,\">=\" & B16,'Рис. 13 и 14'!$U$4:$U$1003,\"=1\")/COUNTIF('Рис. 13 и 14'!$U$4:$U$1003,\"=1\")","v":0.91666666666666663}]
[null,0.32,{"$f":"COUNTIFS('Рис. 13 и 14'!$V$4:$V$1003,\">=\" & B17,'Рис. 13 и 14'!$U$4:$U$1003,\"=1\")/COUNTIF('Рис. 13 и 14'!$V$4:$V$1003,\">=\" & B17)","v":0.29032258064516131},{"$f":"COUNTIFS('Рис. 13 и 14'!$V$4:$V$1003,\"<\" & B17,'Рис. 13 и 14'!$U$4:$U$1003,\"=0\")/COUNTIF('Рис. 13 и 14'!$U$4:$U$1003,\"=0\")","v":0.88297872340425532},0.11702127659574468,{"$f":"COUNTIFS('Рис. 13 и 14'!$V$4:$V$1003,\">=\" & B17,'Рис. 13 и 14'!$U$4:$U$1003,\"=1\")/COUNTIF('Рис. 13 и 14'!$U$4:$U$1003,\"=1\")","v":0.75}]
[null,0.34,{"$f":"COUNTIFS('Рис. 13 и 14'!$V$4:$V$1003,\">=\" & B18,'Рис. 13 и 14'!$U$4:$U$1003,\"=1\")/COUNTIF('Рис. 13 и 14'!$V$4:$V$1003,\">=\" & B18)","v":0.3037037037037037},{"$f":"COUNTIFS('Рис. 13 и 14'!$V$4:$V$1003,\"<\" & B18,'Рис. 13 и 14'!$U$4:$U$1003,\"=0\")/COUNTIF('Рис. 13 и 14'!$U$4:$U$1003,\"=0\")","v":0.9},9.9999999999999978E-2,{"$f":"COUNTIFS('Рис. 13 и 14'!$V$4:$V$1003,\">=\" & B18,'Рис. 13 и 14'!$U$4:$U$1003,\"=1\")/COUNTIF('Рис. 13 и 14'!$U$4:$U$1003,\"=1\")","v":0.68333333333333335}]
[null,0.36,{"$f":"COUNTIFS('Рис. 13 и 14'!$V$4:$V$1003,\">=\" & B19,'Рис. 13 и 14'!$U$4:$U$1003,\"=1\")/COUNTIF('Рис. 13 и 14'!$V$4:$V$1003,\">=\" & B19)","v":0.29921259842519687},{"$f":"COUNTIFS('Рис. 13 и 14'!$V$4:$V$1003,\"<\" & B19,'Рис. 13 и 14'!$U$4:$U$1003,\"=0\")/COUNTIF('Рис. 13 и 14'!$U$4:$U$1003,\"=0\")","v":0.90531914893617016},9.4680851063829841E-2,{"$f":"COUNTIFS('Рис. 13 и 14'!$V$4:$V$1003,\">=\" & B19,'Рис. 13 и 14'!$U$4:$U$1003,\"=1\")/COUNTIF('Рис. 13 и 14'!$U$4:$U$1003,\"=1\")","v":0.6333333333333333}]
[null,0.38,{"$f":"COUNTIFS('Рис. 13 и 14'!$V$4:$V$1003,\">=\" & B20,'Рис. 13 и 14'!$U$4:$U$1003,\"=1\")/COUNTIF('Рис. 13 и 14'!$V$4:$V$1003,\">=\" & B20)","v":0.34579439252336447},{"$f":"COUNTIFS('Рис. 13 и 14'!$V$4:$V$1003,\"<\" & B20,'Рис. 13 и 14'!$U$4:$U$1003,\"=0\")/COUNTIF('Рис. 13 и 14'!$U$4:$U$1003,\"=0\")","v":0.92553191489361697},7.4468085106383031E-2,{"$f":"COUNTIFS('Рис. 13 и 14'!$V$4:$V$1003,\">=\" & B20,'Рис. 13 и 14'!$U$4:$U$1003,\"=1\")/COUNTIF('Рис. 13 и 14'!$U$4:$U$1003,\"=1\")","v":0.6166666666666667}]
[null,0.4,{"$f":"COUNTIFS('Рис. 13 и 14'!$V$4:$V$1003,\">=\" & B21,'Рис. 13 и 14'!$U$4:$U$1003,\"=1\")/COUNTIF('Рис. 13 и 14'!$V$4:$V$1003,\">=\" & B21)","v":0.46153846153846156},{"$f":"COUNTIFS('Рис. 13 и 14'!$V$4:$V$1003,\"<\" & B21,'Рис. 13 и 14'!$U$4:$U$1003,\"=0\")/COUNTIF('Рис. 13 и 14'!$U$4:$U$1003,\"=0\")","v":0.9553191489361702},4.4680851063829796E-2,{"$f":"COUNTIFS('Рис. 13 и 14'!$V$4:$V$1003,\">=\" & B21,'Рис. 13 и 14'!$U$4:$U$1003,\"=1\")/COUNTIF('Рис. 13 и 14'!$U$4:$U$1003,\"=1\")","v":0.6}]
[null,0.42,{"$f":"COUNTIFS('Рис. 13 и 14'!$V$4:$V$1003,\">=\" & B22,'Рис. 13 и 14'!$U$4:$U$1003,\"=1\")/COUNTIF('Рис. 13 и 14'!$V$4:$V$1003,\">=\" & B22)","v":0.45333333333333331},{"$f":"COUNTIFS('Рис. 13 и 14'!$V$4:$V$1003,\"<\" & B22,'Рис. 13 и 14'!$U$4:$U$1003,\"=0\")/COUNTIF('Рис. 13 и 14'!$U$4:$U$1003,\"=0\")","v":0.95638297872340428},4.3617021276595724E-2,{"$f":"COUNTIFS('Рис. 13 и 14'!$V$4:$V$1003,\">=\" & B22,'Рис. 13 и 14'!$U$4:$U$1003,\"=1\")/COUNTIF('Рис. 13 и 14'!$U$4:$U$1003,\"=1\")","v":0.56666666666666665}]
[null,0.44,{"$f":"COUNTIFS('Рис. 13 и 14'!$V$4:$V$1003,\">=\" & B23,'Рис. 13 и 14'!$U$4:$U$1003,\"=1\")/COUNTIF('Рис. 13 и 14'!$V$4:$V$1003,\">=\" & B23)","v":0.47222222222222221},{"$f":"COUNTIFS('Рис. 13 и 14'!$V$4:$V$1003,\"<\" & B23,'Рис. 13 и 14'!$U$4:$U$1003,\"=0\")/COUNTIF('Рис. 13 и 14'!$U$4:$U$1003,\"=0\")","v":0.95957446808510638},4.042553191489362E-2,{"$f":"COUNTIFS('Рис. 13 и 14'!$V$4:$V$1003,\">=\" & B23,'Рис. 13 и 14'!$U$4:$U$1003,\"=1\")/COUNTIF('Рис. 13 и 14'!$U$4:$U$1003,\"=1\")","v":0.56666666666666665}]
[null,0.46,{"$f":"COUNTIFS('Рис. 13 и 14'!$V$4:$V$1003,\">=\" & B24,'Рис. 13 и 14'!$U$4:$U$1003,\"=1\")/COUNTIF('Рис. 13 и 14'!$V$4:$V$1003,\">=\" & B24)","v":0.71052631578947367},{"$f":"COUNTIFS('Рис. 13 и 14'!$V$4:$V$1003,\"<\" & B24,'Рис. 13 и 14'!$U$4:$U$1003,\"=0\")/COUNTIF('Рис. 13 и 14'!$U$4:$U$1003,\"=0\")","v":0.98829787234042554},1.1702127659574457E-2,{"$f":"COUNTIFS('Рис. 13 и 14'!$V$4:$V$1003,\">=\" & B24,'Рис. 13 и 14'!$U$4:$U$1003,\"=1\")/COUNTIF('Рис. 13 и 14'!$U$4:$U$1003,\"=1\")","v":0.45}]
[null,0.48,{"$f":"COUNTIFS('Рис. 13 и 14'!$V$4:$V$1003,\">=\" & B25,'Рис. 13 и 14'!$U$4:$U$1003,\"=1\")/COUNTIF('Рис. 13 и 14'!$V$4:$V$1003,\">=\" & B25)","v":0.77419354838709675},{"$f":"COUNTIFS('Рис. 13 и 14'!$V$4:$V$1003,\"<\" & B25,'Рис. 13 и 14'!$U$4:$U$1003,\"=0\")/COUNTIF('Рис. 13 и 14'!$U$4:$U$1003,\"=0\")","v":0.99255319148936172},7.4468085106382809E-3,{"$f":"COUNTIFS('Рис. 13 и 14'!$V$4:$V$1003,\">=\" & B25,'Рис. 13 и 14'!$U$4:$U$1003,\"=1\")/COUNTIF('Рис. 13 и 14'!$U$4:$U$1003,\"=1\")","v":0.4}]
[null,0.5,{"$f":"COUNTIFS('Рис. 13 и 14'!$V$4:$V$1003,\">=\" & B26,'Рис. 13 и 14'!$U$4:$U$1003,\"=1\")/COUNTIF('Рис. 13 и 14'!$V$4:$V$1003,\">=\" & B26)","v":0.75},{"$f":"COUNTIFS('Рис. 13 и 14'!$V$4:$V$1003,\"<\" & B26,'Рис. 13 и 14'!$U$4:$U$1003,\"=0\")/COUNTIF('Рис. 13 и 14'!$U$4:$U$1003,\"=0\")","v":0.99255319148936172},7.4468085106382809E-3,{"$f":"COUNTIFS('Рис. 13 и 14'!$V$4:$V$1003,\">=\" & B26,'Рис. 13 и 14'!$U$4:$U$1003,\"=1\")/COUNTIF('Рис. 13 и 14'!$U$4:$U$1003,\"=1\")","v":0.35}]
[null,0.52,{"$f":"COUNTIFS('Рис. 13 и 14'!$V$4:$V$1003,\">=\" & B27,'Рис. 13 и 14'!$U$4:$U$1003,\"=1\")/COUNTIF('Рис. 13 и 14'!$V$4:$V$1003,\">=\" & B27)","v":0.80769230769230771},{"$f":"COUNTIFS('Рис. 13 и 14'!$V$4:$V$1003,\"<\" & B27,'Рис. 13 и 14'!$U$4:$U$1003,\"=0\")/COUNTIF('Рис. 13 и 14'!$U$4:$U$1003,\"=0\")","v":0.99468085106382975},5.3191489361702482E-3,{"$f":"COUNTIFS('Рис. 13 и 14'!$V$4:$V$1003,\">=\" & B27,'Рис. 13 и 14'!$U$4:$U$1003,\"=1\")/COUNTIF('Рис. 13 и 14'!$U$4:$U$1003,\"=1\")","v":0.35}]
[null,0.54,{"$f":"COUNTIFS('Рис. 13 и 14'!$V$4:$V$1003,\">=\" & B28,'Рис. 13 и 14'!$U$4:$U$1003,\"=1\")/COUNTIF('Рис. 13 и 14'!$V$4:$V$1003,\">=\" & B28)","v":0.80952380952380953},{"$f":"COUNTIFS('Рис. 13 и 14'!$V$4:$V$1003,\"<\" & B28,'Рис. 13 и 14'!$U$4:$U$1003,\"=0\")/COUNTIF('Рис. 13 и 14'!$U$4:$U$1003,\"=0\")","v":0.99574468085106382},4.2553191489361764E-3,{"$f":"COUNTIFS('Рис. 13 и 14'!$V$4:$V$1003,\">=\" & B28,'Рис. 13 и 14'!$U$4:$U$1003,\"=1\")/COUNTIF('Рис. 13 и 14'!$U$4:$U$1003,\"=1\")","v":0.28333333333333333}]
[null,0.56000000000000005,{"$f":"COUNTIFS('Рис. 13 и 14'!$V$4:$V$1003,\">=\" & B29,'Рис. 13 и 14'!$U$4:$U$1003,\"=1\")/COUNTIF('Рис. 13 и 14'!$V$4:$V$1003,\">=\" & B29)","v":0.94117647058823528},{"$f":"COUNTIFS('Рис. 13 и 14'!$V$4:$V$1003,\"<\" & B29,'Рис. 13 и 14'!$U$4:$U$1003,\"=0\")/COUNTIF('Рис. 13 и 14'!$U$4:$U$1003,\"=0\")","v":0.99893617021276593},1.0638297872340718E-3,{"$f":"COUNTIFS('Рис. 13 и 14'!$V$4:$V$1003,\">=\" & B29,'Рис. 13 и 14'!$U$4:$U$1003,\"=1\")/COUNTIF('Рис. 13 и 14'!$U$4:$U$1003,\"=1\")","v":0.26666666666666666}]
[null,0.57999999999999996,{"$f":"COUNTIFS('Рис. 13 и 14'!$V$4:$V$1003,\">=\" & B30,'Рис. 13 и 14'!$U$4:$U$1003,\"=1\")/COUNTIF('Рис. 13 и 14'!$V$4:$V$1003,\">=\" & B30)","v":0.9375},{"$f":"COUNTIFS('Рис. 13 и 14'!$V$4:$V$1003,\"<\" & B30,'Рис. 13 и 14'!$U$4:$U$1003,\"=0\")/COUNTIF('Рис. 13 и 14'!$U$4:$U$1003,\"=0\")","v":0.99893617021276593},1.0638297872340718E-3,{"$f":"COUNTIFS('Рис. 13 и 14'!$V$4:$V$1003,\">=\" & B30,'Рис. 13 и 14'!$U$4:$U$1003,\"=1\")/COUNTIF('Рис. 13 и 14'!$U$4:$U$1003,\"=1\")","v":0.25}]
[null,0.6,{"$f":"COUNTIFS('Рис. 13 и 14'!$V$4:$V$1003,\">=\" & B31,'Рис. 13 и 14'!$U$4:$U$1003,\"=1\")/COUNTIF('Рис. 13 и 14'!$V$4:$V$1003,\">=\" & B31)","v":1},{"$f":"COUNTIFS('Рис. 13 и 14'!$V$4:$V$1003,\"<\" & B31,'Рис. 13 и 14'!$U$4:$U$1003,\"=0\")/COUNTIF('Рис. 13 и 14'!$U$4:$U$1003,\"=0\")","v":1},0,{"$f":"COUNTIFS('Рис. 13 и 14'!$V$4:$V$1003,\">=\" & B31,'Рис. 13 и 14'!$U$4:$U$1003,\"=1\")/COUNTIF('Рис. 13 и 14'!$U$4:$U$1003,\"=1\")","v":0.23333333333333334}]
[null,0.62,{"$f":"COUNTIFS('Рис. 13 и 14'!$V$4:$V$1003,\">=\" & B32,'Рис. 13 и 14'!$U$4:$U$1003,\"=1\")/COUNTIF('Рис. 13 и 14'!$V$4:$V$1003,\">=\" & B32)","v":1},{"$f":"COUNTIFS('Рис. 13 и 14'!$V$4:$V$1003,\"<\" & B32,'Рис. 13 и 14'!$U$4:$U$1003,\"=0\")/COUNTIF('Рис. 13 и 14'!$U$4:$U$1003,\"=0\")","v":1},0,{"$f":"COUNTIFS('Рис. 13 и 14'!$V$4:$V$1003,\">=\" & B32,'Рис. 13 и 14'!$U$4:$U$1003,\"=1\")/COUNTIF('Рис. 13 и 14'!$U$4:$U$1003,\"=1\")","v":0.13333333333333333}]
[null,0.64,{"$f":"COUNTIFS('Рис. 13 и 14'!$V$4:$V$1003,\">=\" & B33,'Рис. 13 и 14'!$U$4:$U$1003,\"=1\")/COUNTIF('Рис. 13 и 14'!$V$4:$V$1003,\">=\" & B33)","v":1},{"$f":"COUNTIFS('Рис. 13 и 14'!$V$4:$V$1003,\"<\" & B33,'Рис. 13 и 14'!$U$4:$U$1003,\"=0\")/COUNTIF('Рис. 13 и 14'!$U$4:$U$1003,\"=0\")","v":1},0,{"$f":"COUNTIFS('Рис. 13 и 14'!$V$4:$V$1003,\">=\" & B33,'Рис. 13 и 14'!$U$4:$U$1003,\"=1\")/COUNTIF('Рис. 13 и 14'!$U$4:$U$1003,\"=1\")","v":0.13333333333333333}]
[null,0.66,{"$f":"COUNTIFS('Рис. 13 и 14'!$V$4:$V$1003,\">=\" & B34,'Рис. 13 и 14'!$U$4:$U$1003,\"=1\")/COUNTIF('Рис. 13 и 14'!$V$4:$V$1003,\">=\" & B34)","v":1},{"$f":"COUNTIFS('Рис. 13 и 14'!$V$4:$V$1003,\"<\" & B34,'Рис. 13 и 14'!$U$4:$U$1003,\"=0\")/COUNTIF('Рис. 13 и 14'!$U$4:$U$1003,\"=0\")","v":1},0,{"$f":"COUNTIFS('Рис. 13 и 14'!$V$4:$V$1003,\">=\" & B34,'Рис. 13 и 14'!$U$4:$U$1003,\"=1\")/COUNTIF('Рис. 13 и 14'!$U$4:$U$1003,\"=1\")","v":0.13333333333333333}]
[null,0.68,{"$f":"COUNTIFS('Рис. 13 и 14'!$V$4:$V$1003,\">=\" & B35,'Рис. 13 и 14'!$U$4:$U$1003,\"=1\")/COUNTIF('Рис. 13 и 14'!$V$4:$V$1003,\">=\" & B35)","v":1},{"$f":"COUNTIFS('Рис. 13 и 14'!$V$4:$V$1003,\"<\" & B35,'Рис. 13 и 14'!$U$4:$U$1003,\"=0\")/COUNTIF('Рис. 13 и 14'!$U$4:$U$1003,\"=0\")","v":1},0,{"$f":"COUNTIFS('Рис. 13 и 14'!$V$4:$V$1003,\">=\" & B35,'Рис. 13 и 14'!$U$4:$U$1003,\"=1\")/COUNTIF('Рис. 13 и 14'!$U$4:$U$1003,\"=1\")","v":0.11666666666666667}]
[null,0.7,{"$f":"COUNTIFS('Рис. 13 и 14'!$V$4:$V$1003,\">=\" & B36,'Рис. 13 и 14'!$U$4:$U$1003,\"=1\")/COUNTIF('Рис. 13 и 14'!$V$4:$V$1003,\">=\" & B36)","v":1},{"$f":"COUNTIFS('Рис. 13 и 14'!$V$4:$V$1003,\"<\" & B36,'Рис. 13 и 14'!$U$4:$U$1003,\"=0\")/COUNTIF('Рис. 13 и 14'!$U$4:$U$1003,\"=0\")","v":1},0,{"$f":"COUNTIFS('Рис. 13 и 14'!$V$4:$V$1003,\">=\" & B36,'Рис. 13 и 14'!$U$4:$U$1003,\"=1\")/COUNTIF('Рис. 13 и 14'!$U$4:$U$1003,\"=1\")","v":0.05}]
[null,0.72,{"$f":"COUNTIFS('Рис. 13 и 14'!$V$4:$V$1003,\">=\" & B37,'Рис. 13 и 14'!$U$4:$U$1003,\"=1\")/COUNTIF('Рис. 13 и 14'!$V$4:$V$1003,\">=\" & B37)","v":1},{"$f":"COUNTIFS('Рис. 13 и 14'!$V$4:$V$1003,\"<\" & B37,'Рис. 13 и 14'!$U$4:$U$1003,\"=0\")/COUNTIF('Рис. 13 и 14'!$U$4:$U$1003,\"=0\")","v":1},0,{"$f":"COUNTIFS('Рис. 13 и 14'!$V$4:$V$1003,\">=\" & B37,'Рис. 13 и 14'!$U$4:$U$1003,\"=1\")/COUNTIF('Рис. 13 и 14'!$U$4:$U$1003,\"=1\")","v":3.3333333333333333E-2}]
[null,0.74,{"$f":"COUNTIFS('Рис. 13 и 14'!$V$4:$V$1003,\">=\" & B38,'Рис. 13 и 14'!$U$4:$U$1003,\"=1\")/COUNTIF('Рис. 13 и 14'!$V$4:$V$1003,\">=\" & B38)","v":1},{"$f":"COUNTIFS('Рис. 13 и 14'!$V$4:$V$1003,\"<\" & B38,'Рис. 13 и 14'!$U$4:$U$1003,\"=0\")/COUNTIF('Рис. 13 и 14'!$U$4:$U$1003,\"=0\")","v":1},0,{"$f":"COUNTIFS('Рис. 13 и 14'!$V$4:$V$1003,\">=\" & B38,'Рис. 13 и 14'!$U$4:$U$1003,\"=1\")/COUNTIF('Рис. 13 и 14'!$U$4:$U$1003,\"=1\")","v":3.3333333333333333E-2}]